Workbook
Name __xlnm.Print_Area: '3D'!$A$1:$BJ$69
Name __xlnm.Print_Area_1: Beursault!$A$1:$AM$55
Name __xlnm.Print_Area_2: #REF!
Name __xlnm.Print_Area_3: Field!$B$1:$AO$59
Name __xlnm.Print_Area_4: EXTERIEUR!$A$1:$AM$70
Name __xlnm.Print_Area_5: Palmarés!$A$1:$I$82
Name __xlnm.Print_Area_6: RecordsF!$A$1:$M$26
Name __xlnm.Print_Area_7: RecordsH!$A$1:$P$30
Name __xlnm.Print_Area_8: Salle!$A$1:$BC$89
Name __xlnm.Print_Titles: #N/A

Sheet Salle
AO4: Nb | AP4: Moy | AQ4: Podiums | AU4: Ecussons FFTA
AP5: /3 | AQ5: Or | AR5: Ag | AS5: Br | AT5: Tt | AU5: 455 | AV5: 480 | AW5: 500 | AX5: 515 | AY5: 530 | AZ5: 545 | BA5: 555 | BB5: 565 | BC5: 575
C7: Benjamin Dames U13
AO8: =COUNT(D8:AM8) -> 0 | AP8: =IF(AO8<3," ",(LARGE(D8:AM8,1)+LARGE(D8:AM8,2)+LARGE(D8:AM8,3))/3) | AQ8: =IF(COUNTIF(D8:AM8,"(1)")=0," ",COUNTIF(D8:AM8,"(1)")) | AR8: =IF(COUNTIF(D8:AM8,"(2)")=0," ",COUNTIF(D8:AM8,"(2)")) | AS8: =IF(COUNTIF(D8:AM8,"(3)")=0," ",COUNTIF(D8:AM8,"(3)")) | AT8: =IF(SUM(AQ8:AS8)=0," ",SUM(AQ8:AS8)) | AU8: =IF(AO8=0,Var!$B$8,IF(LARGE(D8:AM8,1)>=455,Var!$B$4," ")) -> --- | AV8: =IF(AO8=0,Var!$B$8,IF(LARGE(D8:AM8,1)>=480,Var!$B$4," ")) -> --- | AW8: =IF(AO8=0,Var!$B$8,IF(LARGE(D8:AM8,1)>=500,Var!$B$4," ")) -> --- | AX8: =IF(AO8=0,Var!$B$8,IF(LARGE(D8:AM8,1)>=515,Var!$B$4," ")) -> --- | AY8: =IF(AO8=0,Var!$B$8,IF(LARGE(D8:AM8,1)>=530,Var!$B$4," ")) -> --- | AZ8: =IF(AO8=0,Var!$B$8,IF(LARGE(D8:AM8,1)>=545,Var!$B$4," ")) -> --- | BA8: =IF(AO8=0,Var!$B$8,IF(LARGE(D8:AM8,1)>=555,Var!$B$4," ")) -> --- | BB8: =IF(AO8=0,Var!$B$8,IF(LARGE(D8:AM8,1)>=565,Var!$B$4," ")) -> --- | BC8: =IF(AO8=0,Var!$B$8,IF(LARGE(D8:AM8,1)>=575,Var!$B$4," ")) -> ---
AO9: =COUNT(D9:AM9) -> 0 | AP9: =IF(AO9<3," ",(LARGE(D9:AM9,1)+LARGE(D9:AM9,2)+LARGE(D9:AM9,3))/3) | AQ9: =IF(COUNTIF(D9:AM9,"(1)")=0," ",COUNTIF(D9:AM9,"(1)")) | AR9: =IF(COUNTIF(D9:AM9,"(2)")=0," ",COUNTIF(D9:AM9,"(2)")) | AS9: =IF(COUNTIF(D9:AM9,"(3)")=0," ",COUNTIF(D9:AM9,"(3)")) | AT9: =IF(SUM(AQ9:AS9)=0," ",SUM(AQ9:AS9)) | AU9: =IF(AO9=0,Var!$B$8,IF(LARGE(D9:AM9,1)>=455,Var!$B$4," ")) -> --- | AV9: =IF(AO9=0,Var!$B$8,IF(LARGE(D9:AM9,1)>=480,Var!$B$4," ")) -> --- | AW9: =IF(AO9=0,Var!$B$8,IF(LARGE(D9:AM9,1)>=500,Var!$B$4," ")) -> --- | AX9: =IF(AO9=0,Var!$B$8,IF(LARGE(D9:AM9,1)>=515,Var!$B$4," ")) -> --- | AY9: =IF(AO9=0,Var!$B$8,IF(LARGE(D9:AM9,1)>=530,Var!$B$4," ")) -> --- | AZ9: =IF(AO9=0,Var!$B$8,IF(LARGE(D9:AM9,1)>=545,Var!$B$4," ")) -> --- | BA9: =IF(AO9=0,Var!$B$8,IF(LARGE(D9:AM9,1)>=555,Var!$B$4," ")) -> --- | BB9: =IF(AO9=0,Var!$B$8,IF(LARGE(D9:AM9,1)>=565,Var!$B$4," ")) -> --- | BC9: =IF(AO9=0,Var!$B$8,IF(LARGE(D9:AM9,1)>=575,Var!$B$4," ")) -> ---
C10: Benjamin Homme U13 | AQ10: =IF(COUNTIF(D10:AM10,"(1)")=0," ",COUNTIF(D10:AM10,"(1)")) | AR10: =IF(COUNTIF(D10:AM10,"(2)")=0," ",COUNTIF(D10:AM10,"(2)")) | AS10: =IF(COUNTIF(D10:AM10,"(3)")=0," ",COUNTIF(D10:AM10,"(3)"))
B11: 1 | C11: RAYMOND Marius | AO11: =COUNT(D11:AM11) -> 0 | AP11: =IF(AO11<3," ",(LARGE(D11:AM11,1)+LARGE(D11:AM11,2)+LARGE(D11:AM11,3))/3) | AQ11: =IF(COUNTIF(D11:AM11,"(1)")=0," ",COUNTIF(D11:AM11,"(1)")) | AR11: =IF(COUNTIF(D11:AM11,"(2)")=0," ",COUNTIF(D11:AM11,"(2)")) | AS11: =IF(COUNTIF(D11:AM11,"(3)")=0," ",COUNTIF(D11:AM11,"(3)")) | AT11: =IF(SUM(AQ11:AS11)=0," ",SUM(AQ11:AS11)) | AU11: =IF(AO11=0,Var!$B$8,IF(LARGE(D11:AM11,1)>=455,Var!$B$4," ")) -> --- | AV11: =IF(AO11=0,Var!$B$8,IF(LARGE(D11:AM11,1)>=480,Var!$B$4," ")) -> --- | AW11: =IF(AO11=0,Var!$B$8,IF(LARGE(D11:AM11,1)>=500,Var!$B$4," ")) -> --- | AX11: =IF(AO11=0,Var!$B$8,IF(LARGE(D11:AM11,1)>=515,Var!$B$4," ")) -> --- | AY11: =IF(AO11=0,Var!$B$8,IF(LARGE(D11:AM11,1)>=530,Var!$B$4," ")) -> --- | AZ11: =IF(AO11=0,Var!$B$8,IF(LARGE(D11:AM11,1)>=545,Var!$B$4," ")) -> --- | BA11: =IF(AO11=0,Var!$B$8,IF(LARGE(D11:AM11,1)>=555,Var!$B$4," ")) -> --- | BB11: =IF(AO11=0,Var!$B$8,IF(LARGE(D11:AM11,1)>=565,Var!$B$4," ")) -> --- | BC11: =IF(AO11=0,Var!$B$8,IF(LARGE(D11:AM11,1)>=575,Var!$B$4," ")) -> ---
C12: Minime Femme U15 | AQ12: =IF(COUNTIF(D12:AM12,"(1)")=0," ",COUNTIF(D12:AM12,"(1)")) | AR12: =IF(COUNTIF(D12:AM12,"(2)")=0," ",COUNTIF(D12:AM12,"(2)")) | AS12: =IF(COUNTIF(D12:AM12,"(3)")=0," ",COUNTIF(D12:AM12,"(3)"))
AO13: =COUNT(D13:AM13) -> 0 | AP13: =IF(AO13<3," ",(LARGE(D13:AM13,1)+LARGE(D13:AM13,2)+LARGE(D13:AM13,3))/3) | AQ13: =IF(COUNTIF(D13:AM13,"(1)")=0," ",COUNTIF(D13:AM13,"(1)")) | AR13: =IF(COUNTIF(D13:AM13,"(2)")=0," ",COUNTIF(D13:AM13,"(2)")) | AS13: =IF(COUNTIF(D13:AM13,"(3)")=0," ",COUNTIF(D13:AM13,"(3)")) | AT13: =IF(SUM(AQ13:AS13)=0," ",SUM(AQ13:AS13)) | AU13: =IF(AO13=0,Var!$B$8,IF(LARGE(D13:AM13,1)>=455,Var!$B$4," ")) -> --- | AV13: =IF(AO13=0,Var!$B$8,IF(LARGE(D13:AM13,1)>=480,Var!$B$4," ")) -> --- | AW13: =IF(AO13=0,Var!$B$8,IF(LARGE(D13:AM13,1)>=500,Var!$B$4," ")) -> --- | AX13: =IF(AO13=0,Var!$B$8,IF(LARGE(D13:AM13,1)>=515,Var!$B$4," ")) -> --- | AY13: =IF(AO13=0,Var!$B$8,IF(LARGE(D13:AM13,1)>=530,Var!$B$4," ")) -> --- | AZ13: =IF(AO13=0,Var!$B$8,IF(LARGE(D13:AM13,1)>=545,Var!$B$4," ")) -> --- | BA13: =IF(AO13=0,Var!$B$8,IF(LARGE(D13:AM13,1)>=555,Var!$B$4," ")) -> --- | BB13: =IF(AO13=0,Var!$B$8,IF(LARGE(D13:AM13,1)>=565,Var!$B$4," ")) -> --- | BC13: =IF(AO13=0,Var!$B$8,IF(LARGE(D13:AM13,1)>=575,Var!$B$4," ")) -> ---
C14: Minime Homme U15 | AP14: =IF(AO14<3," ",(LARGE(D14:AM14,1)+LARGE(D14:AM14,2)+LARGE(D14:AM14,3))/3) | AQ14: =IF(COUNTIF(D14:AM14,"(1)")=0," ",COUNTIF(D14:AM14,"(1)")) | AR14: =IF(COUNTIF(D14:AM14,"(2)")=0," ",COUNTIF(D14:AM14,"(2)")) | AS14: =IF(COUNTIF(D14:AM14,"(3)")=0," ",COUNTIF(D14:AM14,"(3)"))
B15: 1 | C15: FROTTE Maxime | AN15: =IF(AM15<3," ",(LARGE(C15:AK15,1)+LARGE(C15:AK15,2)+LARGE(C15:AK15,3))/3) | AO15: =COUNT(D15:AM15) -> 0 | AP15: =IF(AO15<3," ",(LARGE(D15:AM15,1)+LARGE(D15:AM15,2)+LARGE(D15:AM15,3))/3) | AQ15: =IF(COUNTIF(D15:AM15,"(1)")=0," ",COUNTIF(D15:AM15,"(1)")) | AR15: =IF(COUNTIF(D15:AM15,"(2)")=0," ",COUNTIF(D15:AM15,"(2)")) | AS15: =IF(COUNTIF(D15:AM15,"(3)")=0," ",COUNTIF(D15:AM15,"(3)")) | AT15: =IF(SUM(AQ15:AS15)=0," ",SUM(AQ15:AS15)) | AU15: 26 | AV15: 26 | AW15: =IF(AO15=0,Var!$B$8,IF(LARGE(D15:AM15,1)>=500,Var!$B$4," ")) -> --- | AX15: =IF(AO15=0,Var!$B$8,IF(LARGE(D15:AM15,1)>=515,Var!$B$4," ")) -> --- | AY15: =IF(AO15=0,Var!$B$8,IF(LARGE(D15:AM15,1)>=530,Var!$B$4," ")) -> --- | AZ15: =IF(AO15=0,Var!$B$8,IF(LARGE(D15:AM15,1)>=545,Var!$B$4," ")) -> --- | BA15: =IF(AO15=0,Var!$B$8,IF(LARGE(D15:AM15,1)>=555,Var!$B$4," ")) -> --- | BB15: =IF(AO15=0,Var!$B$8,IF(LARGE(D15:AM15,1)>=565,Var!$B$4," ")) -> --- | BC15: =IF(AO15=0,Var!$B$8,IF(LARGE(D15:AM15,1)>=575,Var!$B$4," ")) -> ---
AO16: =COUNT(D16:AM16) -> 0 | AP16: =IF(AO16<3," ",(LARGE(D16:AM16,1)+LARGE(D16:AM16,2)+LARGE(D16:AM16,3))/3) | AQ16: =IF(COUNTIF(D16:AM16,"(1)")=0," ",COUNTIF(D16:AM16,"(1)")) | AR16: =IF(COUNTIF(D16:AM16,"(2)")=0," ",COUNTIF(D16:AM16,"(2)")) | AS16: =IF(COUNTIF(D16:AM16,"(3)")=0," ",COUNTIF(D16:AM16,"(3)")) | AT16: =IF(SUM(AQ16:AS16)=0," ",SUM(AQ16:AS16)) | AU16: =IF(AO16=0,Var!$B$8,IF(LARGE(D16:AM16,1)>=455,Var!$B$4," ")) -> --- | AV16: =IF(AO16=0,Var!$B$8,IF(LARGE(D16:AM16,1)>=480,Var!$B$4," ")) -> --- | AW16: =IF(AO16=0,Var!$B$8,IF(LARGE(D16:AM16,1)>=500,Var!$B$4," ")) -> --- | AX16: =IF(AO16=0,Var!$B$8,IF(LARGE(D16:AM16,1)>=515,Var!$B$4," ")) -> --- | AY16: =IF(AO16=0,Var!$B$8,IF(LARGE(D16:AM16,1)>=530,Var!$B$4," ")) -> --- | AZ16: =IF(AO16=0,Var!$B$8,IF(LARGE(D16:AM16,1)>=545,Var!$B$4," ")) -> --- | BA16: =IF(AO16=0,Var!$B$8,IF(LARGE(D16:AM16,1)>=555,Var!$B$4," ")) -> --- | BB16: =IF(AO16=0,Var!$B$8,IF(LARGE(D16:AM16,1)>=565,Var!$B$4," ")) -> --- | BC16: =IF(AO16=0,Var!$B$8,IF(LARGE(D16:AM16,1)>=575,Var!$B$4," ")) -> ---
C17: Compound Cadet Homme | AP17: =IF(AO17<3," ",(LARGE(D17:AM17,1)+LARGE(D17:AM17,2)+LARGE(D17:AM17,3))/3) | AQ17: =IF(COUNTIF(D17:AM17,"(1)")=0," ",COUNTIF(D17:AM17,"(1)")) | AR17: =IF(COUNTIF(D17:AM17,"(2)")=0," ",COUNTIF(D17:AM17,"(2)")) | AS17: =IF(COUNTIF(D17:AM17,"(3)")=0," ",COUNTIF(D17:AM17,"(3)"))
AO18: =COUNT(D18:AM18) -> 0 | AP18: =IF(AO18<3," ",(LARGE(D18:AM18,1)+LARGE(D18:AM18,2)+LARGE(D18:AM18,3))/3) | AQ18: =IF(COUNTIF(D18:AM18,"(1)")=0," ",COUNTIF(D18:AM18,"(1)")) | AR18: =IF(COUNTIF(D18:AM18,"(2)")=0," ",COUNTIF(D18:AM18,"(2)")) | AS18: =IF(COUNTIF(D18:AM18,"(3)")=0," ",COUNTIF(D18:AM18,"(3)")) | AT18: =IF(SUM(AQ18:AS18)=0," ",SUM(AQ18:AS18)) | AU18: =IF(AO18=0,Var!$B$8,IF(LARGE(D18:AM18,1)>=455,Var!$B$4," ")) -> --- | AV18: =IF(AO18=0,Var!$B$8,IF(LARGE(D18:AM18,1)>=480,Var!$B$4," ")) -> --- | AW18: =IF(AO18=0,Var!$B$8,IF(LARGE(D18:AM18,1)>=500,Var!$B$4," ")) -> --- | AX18: =IF(AO18=0,Var!$B$8,IF(LARGE(D18:AM18,1)>=515,Var!$B$4," ")) -> --- | AY18: =IF(AO18=0,Var!$B$8,IF(LARGE(D18:AM18,1)>=530,Var!$B$4," ")) -> --- | AZ18: =IF(AO18=0,Var!$B$8,IF(LARGE(D18:AM18,1)>=545,Var!$B$4," ")) -> --- | BA18: =IF(AO18=0,Var!$B$8,IF(LARGE(D18:AM18,1)>=555,Var!$B$4," ")) -> --- | BB18: =IF(AO18=0,Var!$B$8,IF(LARGE(D18:AM18,1)>=565,Var!$B$4," ")) -> --- | BC18: =IF(AO18=0,Var!$B$8,IF(LARGE(D18:AM18,1)>=575,Var!$B$4," ")) -> ---
C19: Cadette Femme U18 | AP19: =IF(AO19<3," ",(LARGE(D19:AM19,1)+LARGE(D19:AM19,2)+LARGE(D19:AM19,3))/3) | AQ19: =IF(COUNTIF(D19:AM19,"(1)")=0," ",COUNTIF(D19:AM19,"(1)")) | AR19: =IF(COUNTIF(D19:AM19,"(2)")=0," ",COUNTIF(D19:AM19,"(2)")) | AS19: =IF(COUNTIF(D19:AM19,"(3)")=0," ",COUNTIF(D19:AM19,"(3)"))
B20: 1 | C20: ZIEGELMEYER Katell | AO20: =COUNT(D20:AM20) -> 0 | AP20: =IF(AO20<3," ",(LARGE(D20:AM20,1)+LARGE(D20:AM20,2)+LARGE(D20:AM20,3))/3) | AQ20: =IF(COUNTIF(D20:AM20,"(1)")=0," ",COUNTIF(D20:AM20,"(1)")) | AR20: =IF(COUNTIF(D20:AM20,"(2)")=0," ",COUNTIF(D20:AM20,"(2)")) | AS20: =IF(COUNTIF(D20:AM20,"(3)")=0," ",COUNTIF(D20:AM20,"(3)")) | AT20: =IF(SUM(AQ20:AS20)=0," ",SUM(AQ20:AS20)) | AU20: =IF(AO20=0,Var!$B$8,IF(LARGE(D20:AM20,1)>=455,Var!$B$4," ")) -> --- | AV20: =IF(AO20=0,Var!$B$8,IF(LARGE(D20:AM20,1)>=480,Var!$B$4," ")) -> --- | AW20: =IF(AO20=0,Var!$B$8,IF(LARGE(D20:AM20,1)>=500,Var!$B$4," ")) -> --- | AX20: =IF(AO20=0,Var!$B$8,IF(LARGE(D20:AM20,1)>=515,Var!$B$4," ")) -> --- | AY20: =IF(AO20=0,Var!$B$8,IF(LARGE(D20:AM20,1)>=530,Var!$B$4," ")) -> --- | AZ20: =IF(AO20=0,Var!$B$8,IF(LARGE(D20:AM20,1)>=545,Var!$B$4," ")) -> --- | BA20: =IF(AO20=0,Var!$B$8,IF(LARGE(D20:AM20,1)>=555,Var!$B$4," ")) -> --- | BB20: =IF(AO20=0,Var!$B$8,IF(LARGE(D20:AM20,1)>=565,Var!$B$4," ")) -> --- | BC20: =IF(AO20=0,Var!$B$8,IF(LARGE(D20:AM20,1)>=575,Var!$B$4," ")) -> ---
AO21: =COUNT(D21:AM21) -> 0 | AP21: =IF(AO21<3," ",(LARGE(D21:AM21,1)+LARGE(D21:AM21,2)+LARGE(D21:AM21,3))/3) | AQ21: =IF(COUNTIF(D21:AM21,"(1)")=0," ",COUNTIF(D21:AM21,"(1)")) | AR21: =IF(COUNTIF(D21:AM21,"(2)")=0," ",COUNTIF(D21:AM21,"(2)")) | AS21: =IF(COUNTIF(D21:AM21,"(3)")=0," ",COUNTIF(D21:AM21,"(3)")) | AT21: =IF(SUM(AQ21:AS21)=0," ",SUM(AQ21:AS21)) | AU21: =IF(AO21=0,Var!$B$8,IF(LARGE(D21:AM21,1)>=455,Var!$B$4," ")) -> --- | AV21: =IF(AO21=0,Var!$B$8,IF(LARGE(D21:AM21,1)>=480,Var!$B$4," ")) -> --- | AW21: =IF(AO21=0,Var!$B$8,IF(LARGE(D21:AM21,1)>=500,Var!$B$4," ")) -> --- | AX21: =IF(AO21=0,Var!$B$8,IF(LARGE(D21:AM21,1)>=515,Var!$B$4," ")) -> --- | AY21: =IF(AO21=0,Var!$B$8,IF(LARGE(D21:AM21,1)>=530,Var!$B$4," ")) -> --- | AZ21: =IF(AO21=0,Var!$B$8,IF(LARGE(D21:AM21,1)>=545,Var!$B$4," ")) -> --- | BA21: =IF(AO21=0,Var!$B$8,IF(LARGE(D21:AM21,1)>=555,Var!$B$4," ")) -> --- | BB21: =IF(AO21=0,Var!$B$8,IF(LARGE(D21:AM21,1)>=565,Var!$B$4," ")) -> --- | BC21: =IF(AO21=0,Var!$B$8,IF(LARGE(D21:AM21,1)>=575,Var!$B$4," ")) -> ---
C22: Cadet Homme U18 | AP22: =IF(AO22<3," ",(LARGE(D22:AM22,1)+LARGE(D22:AM22,2)+LARGE(D22:AM22,3))/3) | AQ22: =IF(COUNTIF(D22:AM22,"(1)")=0," ",COUNTIF(D22:AM22,"(1)")) | AR22: =IF(COUNTIF(D22:AM22,"(2)")=0," ",COUNTIF(D22:AM22,"(2)")) | AS22: =IF(COUNTIF(D22:AM22,"(3)")=0," ",COUNTIF(D22:AM22,"(3)"))
AO23: =COUNT(D23:AM23) -> 0 | AP23: =IF(AO23<3," ",(LARGE(D23:AM23,1)+LARGE(D23:AM23,2)+LARGE(D23:AM23,3))/3) | AQ23: =IF(COUNTIF(D23:AM23,"(1)")=0," ",COUNTIF(D23:AM23,"(1)")) | AR23: =IF(COUNTIF(D23:AM23,"(2)")=0," ",COUNTIF(D23:AM23,"(2)")) | AS23: =IF(COUNTIF(D23:AM23,"(3)")=0," ",COUNTIF(D23:AM23,"(3)")) | AT23: =IF(SUM(AQ23:AS23)=0," ",SUM(AQ23:AS23)) | AU23: =IF(AO23=0,Var!$B$8,IF(LARGE(D23:AM23,1)>=455,Var!$B$4," ")) -> --- | AV23: =IF(AO23=0,Var!$B$8,IF(LARGE(D23:AM23,1)>=480,Var!$B$4," ")) -> --- | AW23: =IF(AO23=0,Var!$B$8,IF(LARGE(D23:AM23,1)>=500,Var!$B$4," ")) -> --- | AX23: =IF(AO23=0,Var!$B$8,IF(LARGE(D23:AM23,1)>=515,Var!$B$4," ")) -> --- | AY23: =IF(AO23=0,Var!$B$8,IF(LARGE(D23:AM23,1)>=530,Var!$B$4," ")) -> --- | AZ23: =IF(AO23=0,Var!$B$8,IF(LARGE(D23:AM23,1)>=545,Var!$B$4," ")) -> --- | BA23: =IF(AO23=0,Var!$B$8,IF(LARGE(D23:AM23,1)>=555,Var!$B$4," ")) -> --- | BB23: =IF(AO23=0,Var!$B$8,IF(LARGE(D23:AM23,1)>=565,Var!$B$4," ")) -> --- | BC23: =IF(AO23=0,Var!$B$8,IF(LARGE(D23:AM23,1)>=575,Var!$B$4," ")) -> ---
AO24: =COUNT(D24:AM24) -> 0 | AP24: =IF(AO24<3," ",(LARGE(D24:AM24,1)+LARGE(D24:AM24,2)+LARGE(D24:AM24,3))/3) | AQ24: =IF(COUNTIF(D24:AM24,"(1)")=0," ",COUNTIF(D24:AM24,"(1)")) | AR24: =IF(COUNTIF(D24:AM24,"(2)")=0," ",COUNTIF(D24:AM24,"(2)")) | AS24: =IF(COUNTIF(D24:AM24,"(3)")=0," ",COUNTIF(D24:AM24,"(3)")) | AT24: =IF(SUM(AQ24:AS24)=0," ",SUM(AQ24:AS24)) | AU24: =IF(AO24=0,Var!$B$8,IF(LARGE(D24:AM24,1)>=455,Var!$B$4," ")) -> --- | AV24: =IF(AO24=0,Var!$B$8,IF(LARGE(D24:AM24,1)>=480,Var!$B$4," ")) -> --- | AW24: =IF(AO24=0,Var!$B$8,IF(LARGE(D24:AM24,1)>=500,Var!$B$4," ")) -> --- | AX24: =IF(AO24=0,Var!$B$8,IF(LARGE(D24:AM24,1)>=515,Var!$B$4," ")) -> --- | AY24: =IF(AO24=0,Var!$B$8,IF(LARGE(D24:AM24,1)>=530,Var!$B$4," ")) -> --- | AZ24: =IF(AO24=0,Var!$B$8,IF(LARGE(D24:AM24,1)>=545,Var!$B$4," ")) -> --- | BA24: =IF(AO24=0,Var!$B$8,IF(LARGE(D24:AM24,1)>=555,Var!$B$4," ")) -> --- | BB24: =IF(AO24=0,Var!$B$8,IF(LARGE(D24:AM24,1)>=565,Var!$B$4," ")) -> --- | BC24: =IF(AO24=0,Var!$B$8,IF(LARGE(D24:AM24,1)>=575,Var!$B$4," ")) -> ---
C25: Junior Femme U21 | AP25: =IF(AO25<3," ",(LARGE(D25:AM25,1)+LARGE(D25:AM25,2)+LARGE(D25:AM25,3))/3) | AQ25: =IF(COUNTIF(D25:AM25,"(1)")=0," ",COUNTIF(D25:AM25,"(1)")) | AR25: =IF(COUNTIF(D25:AM25,"(2)")=0," ",COUNTIF(D25:AM25,"(2)")) | AS25: =IF(COUNTIF(D25:AM25,"(3)")=0," ",COUNTIF(D25:AM25,"(3)"))
AO26: =COUNT(D26:AM26) -> 0 | AP26: =IF(AO26<3," ",(LARGE(D26:AM26,1)+LARGE(D26:AM26,2)+LARGE(D26:AM26,3))/3) | AQ26: =IF(COUNTIF(D26:AM26,"(1)")=0," ",COUNTIF(D26:AM26,"(1)")) | AR26: =IF(COUNTIF(D26:AM26,"(2)")=0," ",COUNTIF(D26:AM26,"(2)")) | AS26: =IF(COUNTIF(D26:AM26,"(3)")=0," ",COUNTIF(D26:AM26,"(3)")) | AT26: =IF(SUM(AQ26:AS26)=0," ",SUM(AQ26:AS26)) | AU26: =IF(AO26=0,Var!$B$8,IF(LARGE(D26:AM26,1)>=455,Var!$B$4," ")) -> --- | AV26: =IF(AO26=0,Var!$B$8,IF(LARGE(D26:AM26,1)>=480,Var!$B$4," ")) -> --- | AW26: =IF(AO26=0,Var!$B$8,IF(LARGE(D26:AM26,1)>=500,Var!$B$4," ")) -> --- | AX26: =IF(AO26=0,Var!$B$8,IF(LARGE(D26:AM26,1)>=515,Var!$B$4," ")) -> --- | AY26: =IF(AO26=0,Var!$B$8,IF(LARGE(D26:AM26,1)>=530,Var!$B$4," ")) -> --- | AZ26: =IF(AO26=0,Var!$B$8,IF(LARGE(D26:AM26,1)>=545,Var!$B$4," ")) -> --- | BA26: =IF(AO26=0,Var!$B$8,IF(LARGE(D26:AM26,1)>=555,Var!$B$4," ")) -> --- | BB26: =IF(AO26=0,Var!$B$8,IF(LARGE(D26:AM26,1)>=565,Var!$B$4," ")) -> --- | BC26: =IF(AO26=0,Var!$B$8,IF(LARGE(D26:AM26,1)>=575,Var!$B$4," ")) -> ---
AO27: =COUNT(D27:AM27) -> 0 | AP27: =IF(AO27<3," ",(LARGE(D27:AM27,1)+LARGE(D27:AM27,2)+LARGE(D27:AM27,3))/3) | AQ27: =IF(COUNTIF(D27:AM27,"(1)")=0," ",COUNTIF(D27:AM27,"(1)")) | AR27: =IF(COUNTIF(D27:AM27,"(2)")=0," ",COUNTIF(D27:AM27,"(2)")) | AS27: =IF(COUNTIF(D27:AM27,"(3)")=0," ",COUNTIF(D27:AM27,"(3)")) | AT27: =IF(SUM(AQ27:AS27)=0," ",SUM(AQ27:AS27)) | AU27: =IF(AO27=0,Var!$B$8,IF(LARGE(D27:AM27,1)>=455,Var!$B$4," ")) -> --- | AV27: =IF(AO27=0,Var!$B$8,IF(LARGE(D27:AM27,1)>=480,Var!$B$4," ")) -> --- | AW27: =IF(AO27=0,Var!$B$8,IF(LARGE(D27:AM27,1)>=500,Var!$B$4," ")) -> --- | AX27: =IF(AO27=0,Var!$B$8,IF(LARGE(D27:AM27,1)>=515,Var!$B$4," ")) -> --- | AY27: =IF(AO27=0,Var!$B$8,IF(LARGE(D27:AM27,1)>=530,Var!$B$4," ")) -> --- | AZ27: =IF(AO27=0,Var!$B$8,IF(LARGE(D27:AM27,1)>=545,Var!$B$4," ")) -> --- | BA27: =IF(AO27=0,Var!$B$8,IF(LARGE(D27:AM27,1)>=555,Var!$B$4," ")) -> --- | BB27: =IF(AO27=0,Var!$B$8,IF(LARGE(D27:AM27,1)>=565,Var!$B$4," ")) -> --- | BC27: =IF(AO27=0,Var!$B$8,IF(LARGE(D27:AM27,1)>=575,Var!$B$4," ")) -> ---
C28: Junior Homme U21 | AP28: =IF(AO28<3," ",(LARGE(D28:AM28,1)+LARGE(D28:AM28,2)+LARGE(D28:AM28,3))/3) | AQ28: =IF(COUNTIF(D28:AM28,"(1)")=0," ",COUNTIF(D28:AM28,"(1)")) | AR28: =IF(COUNTIF(D28:AM28,"(2)")=0," ",COUNTIF(D28:AM28,"(2)")) | AS28: =IF(COUNTIF(D28:AM28,"(3)")=0," ",COUNTIF(D28:AM28,"(3)"))
AO29: =COUNT(D29:AM29) -> 0 | AP29: =IF(AO29<3," ",(LARGE(D29:AM29,1)+LARGE(D29:AM29,2)+LARGE(D29:AM29,3))/3) | AQ29: =IF(COUNTIF(D29:AM29,"(1)")=0," ",COUNTIF(D29:AM29,"(1)")) | AR29: =IF(COUNTIF(D29:AM29,"(2)")=0," ",COUNTIF(D29:AM29,"(2)")) | AS29: =IF(COUNTIF(D29:AM29,"(3)")=0," ",COUNTIF(D29:AM29,"(3)")) | AT29: =IF(SUM(AQ29:AS29)=0," ",SUM(AQ29:AS29)) | AU29: =IF(AO29=0,Var!$B$8,IF(LARGE(D29:AM29,1)>=455,Var!$B$4," ")) -> --- | AV29: =IF(AO29=0,Var!$B$8,IF(LARGE(D29:AM29,1)>=480,Var!$B$4," ")) -> --- | AW29: =IF(AO29=0,Var!$B$8,IF(LARGE(D29:AM29,1)>=500,Var!$B$4," ")) -> --- | AX29: =IF(AO29=0,Var!$B$8,IF(LARGE(D29:AM29,1)>=515,Var!$B$4," ")) -> --- | AY29: =IF(AO29=0,Var!$B$8,IF(LARGE(D29:AM29,1)>=530,Var!$B$4," ")) -> --- | AZ29: =IF(AO29=0,Var!$B$8,IF(LARGE(D29:AM29,1)>=545,Var!$B$4," ")) -> --- | BA29: =IF(AO29=0,Var!$B$8,IF(LARGE(D29:AM29,1)>=555,Var!$B$4," ")) -> --- | BB29: =IF(AO29=0,Var!$B$8,IF(LARGE(D29:AM29,1)>=565,Var!$B$4," ")) -> --- | BC29: =IF(AO29=0,Var!$B$8,IF(LARGE(D29:AM29,1)>=575,Var!$B$4," ")) -> ---
C30: Senior 1 Femme CL | AP30: =IF(AO30<3," ",(LARGE(D30:AM30,1)+LARGE(D30:AM30,2)+LARGE(D30:AM30,3))/3) | AQ30: =IF(COUNTIF(D30:AM30,"(1)")=0," ",COUNTIF(D30:AM30,"(1)")) | AR30: =IF(COUNTIF(D30:AM30,"(2)")=0," ",COUNTIF(D30:AM30,"(2)")) | AS30: =IF(COUNTIF(D30:AM30,"(3)")=0," ",COUNTIF(D30:AM30,"(3)"))
B31: 1 | C31: DAVY Charlène | AO31: =COUNT(D31:AM31) -> 0 | AQ31: =IF(COUNTIF(D31:AM31,"(1)")=0," ",COUNTIF(D31:AM31,"(1)")) | AR31: =IF(COUNTIF(D31:AM31,"(2)")=0," ",COUNTIF(D31:AM31,"(2)")) | AS31: =IF(COUNTIF(D31:AM31,"(3)")=0," ",COUNTIF(D31:AM31,"(3)")) | AT31: =IF(SUM(AQ31:AS31)=0," ",SUM(AQ31:AS31)) | AU31: 24 | AV31: 25 | AW31: =IF(AO31=0,Var!$B$8,IF(LARGE(D31:AM31,1)>=500,Var!$B$4," ")) -> --- | AX31: =IF(AO31=0,Var!$B$8,IF(LARGE(D31:AM31,1)>=515,Var!$B$4," ")) -> --- | AY31: =IF(AO31=0,Var!$B$8,IF(LARGE(D31:AM31,1)>=530,Var!$B$4," ")) -> --- | AZ31: =IF(AO31=0,Var!$B$8,IF(LARGE(D31:AM31,1)>=545,Var!$B$4," ")) -> --- | BA31: =IF(AO31=0,Var!$B$8,IF(LARGE(D31:AM31,1)>=555,Var!$B$4," ")) -> --- | BB31: =IF(AO31=0,Var!$B$8,IF(LARGE(D31:AM31,1)>=565,Var!$B$4," ")) -> --- | BC31: =IF(AO31=0,Var!$B$8,IF(LARGE(D31:AM31,1)>=575,Var!$B$4," ")) -> ---
B34: 1 | C34: LOGANATHAN Kirthiya | AO34: =COUNT(D34:AM34) -> 0 | AP34: =IF(AO34<3," ",(LARGE(D34:AM34,1)+LARGE(D34:AM34,2)+LARGE(D34:AM34,3))/3) | AQ34: =IF(COUNTIF(D34:AM34,"(1)")=0," ",COUNTIF(D34:AM34,"(1)")) | AR34: =IF(COUNTIF(D34:AM34,"(2)")=0," ",COUNTIF(D34:AM34,"(2)")) | AS34: =IF(COUNTIF(D34:AM34,"(3)")=0," ",COUNTIF(D34:AM34,"(3)")) | AT34: =IF(SUM(AQ34:AS34)=0," ",SUM(AQ34:AS34)) | AU34: =IF(AO34=0,Var!$B$8,IF(LARGE(D34:AM34,1)>=455,Var!$B$4," ")) -> --- | AV34: =IF(AO34=0,Var!$B$8,IF(LARGE(D34:AM34,1)>=480,Var!$B$4," ")) -> --- | AW34: =IF(AO34=0,Var!$B$8,IF(LARGE(D34:AM34,1)>=500,Var!$B$4," ")) -> --- | AX34: =IF(AO34=0,Var!$B$8,IF(LARGE(D34:AM34,1)>=515,Var!$B$4," ")) -> --- | AY34: =IF(AO34=0,Var!$B$8,IF(LARGE(D34:AM34,1)>=530,Var!$B$4," ")) -> --- | AZ34: =IF(AO34=0,Var!$B$8,IF(LARGE(D34:AM34,1)>=545,Var!$B$4," ")) -> --- | BA34: =IF(AO34=0,Var!$B$8,IF(LARGE(D34:AM34,1)>=555,Var!$B$4," ")) -> --- | BB34: =IF(AO34=0,Var!$B$8,IF(LARGE(D34:AM34,1)>=565,Var!$B$4," ")) -> --- | BC34: =IF(AO34=0,Var!$B$8,IF(LARGE(D34:AM34,1)>=575,Var!$B$4," ")) -> ---
C35: Senior 1 Homme CL | AP35: =IF(AO35<3," ",(LARGE(D35:AM35,1)+LARGE(D35:AM35,2)+LARGE(D35:AM35,3))/3) | AQ35: =IF(COUNTIF(D35:AM35,"(1)")=0," ",COUNTIF(D35:AM35,"(1)")) | AR35: =IF(COUNTIF(D35:AM35,"(2)")=0," ",COUNTIF(D35:AM35,"(2)")) | AS35: =IF(COUNTIF(D35:AM35,"(3)")=0," ",COUNTIF(D35:AM35,"(3)"))
C36: CLAIN Cédric | AO36: =COUNT(D36:AM36) -> 0 | AP36: =IF(AO36<3," ",(LARGE(D36:AM36,1)+LARGE(D36:AM36,2)+LARGE(D36:AM36,3))/3) | AQ36: =IF(COUNTIF(D36:AM36,"(1)")=0," ",COUNTIF(D36:AM36,"(1)")) | AR36: =IF(COUNTIF(D36:AM36,"(2)")=0," ",COUNTIF(D36:AM36,"(2)")) | AS36: =IF(COUNTIF(D36:AM36,"(3)")=0," ",COUNTIF(D36:AM36,"(3)")) | AT36: =IF(SUM(AQ36:AS36)=0," ",SUM(AQ36:AS36)) | AU36: =IF(AO36=0,Var!$B$8,IF(LARGE(D36:AM36,1)>=455,Var!$B$4," ")) -> --- | AV36: =IF(AO36=0,Var!$B$8,IF(LARGE(D36:AM36,1)>=480,Var!$B$4," ")) -> --- | AW36: =IF(AO36=0,Var!$B$8,IF(LARGE(D36:AM36,1)>=500,Var!$B$4," ")) -> --- | AX36: =IF(AO36=0,Var!$B$8,IF(LARGE(D36:AM36,1)>=515,Var!$B$4," ")) -> --- | AY36: =IF(AO36=0,Var!$B$8,IF(LARGE(D36:AM36,1)>=530,Var!$B$4," ")) -> --- | AZ36: =IF(AO36=0,Var!$B$8,IF(LARGE(D36:AM36,1)>=545,Var!$B$4," ")) -> --- | BA36: =IF(AO36=0,Var!$B$8,IF(LARGE(D36:AM36,1)>=555,Var!$B$4," ")) -> --- | BB36: =IF(AO36=0,Var!$B$8,IF(LARGE(D36:AM36,1)>=565,Var!$B$4," ")) -> --- | BC36: =IF(AO36=0,Var!$B$8,IF(LARGE(D36:AM36,1)>=575,Var!$B$4," ")) -> ---
B37: 1 | C37: LAGNEAUX Quentin | AO37: =COUNT(D37:AM37) -> 0 | AP37: =IF(AO37<3," ",(LARGE(D37:AM37,1)+LARGE(D37:AM37,2)+LARGE(D37:AM37,3))/3) | AQ37: =IF(COUNTIF(D37:AM37,"(1)")=0," ",COUNTIF(D37:AM37,"(1)")) | AR37: =IF(COUNTIF(D37:AM37,"(2)")=0," ",COUNTIF(D37:AM37,"(2)")) | AS37: =IF(COUNTIF(D37:AM37,"(3)")=0," ",COUNTIF(D37:AM37,"(3)")) | AT37: =IF(SUM(AQ37:AS37)=0," ",SUM(AQ37:AS37)) | AU37: 24 | AV37: 24 | AW37: 26 | AX37: 26 | AY37: =IF(AO37=0,Var!$B$8,IF(LARGE(D37:AM37,1)>=530,Var!$B$4," ")) -> --- | AZ37: =IF(AO37=0,Var!$B$8,IF(LARGE(D37:AM37,1)>=545,Var!$B$4," ")) -> --- | BA37: =IF(AO37=0,Var!$B$8,IF(LARGE(D37:AM37,1)>=555,Var!$B$4," ")) -> --- | BB37: =IF(AO37=0,Var!$B$8,IF(LARGE(D37:AM37,1)>=565,Var!$B$4," ")) -> --- | BC37: =IF(AO37=0,Var!$B$8,IF(LARGE(D37:AM37,1)>=575,Var!$B$4," ")) -> ---
B38: 1 | C38: LAQUAY Thomas | AO38: =COUNT(D38:AM38) -> 0 | AP38: =IF(AO38<3," ",(LARGE(D38:AM38,1)+LARGE(D38:AM38,2)+LARGE(D38:AM38,3))/3) | AQ38: =IF(COUNTIF(D38:AM38,"(1)")=0," ",COUNTIF(D38:AM38,"(1)")) | AR38: =IF(COUNTIF(D38:AM38,"(2)")=0," ",COUNTIF(D38:AM38,"(2)")) | AS38: =IF(COUNTIF(D38:AM38,"(3)")=0," ",COUNTIF(D38:AM38,"(3)")) | AT38: =IF(SUM(AQ38:AS38)=0," ",SUM(AQ38:AS38)) | AU38: =IF(AO38=0,Var!$B$8,IF(LARGE(D38:AM38,1)>=455,Var!$B$4," ")) -> --- | AV38: =IF(AO38=0,Var!$B$8,IF(LARGE(D38:AM38,1)>=480,Var!$B$4," ")) -> --- | AW38: =IF(AO38=0,Var!$B$8,IF(LARGE(D38:AM38,1)>=500,Var!$B$4," ")) -> --- | AX38: =IF(AO38=0,Var!$B$8,IF(LARGE(D38:AM38,1)>=515,Var!$B$4," ")) -> --- | AY38: =IF(AO38=0,Var!$B$8,IF(LARGE(D38:AM38,1)>=530,Var!$B$4," ")) -> --- | AZ38: =IF(AO38=0,Var!$B$8,IF(LARGE(D38:AM38,1)>=545,Var!$B$4," ")) -> --- | BA38: =IF(AO38=0,Var!$B$8,IF(LARGE(D38:AM38,1)>=555,Var!$B$4," ")) -> --- | BB38: =IF(AO38=0,Var!$B$8,IF(LARGE(D38:AM38,1)>=565,Var!$B$4," ")) -> --- | BC38: =IF(AO38=0,Var!$B$8,IF(LARGE(D38:AM38,1)>=575,Var!$B$4," ")) -> ---
B39: 1 | C39: STRYJEK Julien | AO39: =COUNT(D39:AM39) -> 0 | AP39: =IF(AO39<3," ",(LARGE(D39:AM39,1)+LARGE(D39:AM39,2)+LARGE(D39:AM39,3))/3) | AQ39: =IF(COUNTIF(D39:AM39,"(1)")=0," ",COUNTIF(D39:AM39,"(1)")) | AR39: =IF(COUNTIF(D39:AM39,"(2)")=0," ",COUNTIF(D39:AM39,"(2)")) | AS39: =IF(COUNTIF(D39:AM39,"(3)")=0," ",COUNTIF(D39:AM39,"(3)")) | AT39: =IF(SUM(AQ39:AS39)=0," ",SUM(AQ39:AS39)) | AU39: 18 | AV39: 18 | AW39: 18 | AX39: 18 | AY39: 19 | AZ39: =IF(AO39=0,Var!$B$8,IF(LARGE(D39:AM39,1)>=545,Var!$B$4," ")) -> --- | BA39: =IF(AO39=0,Var!$B$8,IF(LARGE(D39:AM39,1)>=555,Var!$B$4," ")) -> --- | BB39: =IF(AO39=0,Var!$B$8,IF(LARGE(D39:AM39,1)>=565,Var!$B$4," ")) -> --- | BC39: =IF(AO39=0,Var!$B$8,IF(LARGE(D39:AM39,1)>=575,Var!$B$4," ")) -> ---
B40: 1 | C40: BROCHAYE Arthur | AO40: =COUNT(D40:AM40) -> 0 | AP40: =IF(AO40<3," ",(LARGE(D40:AM40,1)+LARGE(D40:AM40,2)+LARGE(D40:AM40,3))/3) | AQ40: =IF(COUNTIF(D40:AM40,"(1)")=0," ",COUNTIF(D40:AM40,"(1)")) | AR40: =IF(COUNTIF(D40:AM40,"(2)")=0," ",COUNTIF(D40:AM40,"(2)")) | AS40: =IF(COUNTIF(D40:AM40,"(3)")=0," ",COUNTIF(D40:AM40,"(3)")) | AT40: =IF(SUM(AQ40:AS40)=0," ",SUM(AQ40:AS40)) | AU40: =IF(AO40=0,Var!$B$8,IF(LARGE(D40:AM40,1)>=455,Var!$B$4," ")) -> --- | AV40: =IF(AO40=0,Var!$B$8,IF(LARGE(D40:AM40,1)>=480,Var!$B$4," ")) -> --- | AW40: =IF(AO40=0,Var!$B$8,IF(LARGE(D40:AM40,1)>=500,Var!$B$4," ")) -> --- | AX40: =IF(AO40=0,Var!$B$8,IF(LARGE(D40:AM40,1)>=515,Var!$B$4," ")) -> --- | AY40: =IF(AO40=0,Var!$B$8,IF(LARGE(D40:AM40,1)>=530,Var!$B$4," ")) -> --- | AZ40: =IF(AO40=0,Var!$B$8,IF(LARGE(D40:AM40,1)>=545,Var!$B$4," ")) -> --- | BA40: =IF(AO40=0,Var!$B$8,IF(LARGE(D40:AM40,1)>=555,Var!$B$4," ")) -> --- | BB40: =IF(AO40=0,Var!$B$8,IF(LARGE(D40:AM40,1)>=565,Var!$B$4," ")) -> --- | BC40: =IF(AO40=0,Var!$B$8,IF(LARGE(D40:AM40,1)>=575,Var!$B$4," ")) -> ---
B41: 1 | C41: VESSAUD Ange | AO41: =COUNT(D41:AM41) -> 0 | AP41: =IF(AO41<3," ",(LARGE(D41:AM41,1)+LARGE(D41:AM41,2)+LARGE(D41:AM41,3))/3) | AQ41: =IF(COUNTIF(D41:AM41,"(1)")=0," ",COUNTIF(D41:AM41,"(1)")) | AR41: =IF(COUNTIF(D41:AM41,"(2)")=0," ",COUNTIF(D41:AM41,"(2)")) | AS41: =IF(COUNTIF(D41:AM41,"(3)")=0," ",COUNTIF(D41:AM41,"(3)")) | AT41: =IF(SUM(AQ41:AS41)=0," ",SUM(AQ41:AS41)) | AU41: =IF(AO41=0,Var!$B$8,IF(LARGE(D41:AM41,1)>=455,Var!$B$4," ")) -> --- | AV41: =IF(AO41=0,Var!$B$8,IF(LARGE(D41:AM41,1)>=480,Var!$B$4," ")) -> --- | AW41: =IF(AO41=0,Var!$B$8,IF(LARGE(D41:AM41,1)>=500,Var!$B$4," ")) -> --- | AX41: =IF(AO41=0,Var!$B$8,IF(LARGE(D41:AM41,1)>=515,Var!$B$4," ")) -> --- | AY41: =IF(AO41=0,Var!$B$8,IF(LARGE(D41:AM41,1)>=530,Var!$B$4," ")) -> --- | AZ41: =IF(AO41=0,Var!$B$8,IF(LARGE(D41:AM41,1)>=545,Var!$B$4," ")) -> --- | BA41: =IF(AO41=0,Var!$B$8,IF(LARGE(D41:AM41,1)>=555,Var!$B$4," ")) -> --- | BB41: =IF(AO41=0,Var!$B$8,IF(LARGE(D41:AM41,1)>=565,Var!$B$4," ")) -> --- | BC41: =IF(AO41=0,Var!$B$8,IF(LARGE(D41:AM41,1)>=575,Var!$B$4," ")) -> ---
C42: Scratch Homme Bare Bow | AP42: =IF(AO42<3," ",(LARGE(D42:AM42,1)+LARGE(D42:AM42,2)+LARGE(D42:AM42,3))/3) | AQ42: =IF(COUNTIF(D42:AM42,"(1)")=0," ",COUNTIF(D42:AM42,"(1)")) | AR42: =IF(COUNTIF(D42:AM42,"(2)")=0," ",COUNTIF(D42:AM42,"(2)")) | AS42: =IF(COUNTIF(D42:AM42,"(3)")=0," ",COUNTIF(D42:AM42,"(3)"))
B43: 1 | C43: GAWLOWIEZ Franck | AO43: =COUNT(D43:AM43) -> 0 | AP43: =IF(AO43<3," ",(LARGE(D43:AM43,1)+LARGE(D43:AM43,2)+LARGE(D43:AM43,3))/3) | AQ43: =IF(COUNTIF(D43:AM43,"(1)")=0," ",COUNTIF(D43:AM43,"(1)")) | AR43: =IF(COUNTIF(D43:AM43,"(2)")=0," ",COUNTIF(D43:AM43,"(2)")) | AS43: =IF(COUNTIF(D43:AM43,"(3)")=0," ",COUNTIF(D43:AM43,"(3)")) | AT43: =IF(SUM(AQ43:AS43)=0," ",SUM(AQ43:AS43)) | AU43: 24 | AV43: 24 | AW43: =IF(AO43=0,Var!$B$8,IF(LARGE(D43:AM43,1)>=500,Var!$B$4," ")) -> --- | AX43: =IF(AO43=0,Var!$B$8,IF(LARGE(D43:AM43,1)>=515,Var!$B$4," ")) -> --- | AY43: =IF(AO43=0,Var!$B$8,IF(LARGE(D43:AM43,1)>=530,Var!$B$4," ")) -> --- | AZ43: =IF(AO43=0,Var!$B$8,IF(LARGE(D43:AM43,1)>=545,Var!$B$4," ")) -> --- | BA43: =IF(AO43=0,Var!$B$8,IF(LARGE(D43:AM43,1)>=555,Var!$B$4," ")) -> --- | BB43: =IF(AO43=0,Var!$B$8,IF(LARGE(D43:AM43,1)>=565,Var!$B$4," ")) -> --- | BC43: =IF(AO43=0,Var!$B$8,IF(LARGE(D43:AM43,1)>=575,Var!$B$4," ")) -> ---
B44: 1 | C44: VALENTIN Grégory | AO44: =COUNT(D44:AM44) -> 0 | AQ44: =IF(COUNTIF(D44:AM44,"(1)")=0," ",COUNTIF(D44:AM44,"(1)")) | AR44: =IF(COUNTIF(D44:AM44,"(2)")=0," ",COUNTIF(D44:AM44,"(2)")) | AS44: =IF(COUNTIF(D44:AM44,"(3)")=0," ",COUNTIF(D44:AM44,"(3)")) | AT44: =IF(SUM(AQ44:AS44)=0," ",SUM(AQ44:AS44)) | AU44: 26 | AV44: 26 | AW44: =IF(AO44=0,Var!$B$8,IF(LARGE(D44:AM44,1)>=500,Var!$B$4," ")) -> --- | AX44: =IF(AO44=0,Var!$B$8,IF(LARGE(D44:AM44,1)>=515,Var!$B$4," ")) -> --- | AY44: =IF(AO44=0,Var!$B$8,IF(LARGE(D44:AM44,1)>=530,Var!$B$4," ")) -> --- | AZ44: =IF(AO44=0,Var!$B$8,IF(LARGE(D44:AM44,1)>=545,Var!$B$4," ")) -> --- | BA44: =IF(AO44=0,Var!$B$8,IF(LARGE(D44:AM44,1)>=555,Var!$B$4," ")) -> --- | BB44: =IF(AO44=0,Var!$B$8,IF(LARGE(D44:AM44,1)>=565,Var!$B$4," ")) -> --- | BC44: =IF(AO44=0,Var!$B$8,IF(LARGE(D44:AM44,1)>=575,Var!$B$4," ")) -> ---
B45: 1 | C45: CLAIN Cédric | AO45: =COUNT(D45:AM45) -> 0 | AP45: =IF(AO44<3," ",(LARGE(D44:AM44,1)+LARGE(D44:AM44,2)+LARGE(D44:AM44,3))/3) | AQ45: =IF(COUNTIF(D45:AM45,"(1)")=0," ",COUNTIF(D45:AM45,"(1)")) | AR45: =IF(COUNTIF(D45:AM45,"(2)")=0," ",COUNTIF(D45:AM45,"(2)")) | AS45: =IF(COUNTIF(D45:AM45,"(3)")=0," ",COUNTIF(D45:AM45,"(3)")) | AT45: =IF(SUM(AQ45:AS45)=0," ",SUM(AQ45:AS45)) | AU45: 26 | AV45: =IF(AO45=0,Var!$B$8,IF(LARGE(D45:AM45,1)>=480,Var!$B$4," ")) -> --- | AW45: =IF(AO45=0,Var!$B$8,IF(LARGE(D45:AM45,1)>=500,Var!$B$4," ")) -> --- | AX45: =IF(AO45=0,Var!$B$8,IF(LARGE(D45:AM45,1)>=515,Var!$B$4," ")) -> --- | AY45: =IF(AO45=0,Var!$B$8,IF(LARGE(D45:AM45,1)>=530,Var!$B$4," ")) -> --- | AZ45: =IF(AO45=0,Var!$B$8,IF(LARGE(D45:AM45,1)>=545,Var!$B$4," ")) -> --- | BA45: =IF(AO45=0,Var!$B$8,IF(LARGE(D45:AM45,1)>=555,Var!$B$4," ")) -> --- | BB45: =IF(AO45=0,Var!$B$8,IF(LARGE(D45:AM45,1)>=565,Var!$B$4," ")) -> --- | BC45: =IF(AO45=0,Var!$B$8,IF(LARGE(D45:AM45,1)>=575,Var!$B$4," ")) -> ---
C46: LHERMITTE William | AO46: =COUNT(D46:AM46) -> 0 | AP46: =IF(AO46<3," ",(LARGE(D46:AM46,1)+LARGE(D46:AM46,2)+LARGE(D46:AM46,3))/3) | AQ46: =IF(COUNTIF(D46:AM46,"(1)")=0," ",COUNTIF(D46:AM46,"(1)")) | AR46: =IF(COUNTIF(D46:AM46,"(2)")=0," ",COUNTIF(D46:AM46,"(2)")) | AS46: =IF(COUNTIF(D46:AM46,"(3)")=0," ",COUNTIF(D46:AM46,"(3)")) | AT46: =IF(SUM(AQ46:AS46)=0," ",SUM(AQ46:AS46)) | AU46: 23 | AV46: =IF(AO46=0,Var!$B$8,IF(LARGE(D46:AM46,1)>=480,Var!$B$4," ")) -> --- | AW46: =IF(AO46=0,Var!$B$8,IF(LARGE(D46:AM46,1)>=500,Var!$B$4," ")) -> --- | AX46: =IF(AO46=0,Var!$B$8,IF(LARGE(D46:AM46,1)>=515,Var!$B$4," ")) -> --- | AY46: =IF(AO46=0,Var!$B$8,IF(LARGE(D46:AM46,1)>=530,Var!$B$4," ")) -> --- | AZ46: =IF(AO46=0,Var!$B$8,IF(LARGE(D46:AM46,1)>=545,Var!$B$4," ")) -> --- | BA46: =IF(AO46=0,Var!$B$8,IF(LARGE(D46:AM46,1)>=555,Var!$B$4," ")) -> --- | BB46: =IF(AO46=0,Var!$B$8,IF(LARGE(D46:AM46,1)>=565,Var!$B$4," ")) -> --- | BC46: =IF(AO46=0,Var!$B$8,IF(LARGE(D46:AM46,1)>=575,Var!$B$4," ")) -> ---
C47: Senior 2 Femme | AP47: =IF(AO47<3," ",(LARGE(D47:AM47,1)+LARGE(D47:AM47,2)+LARGE(D47:AM47,3))/3) | AQ47: =IF(COUNTIF(D47:AM47,"(1)")=0," ",COUNTIF(D47:AM47,"(1)")) | AR47: =IF(COUNTIF(D47:AM47,"(2)")=0," ",COUNTIF(D47:AM47,"(2)")) | AS47: =IF(COUNTIF(D47:AM47,"(3)")=0," ",COUNTIF(D47:AM47,"(3)"))
C48: BODSON Florence | AO48: =COUNT(D48:AM48) -> 0 | AP48: =IF(AO48<3," ",(LARGE(D48:AM48,1)+LARGE(D48:AM48,2)+LARGE(D48:AM48,3))/3) | AQ48: =IF(COUNTIF(D48:AM48,"(1)")=0," ",COUNTIF(D48:AM48,"(1)")) | AR48: =IF(COUNTIF(D48:AM48,"(2)")=0," ",COUNTIF(D48:AM48,"(2)")) | AS48: =IF(COUNTIF(D48:AM48,"(3)")=0," ",COUNTIF(D48:AM48,"(3)")) | AT48: =IF(SUM(AQ48:AS48)=0," ",SUM(AQ48:AS48)) | AU48: 19 | AV48: 19 | AW48: =IF(AO48=0,Var!$B$8,IF(LARGE(D48:AM48,1)>=500,Var!$B$4," ")) -> --- | AX48: =IF(AO48=0,Var!$B$8,IF(LARGE(D48:AM48,1)>=515,Var!$B$4," ")) -> --- | AY48: =IF(AO48=0,Var!$B$8,IF(LARGE(D48:AM48,1)>=530,Var!$B$4," ")) -> --- | AZ48: =IF(AO48=0,Var!$B$8,IF(LARGE(D48:AM48,1)>=545,Var!$B$4," ")) -> --- | BA48: =IF(AO48=0,Var!$B$8,IF(LARGE(D48:AM48,1)>=555,Var!$B$4," ")) -> --- | BB48: =IF(AO48=0,Var!$B$8,IF(LARGE(D48:AM48,1)>=565,Var!$B$4," ")) -> --- | BC48: =IF(AO48=0,Var!$B$8,IF(LARGE(D48:AM48,1)>=575,Var!$B$4," ")) -> ---
B49: 1 | C49: LAPORTE Constance | AO49: =COUNT(D49:AM49) -> 0 | AP49: =IF(AO49<3," ",(LARGE(D49:AM49,1)+LARGE(D49:AM49,2)+LARGE(D49:AM49,3))/3) | AQ49: =IF(COUNTIF(D49:AM49,"(1)")=0," ",COUNTIF(D49:AM49,"(1)")) | AR49: =IF(COUNTIF(D49:AM49,"(2)")=0," ",COUNTIF(D49:AM49,"(2)")) | AS49: =IF(COUNTIF(D49:AM49,"(3)")=0," ",COUNTIF(D49:AM49,"(3)")) | AT49: =IF(SUM(AQ49:AS49)=0," ",SUM(AQ49:AS49)) | AU49: =IF(AO49=0,Var!$B$8,IF(LARGE(D49:AM49,1)>=455,Var!$B$4," ")) -> --- | AV49: =IF(AO49=0,Var!$B$8,IF(LARGE(D49:AM49,1)>=480,Var!$B$4," ")) -> --- | AW49: =IF(AO49=0,Var!$B$8,IF(LARGE(D49:AM49,1)>=500,Var!$B$4," ")) -> --- | AX49: =IF(AO49=0,Var!$B$8,IF(LARGE(D49:AM49,1)>=515,Var!$B$4," ")) -> --- | AY49: =IF(AO49=0,Var!$B$8,IF(LARGE(D49:AM49,1)>=530,Var!$B$4," ")) -> --- | AZ49: =IF(AO49=0,Var!$B$8,IF(LARGE(D49:AM49,1)>=545,Var!$B$4," ")) -> --- | BA49: =IF(AO49=0,Var!$B$8,IF(LARGE(D49:AM49,1)>=555,Var!$B$4," ")) -> --- | BB49: =IF(AO49=0,Var!$B$8,IF(LARGE(D49:AM49,1)>=565,Var!$B$4," ")) -> --- | BC49: =IF(AO49=0,Var!$B$8,IF(LARGE(D49:AM49,1)>=575,Var!$B$4," ")) -> ---
C50: CARPENTIER Gaëlle | AO50: =COUNT(D50:AM50) -> 0 | AP50: =IF(AO50<3," ",(LARGE(D50:AM50,1)+LARGE(D50:AM50,2)+LARGE(D50:AM50,3))/3) | AQ50: =IF(COUNTIF(D50:AM50,"(1)")=0," ",COUNTIF(D50:AM50,"(1)")) | AR50: =IF(COUNTIF(D50:AM50,"(2)")=0," ",COUNTIF(D50:AM50,"(2)")) | AS50: =IF(COUNTIF(D50:AM50,"(3)")=0," ",COUNTIF(D50:AM50,"(3)")) | AT50: =IF(SUM(AQ50:AS50)=0," ",SUM(AQ50:AS50)) | AU50: 24 | AV50: 24 | AW50: 24 | AX50: =IF(AO50=0,Var!$B$8,IF(LARGE(D50:AM50,1)>=515,Var!$B$4," ")) -> --- | AY50: =IF(AO50=0,Var!$B$8,IF(LARGE(D50:AM50,1)>=530,Var!$B$4," ")) -> --- | AZ50: =IF(AO50=0,Var!$B$8,IF(LARGE(D50:AM50,1)>=545,Var!$B$4," ")) -> --- | BA50: =IF(AO50=0,Var!$B$8,IF(LARGE(D50:AM50,1)>=555,Var!$B$4," ")) -> --- | BB50: =IF(AO50=0,Var!$B$8,IF(LARGE(D50:AM50,1)>=565,Var!$B$4," ")) -> --- | BC50: =IF(AO50=0,Var!$B$8,IF(LARGE(D50:AM50,1)>=575,Var!$B$4," ")) -> ---
C51: Senior 3 Femme | AP51: =IF(AO51<3," ",(LARGE(D51:AM51,1)+LARGE(D51:AM51,2)+LARGE(D51:AM51,3))/3) | AQ51: =IF(COUNTIF(D51:AM51,"(1)")=0," ",COUNTIF(D51:AM51,"(1)")) | AR51: =IF(COUNTIF(D51:AM51,"(2)")=0," ",COUNTIF(D51:AM51,"(2)")) | AS51: =IF(COUNTIF(D51:AM51,"(3)")=0," ",COUNTIF(D51:AM51,"(3)"))
B52: 1 | C52: VOLVERT Claudette | AO52: =COUNT(D52:AM52) -> 0 | AP52: =IF(AO52<3," ",(LARGE(D52:AM52,1)+LARGE(D52:AM52,2)+LARGE(D52:AM52,3))/3) | AQ52: =IF(COUNTIF(D52:AM52,"(1)")=0," ",COUNTIF(D52:AM52,"(1)")) | AR52: =IF(COUNTIF(D52:AM52,"(2)")=0," ",COUNTIF(D52:AM52,"(2)")) | AS52: =IF(COUNTIF(D52:AM52,"(3)")=0," ",COUNTIF(D52:AM52,"(3)")) | AT52: =IF(SUM(AQ52:AS52)=0," ",SUM(AQ52:AS52)) | AU52: 18 | AV52: 18 | AW52: 18 | AX52: =IF(AO50=0,Var!$B$8,IF(LARGE(D52:AM52,1)>=515,Var!$B$4," ")) -> --- | AY52: =IF(AO50=0,Var!$B$8,IF(LARGE(D52:AM52,1)>=530,Var!$B$4," ")) -> --- | AZ52: =IF(AO50=0,Var!$B$8,IF(LARGE(D52:AM52,1)>=545,Var!$B$4," ")) -> --- | BA52: =IF(AO50=0,Var!$B$8,IF(LARGE(D52:AM52,1)>=555,Var!$B$4," ")) -> --- | BB52: =IF(AO50=0,Var!$B$8,IF(LARGE(D52:AM52,1)>=565,Var!$B$4," ")) -> --- | BC52: =IF(AO50=0,Var!$B$8,IF(LARGE(D52:AM52,1)>=575,Var!$B$4," ")) -> ---
AO53: =COUNT(D53:AM53) -> 0 | AP53: =IF(AO53<3," ",(LARGE(D53:AM53,1)+LARGE(D53:AM53,2)+LARGE(D53:AM53,3))/3) | AQ53: =IF(COUNTIF(D53:AM53,"(1)")=0," ",COUNTIF(D53:AM53,"(1)")) | AR53: =IF(COUNTIF(D53:AM53,"(2)")=0," ",COUNTIF(D53:AM53,"(2)")) | AS53: =IF(COUNTIF(D53:AM53,"(3)")=0," ",COUNTIF(D53:AM53,"(3)")) | AT53: =IF(SUM(AQ53:AS53)=0," ",SUM(AQ53:AS53)) | AU53: =IF(AO51=0,Var!$B$8,IF(LARGE(D53:AM53,1)>=455,Var!$B$4," ")) -> --- | AV53: =IF(AO51=0,Var!$B$8,IF(LARGE(D53:AM53,1)>=480,Var!$B$4," ")) -> --- | AW53: =IF(AO51=0,Var!$B$8,IF(LARGE(D53:AM53,1)>=500,Var!$B$4," ")) -> --- | AX53: =IF(AO51=0,Var!$B$8,IF(LARGE(D53:AM53,1)>=515,Var!$B$4," ")) -> --- | AY53: =IF(AO51=0,Var!$B$8,IF(LARGE(D53:AM53,1)>=530,Var!$B$4," ")) -> --- | AZ53: =IF(AO51=0,Var!$B$8,IF(LARGE(D53:AM53,1)>=545,Var!$B$4," ")) -> --- | BA53: =IF(AO51=0,Var!$B$8,IF(LARGE(D53:AM53,1)>=555,Var!$B$4," ")) -> --- | BB53: =IF(AO51=0,Var!$B$8,IF(LARGE(D53:AM53,1)>=565,Var!$B$4," ")) -> --- | BC53: =IF(AO51=0,Var!$B$8,IF(LARGE(D53:AM53,1)>=575,Var!$B$4," ")) -> ---
C54: Senior 2 Homme | AP54: =IF(AO54<3," ",(LARGE(D54:AM54,1)+LARGE(D54:AM54,2)+LARGE(D54:AM54,3))/3) | AQ54: =IF(COUNTIF(D54:AM54,"(1)")=0," ",COUNTIF(D54:AM54,"(1)")) | AR54: =IF(COUNTIF(D54:AM54,"(2)")=0," ",COUNTIF(D54:AM54,"(2)")) | AS54: =IF(COUNTIF(D54:AM54,"(3)")=0," ",COUNTIF(D54:AM54,"(3)"))
AO55: =COUNT(D55:AM55) -> 0 | AP55: =IF(AO55<3," ",(LARGE(D55:AM55,1)+LARGE(D55:AM55,2)+LARGE(D55:AM55,3))/3) | AQ55: =IF(COUNTIF(D55:AM55,"(1)")=0," ",COUNTIF(D55:AM55,"(1)")) | AR55: =IF(COUNTIF(D55:AM55,"(2)")=0," ",COUNTIF(D55:AM55,"(2)")) | AS55: =IF(COUNTIF(D55:AM55,"(3)")=0," ",COUNTIF(D55:AM55,"(3)")) | AT55: =IF(SUM(AQ55:AS55)=0," ",SUM(AQ55:AS55)) | AU55: =IF(AO55=0,Var!$B$8,IF(LARGE(D55:AM55,1)>=455,Var!$B$4," ")) -> --- | AV55: =IF(AO55=0,Var!$B$8,IF(LARGE(D55:AM55,1)>=480,Var!$B$4," ")) -> --- | AW55: =IF(AO55=0,Var!$B$8,IF(LARGE(D55:AM55,1)>=500,Var!$B$4," ")) -> --- | AX55: =IF(AO55=0,Var!$B$8,IF(LARGE(D55:AM55,1)>=515,Var!$B$4," ")) -> --- | AY55: =IF(AO55=0,Var!$B$8,IF(LARGE(D55:AM55,1)>=530,Var!$B$4," ")) -> --- | AZ55: =IF(AO55=0,Var!$B$8,IF(LARGE(D55:AM55,1)>=545,Var!$B$4," ")) -> --- | BA55: =IF(AO55=0,Var!$B$8,IF(LARGE(D55:AM55,1)>=555,Var!$B$4," ")) -> --- | BB55: =IF(AO55=0,Var!$B$8,IF(LARGE(D55:AM55,1)>=565,Var!$B$4," ")) -> --- | BC55: =IF(AO55=0,Var!$B$8,IF(LARGE(D55:AM55,1)>=575,Var!$B$4," ")) -> ---
B56: 1 | C56: MULLER Christian | AO56: =COUNT(D56:AM56) -> 0 | AP56: =IF(AO56<3," ",(LARGE(D56:AM56,1)+LARGE(D56:AM56,2)+LARGE(D56:AM56,3))/3) | AQ56: =IF(COUNTIF(D56:AM56,"(1)")=0," ",COUNTIF(D56:AM56,"(1)")) | AR56: =IF(COUNTIF(D56:AM56,"(2)")=0," ",COUNTIF(D56:AM56,"(2)")) | AS56: =IF(COUNTIF(D56:AM56,"(3)")=0," ",COUNTIF(D56:AM56,"(3)")) | AT56: =IF(SUM(AQ56:AS56)=0," ",SUM(AQ56:AS56)) | AU56: 18 | AV56: 24 | AW56: 25 | AX56: 25 | AY56: =IF(AO56=0,Var!$B$8,IF(LARGE(D56:AM56,1)>=530,Var!$B$4," ")) -> --- | AZ56: =IF(AO56=0,Var!$B$8,IF(LARGE(D56:AM56,1)>=545,Var!$B$4," ")) -> --- | BA56: =IF(AO56=0,Var!$B$8,IF(LARGE(D56:AM56,1)>=555,Var!$B$4," ")) -> --- | BB56: =IF(AO56=0,Var!$B$8,IF(LARGE(D56:AM56,1)>=565,Var!$B$4," ")) -> --- | BC56: =IF(AO56=0,Var!$B$8,IF(LARGE(D56:AM56,1)>=575,Var!$B$4," ")) -> ---
C57: WONG Hua | AO57: =COUNT(D57:AM57) -> 0 | AP57: =IF(AO57<3," ",(LARGE(D57:AM57,1)+LARGE(D57:AM57,2)+LARGE(D57:AM57,3))/3) | AQ57: =IF(COUNTIF(D57:AM57,"(1)")=0," ",COUNTIF(D57:AM57,"(1)")) | AR57: =IF(COUNTIF(D57:AM57,"(2)")=0," ",COUNTIF(D57:AM57,"(2)")) | AS57: =IF(COUNTIF(D57:AM57,"(3)")=0," ",COUNTIF(D57:AM57,"(3)")) | AT57: =IF(SUM(AQ57:AS57)=0," ",SUM(AQ57:AS57)) | AU57: =IF(AO57=0,Var!$B$8,IF(LARGE(D57:AM57,1)>=455,Var!$B$4," ")) -> --- | AV57: =IF(AO57=0,Var!$B$8,IF(LARGE(D57:AM57,1)>=480,Var!$B$4," ")) -> --- | AW57: =IF(AO57=0,Var!$B$8,IF(LARGE(D57:AM57,1)>=500,Var!$B$4," ")) -> --- | AX57: =IF(AO57=0,Var!$B$8,IF(LARGE(D57:AM57,1)>=515,Var!$B$4," ")) -> --- | AY57: =IF(AO57=0,Var!$B$8,IF(LARGE(D57:AM57,1)>=530,Var!$B$4," ")) -> --- | AZ57: =IF(AO57=0,Var!$B$8,IF(LARGE(D57:AM57,1)>=545,Var!$B$4," ")) -> --- | BA57: =IF(AO57=0,Var!$B$8,IF(LARGE(D57:AM57,1)>=555,Var!$B$4," ")) -> --- | BB57: =IF(AO57=0,Var!$B$8,IF(LARGE(D57:AM57,1)>=565,Var!$B$4," ")) -> --- | BC57: =IF(AO57=0,Var!$B$8,IF(LARGE(D57:AM57,1)>=575,Var!$B$4," ")) -> ---
B58: 1 | C58: ZIEGELMEYER Damien | AO58: =COUNT(D58:AM58) -> 0 | AP58: =IF(AO58<3," ",(LARGE(D58:AM58,1)+LARGE(D58:AM58,2)+LARGE(D58:AM58,3))/3) | AQ58: =IF(COUNTIF(D58:AM58,"(1)")=0," ",COUNTIF(D58:AM58,"(1)")) | AR58: =IF(COUNTIF(D58:AM58,"(2)")=0," ",COUNTIF(D58:AM58,"(2)")) | AS58: =IF(COUNTIF(D58:AM58,"(3)")=0," ",COUNTIF(D58:AM58,"(3)")) | AT58: =IF(SUM(AQ58:AS58)=0," ",SUM(AQ58:AS58)) | AU58: 24 | AV58: 24 | AW58: 26 | AX58: 26 | AY58: 26 | AZ58: =IF(AO58=0,Var!$B$8,IF(LARGE(D58:AM58,1)>=545,Var!$B$4," ")) -> --- | BA58: =IF(AO58=0,Var!$B$8,IF(LARGE(D58:AM58,1)>=555,Var!$B$4," ")) -> --- | BB58: =IF(AO58=0,Var!$B$8,IF(LARGE(D58:AM58,1)>=565,Var!$B$4," ")) -> --- | BC58: =IF(AO58=0,Var!$B$8,IF(LARGE(D58:AM58,1)>=575,Var!$B$4," ")) -> ---
C59: Senior 3 Homme | AP59: =IF(AO59<3," ",(LARGE(D59:AM59,1)+LARGE(D59:AM59,2)+LARGE(D59:AM59,3))/3) | AQ59: =IF(COUNTIF(D59:AM59,"(1)")=0," ",COUNTIF(D59:AM59,"(1)")) | AR59: =IF(COUNTIF(D59:AM59,"(2)")=0," ",COUNTIF(D59:AM59,"(2)")) | AS59: =IF(COUNTIF(D59:AM59,"(3)")=0," ",COUNTIF(D59:AM59,"(3)"))
AO60: =COUNT(D60:AM60) -> 0 | AP60: =IF(AO60<3," ",(LARGE(D60:AM60,1)+LARGE(D60:AM60,2)+LARGE(D60:AM60,3))/3) | AQ60: =IF(COUNTIF(D60:AM60,"(1)")=0," ",COUNTIF(D60:AM60,"(1)")) | AR60: =IF(COUNTIF(D60:AM60,"(2)")=0," ",COUNTIF(D60:AM60,"(2)")) | AS60: =IF(COUNTIF(D60:AM60,"(3)")=0," ",COUNTIF(D60:AM60,"(3)")) | AT60: =IF(SUM(AQ60:AS60)=0," ",SUM(AQ60:AS60)) | AU60: =IF(AO60=0,Var!$B$8,IF(LARGE(D60:AM60,1)>=455,Var!$B$4," ")) -> --- | AV60: =IF(AO60=0,Var!$B$8,IF(LARGE(D60:AM60,1)>=480,Var!$B$4," ")) -> --- | AW60: =IF(AO60=0,Var!$B$8,IF(LARGE(D60:AM60,1)>=500,Var!$B$4," ")) -> --- | AX60: =IF(AO60=0,Var!$B$8,IF(LARGE(D60:AM60,1)>=515,Var!$B$4," ")) -> --- | AY60: =IF(AO60=0,Var!$B$8,IF(LARGE(D60:AM60,1)>=530,Var!$B$4," ")) -> --- | AZ60: =IF(AO60=0,Var!$B$8,IF(LARGE(D60:AM60,1)>=545,Var!$B$4," ")) -> --- | BA60: =IF(AO60=0,Var!$B$8,IF(LARGE(D60:AM60,1)>=555,Var!$B$4," ")) -> --- | BB60: =IF(AO60=0,Var!$B$8,IF(LARGE(D60:AM60,1)>=565,Var!$B$4," ")) -> --- | BC60: =IF(AO60=0,Var!$B$8,IF(LARGE(D60:AM60,1)>=575,Var!$B$4," ")) -> ---
C61: BAUVET Joël | AO61: =COUNT(D61:AM61) -> 0 | AP61: =IF(AO61<3," ",(LARGE(D61:AM61,1)+LARGE(D61:AM61,2)+LARGE(D61:AM61,3))/3) | AQ61: =IF(COUNTIF(D61:AM61,"(1)")=0," ",COUNTIF(D61:AM61,"(1)")) | AR61: =IF(COUNTIF(D61:AM61,"(2)")=0," ",COUNTIF(D61:AM61,"(2)")) | AS61: =IF(COUNTIF(D61:AM61,"(3)")=0," ",COUNTIF(D61:AM61,"(3)")) | AT61: =IF(SUM(AQ61:AS61)=0," ",SUM(AQ61:AS61)) | AU61: =IF(AO61=0,Var!$B$8,IF(LARGE(D61:AM61,1)>=455,Var!$B$4," ")) -> --- | AV61: =IF(AO61=0,Var!$B$8,IF(LARGE(D61:AM61,1)>=480,Var!$B$4," ")) -> --- | AW61: =IF(AO61=0,Var!$B$8,IF(LARGE(D61:AM61,1)>=500,Var!$B$4," ")) -> --- | AX61: =IF(AO61=0,Var!$B$8,IF(LARGE(D61:AM61,1)>=515,Var!$B$4," ")) -> --- | AY61: =IF(AO61=0,Var!$B$8,IF(LARGE(D61:AM61,1)>=530,Var!$B$4," ")) -> --- | AZ61: =IF(AO61=0,Var!$B$8,IF(LARGE(D61:AM61,1)>=545,Var!$B$4," ")) -> --- | BA61: =IF(AO61=0,Var!$B$8,IF(LARGE(D61:AM61,1)>=555,Var!$B$4," ")) -> --- | BB61: =IF(AO61=0,Var!$B$8,IF(LARGE(D61:AM61,1)>=565,Var!$B$4," ")) -> --- | BC61: =IF(AO61=0,Var!$B$8,IF(LARGE(D61:AM61,1)>=575,Var!$B$4," ")) -> ---
B62: 1 | C62: PHULPIN Pascal | AO62: =COUNT(D62:AM62) -> 0 | AP62: =IF(AO62<3," ",(LARGE(D62:AM62,1)+LARGE(D62:AM62,2)+LARGE(D62:AM62,3))/3) | AQ62: =IF(COUNTIF(D62:AM62,"(1)")=0," ",COUNTIF(D62:AM62,"(1)")) | AR62: =IF(COUNTIF(D62:AM62,"(2)")=0," ",COUNTIF(D62:AM62,"(2)")) | AS62: =IF(COUNTIF(D62:AM62,"(3)")=0," ",COUNTIF(D62:AM62,"(3)")) | AT62: =IF(SUM(AQ62:AS62)=0," ",SUM(AQ62:AS62)) | AU62: 22 | AV62: 22 | AW62: 22 | AX62: 22 | AY62: =IF(AO62=0,Var!$B$8,IF(LARGE(D62:AM62,1)>=530,Var!$B$4," ")) -> --- | AZ62: =IF(AO62=0,Var!$B$8,IF(LARGE(D62:AM62,1)>=545,Var!$B$4," ")) -> --- | BA62: =IF(AO62=0,Var!$B$8,IF(LARGE(D62:AM62,1)>=555,Var!$B$4," ")) -> --- | BB62: =IF(AO62=0,Var!$B$8,IF(LARGE(D62:AM62,1)>=565,Var!$B$4," ")) -> --- | BC62: =IF(AO62=0,Var!$B$8,IF(LARGE(D62:AM62,1)>=575,Var!$B$4," ")) -> ---
C63: TETART Philippe | AO63: =COUNT(D63:AM63) -> 0 | AP63: =IF(AO63<3," ",(LARGE(D63:AM63,1)+LARGE(D63:AM63,2)+LARGE(D63:AM63,3))/3) | AQ63: =IF(COUNTIF(D63:AM63,"(1)")=0," ",COUNTIF(D63:AM63,"(1)")) | AR63: =IF(COUNTIF(D63:AM63,"(2)")=0," ",COUNTIF(D63:AM63,"(2)")) | AS63: =IF(COUNTIF(D63:AM63,"(3)")=0," ",COUNTIF(D63:AM63,"(3)")) | AT63: =IF(SUM(AQ63:AS63)=0," ",SUM(AQ63:AS63)) | AU63: 18 | AV63: 18 | AW63: 18 | AX63: 18 | AY63: =IF(AO63=0,Var!$B$8,IF(LARGE(D63:AM63,1)>=530,Var!$B$4," ")) -> --- | AZ63: =IF(AO63=0,Var!$B$8,IF(LARGE(D63:AM63,1)>=545,Var!$B$4," ")) -> --- | BA63: =IF(AO63=0,Var!$B$8,IF(LARGE(D63:AM63,1)>=555,Var!$B$4," ")) -> --- | BB63: =IF(AO63=0,Var!$B$8,IF(LARGE(D63:AM63,1)>=565,Var!$B$4," ")) -> --- | BC63: =IF(AO63=0,Var!$B$8,IF(LARGE(D63:AM63,1)>=575,Var!$B$4," ")) -> ---
AP64: =IF(AO64<3," ",(LARGE(D64:AM64,1)+LARGE(D64:AM64,2)+LARGE(D64:AM64,3))/3)
AP65: =IF(AO65<3," ",(LARGE(D65:AM65,1)+LARGE(D65:AM65,2)+LARGE(D65:AM65,3))/3) | AQ65: Or | AR65: Ag | AS65: Br | AT65: Tt | AU65: 540 | AV65: 550 | AW65: 555 | AX65: 560 | AY65: 565 | AZ65: 570 | BA65: 575 | BB65: 580 | BC65: 585
C66: Compound Jeune Femme | AP66: =IF(AO66<3," ",(LARGE(D66:AM66,1)+LARGE(D66:AM66,2)+LARGE(D66:AM66,3))/3)
AO67: =COUNT(D67:AM67) -> 0 | AP67: =IF(AO67<3," ",(LARGE(D67:AM67,1)+LARGE(D67:AM67,2)+LARGE(D67:AM67,3))/3) | AQ67: =IF(COUNTIF(D67:AM67,"(1)")=0," ",COUNTIF(D67:AM67,"(1)")) | AR67: =IF(COUNTIF(D67:AM67,"(2)")=0," ",COUNTIF(D67:AM67,"(2)")) | AS67: =IF(COUNTIF(D67:AM67,"(3)")=0," ",COUNTIF(D67:AM67,"(3)")) | AT67: =IF(SUM(AQ67:AS67)=0," ",SUM(AQ67:AS67)) | AU67: =IF(AO67=0,Var!$B$8,IF(LARGE(D67:AM67,1)>=540,Var!$B$4," ")) -> --- | AV67: =IF(AO67=0,Var!$B$8,IF(LARGE(D67:AM67,1)>=550,Var!$B$4," ")) -> --- | AW67: =IF(AO67=0,Var!$B$8,IF(LARGE(D67:AM67,1)>=555,Var!$B$4," ")) -> --- | AX67: =IF(AO67=0,Var!$B$8,IF(LARGE(D67:AM67,1)>=560,Var!$B$4," ")) -> --- | AY67: =IF(AO67=0,Var!$B$8,IF(LARGE(D67:AM67,1)>=565,Var!$B$4," ")) -> --- | AZ67: =IF(AO67=0,Var!$B$8,IF(LARGE(D67:AM67,1)>=570,Var!$B$4," ")) -> --- | BA67: =IF(AO67=0,Var!$B$8,IF(LARGE(D67:AM67,1)>=575,Var!$B$4," ")) -> --- | BB67: =IF(AO67=0,Var!$B$8,IF(LARGE(D67:AM67,1)>=580,Var!$B$4," ")) -> --- | BC67: =IF(AO67=0,Var!$B$8,IF(LARGE(D67:AM67,1)>=585,Var!$B$4," ")) -> ---
C68: Compound Jeune Homme | AP68: =IF(AO68<3," ",(LARGE(D68:AM68,1)+LARGE(D68:AM68,2)+LARGE(D68:AM68,3))/3)
AO69: =COUNT(D69:AM69) -> 0 | AP69: =IF(AO69<3," ",(LARGE(D69:AM69,1)+LARGE(D69:AM69,2)+LARGE(D69:AM69,3))/3) | AQ69: =IF(COUNTIF(D69:AM69,"(1)")=0," ",COUNTIF(D69:AM69,"(1)")) | AR69: =IF(COUNTIF(D69:AM69,"(2)")=0," ",COUNTIF(D69:AM69,"(2)")) | AS69: =IF(COUNTIF(D69:AM69,"(3)")=0," ",COUNTIF(D69:AM69,"(3)")) | AT69: =IF(SUM(AQ69:AS69)=0," ",SUM(AQ69:AS69)) | AU69: =IF(AO69=0,Var!$B$8,IF(LARGE(D69:AM69,1)>=540,Var!$B$4," ")) -> --- | AV69: =IF(AO69=0,Var!$B$8,IF(LARGE(D69:AM69,1)>=550,Var!$B$4," ")) -> --- | AW69: =IF(AO69=0,Var!$B$8,IF(LARGE(D69:AM69,1)>=555,Var!$B$4," ")) -> --- | AX69: =IF(AO69=0,Var!$B$8,IF(LARGE(D69:AM69,1)>=560,Var!$B$4," ")) -> --- | AY69: =IF(AO69=0,Var!$B$8,IF(LARGE(D69:AM69,1)>=565,Var!$B$4," ")) -> --- | AZ69: =IF(AO69=0,Var!$B$8,IF(LARGE(D69:AM69,1)>=570,Var!$B$4," ")) -> --- | BA69: =IF(AO69=0,Var!$B$8,IF(LARGE(D69:AM69,1)>=575,Var!$B$4," ")) -> --- | BB69: =IF(AO69=0,Var!$B$8,IF(LARGE(D69:AM69,1)>=580,Var!$B$4," ")) -> --- | BC69: =IF(AO69=0,Var!$B$8,IF(LARGE(D69:AM69,1)>=585,Var!$B$4," ")) -> ---
C70: Compound Senior 3 Femme | AP70: =IF(AO70<3," ",(LARGE(D70:AM70,1)+LARGE(D70:AM70,2)+LARGE(D70:AM70,3))/3)
B71: 1 | C71: HOUWER Françoise | AO71: =COUNT(D71:AM71) -> 0 | AP71: =IF(AO71<3," ",(LARGE(D71:AM71,1)+LARGE(D71:AM71,2)+LARGE(D71:AM71,3))/3) | AQ71: =IF(COUNTIF(D71:AM71,"(1)")=0," ",COUNTIF(D71:AM71,"(1)")) | AR71: =IF(COUNTIF(D71:AM71,"(2)")=0," ",COUNTIF(D71:AM71,"(2)")) | AS71: =IF(COUNTIF(D71:AM71,"(3)")=0," ",COUNTIF(D71:AM71,"(3)")) | AT71: =IF(SUM(AQ71:AS71)=0," ",SUM(AQ71:AS71)) | AU71: 25 | AV71: =IF(AO71=0,Var!$B$8,IF(LARGE(D71:AM71,1)>=550,Var!$B$4," ")) -> --- | AW71: =IF(AO71=0,Var!$B$8,IF(LARGE(D71:AM71,1)>=555,Var!$B$4," ")) -> --- | AX71: =IF(AO71=0,Var!$B$8,IF(LARGE(D71:AM71,1)>=560,Var!$B$4," ")) -> --- | AY71: =IF(AO71=0,Var!$B$8,IF(LARGE(D71:AM71,1)>=565,Var!$B$4," ")) -> --- | AZ71: =IF(AO71=0,Var!$B$8,IF(LARGE(D71:AM71,1)>=570,Var!$B$4," ")) -> --- | BA71: =IF(AO71=0,Var!$B$8,IF(LARGE(D71:AM71,1)>=575,Var!$B$4," ")) -> --- | BB71: =IF(AO71=0,Var!$B$8,IF(LARGE(D71:AM71,1)>=580,Var!$B$4," ")) -> --- | BC71: =IF(AO71=0,Var!$B$8,IF(LARGE(D71:AM71,1)>=585,Var!$B$4," ")) -> ---
AO72: =COUNT(D72:AM72) -> 0 | AP72: =IF(AO72<3," ",(LARGE(D72:AM72,1)+LARGE(D72:AM72,2)+LARGE(D72:AM72,3))/3) | AQ72: =IF(COUNTIF(D72:AM72,"(1)")=0," ",COUNTIF(D72:AM72,"(1)")) | AR72: =IF(COUNTIF(D72:AM72,"(2)")=0," ",COUNTIF(D72:AM72,"(2)")) | AS72: =IF(COUNTIF(D72:AM72,"(3)")=0," ",COUNTIF(D72:AM72,"(3)")) | AT72: =IF(SUM(AQ72:AS72)=0," ",SUM(AQ72:AS72)) | AU72: =IF(AO72=0,Var!$B$8,IF(LARGE(D72:AM72,1)>=540,Var!$B$4," ")) -> --- | AV72: =IF(AO72=0,Var!$B$8,IF(LARGE(D72:AM72,1)>=550,Var!$B$4," ")) -> --- | AW72: =IF(AO72=0,Var!$B$8,IF(LARGE(D72:AM72,1)>=555,Var!$B$4," ")) -> --- | AX72: =IF(AO72=0,Var!$B$8,IF(LARGE(D72:AM72,1)>=560,Var!$B$4," ")) -> --- | AY72: =IF(AO72=0,Var!$B$8,IF(LARGE(D72:AM72,1)>=565,Var!$B$4," ")) -> --- | AZ72: =IF(AO72=0,Var!$B$8,IF(LARGE(D72:AM72,1)>=570,Var!$B$4," ")) -> --- | BA72: =IF(AO72=0,Var!$B$8,IF(LARGE(D72:AM72,1)>=575,Var!$B$4," ")) -> --- | BB72: =IF(AO72=0,Var!$B$8,IF(LARGE(D72:AM72,1)>=580,Var!$B$4," ")) -> --- | BC72: =IF(AO72=0,Var!$B$8,IF(LARGE(D72:AM72,1)>=585,Var!$B$4," ")) -> ---
C73: Compound S1H | AP73: =IF(AO73<3," ",(LARGE(D73:AM73,1)+LARGE(D73:AM73,2)+LARGE(D73:AM73,3))/3)
AO74: =COUNT(D74:AM74) -> 0 | AP74: =IF(AO74<3," ",(LARGE(D74:AM74,1)+LARGE(D74:AM74,2)+LARGE(D74:AM74,3))/3) | AQ74: =IF(COUNTIF(D74:AM74,"(1)")=0," ",COUNTIF(D74:AM74,"(1)")) | AR74: =IF(COUNTIF(D74:AM74,"(2)")=0," ",COUNTIF(D74:AM74,"(2)")) | AS74: =IF(COUNTIF(D74:AM74,"(3)")=0," ",COUNTIF(D74:AM74,"(3)")) | AT74: =IF(SUM(AQ74:AS74)=0," ",SUM(AQ74:AS74)) | AU74: =IF(AO74=0,Var!$B$8,IF(LARGE(D74:AM74,1)>=540,Var!$B$4," ")) -> --- | AV74: =IF(AO74=0,Var!$B$8,IF(LARGE(D74:AM74,1)>=550,Var!$B$4," ")) -> --- | AW74: =IF(AO74=0,Var!$B$8,IF(LARGE(D74:AM74,1)>=555,Var!$B$4," ")) -> --- | AX74: =IF(AO74=0,Var!$B$8,IF(LARGE(D74:AM74,1)>=560,Var!$B$4," ")) -> --- | AY74: =IF(AO74=0,Var!$B$8,IF(LARGE(D74:AM74,1)>=565,Var!$B$4," ")) -> --- | AZ74: =IF(AO74=0,Var!$B$8,IF(LARGE(D74:AM74,1)>=570,Var!$B$4," ")) -> --- | BA74: =IF(AO74=0,Var!$B$8,IF(LARGE(D74:AM74,1)>=575,Var!$B$4," ")) -> --- | BB74: =IF(AO74=0,Var!$B$8,IF(LARGE(D74:AM74,1)>=580,Var!$B$4," ")) -> --- | BC74: =IF(AO74=0,Var!$B$8,IF(LARGE(D74:AM74,1)>=585,Var!$B$4," ")) -> ---
C75: STRYJEK Julien | AO75: =COUNT(D75:AM75) -> 0 | AP75: =IF(AO75<3," ",(LARGE(D75:AM75,1)+LARGE(D75:AM75,2)+LARGE(D75:AM75,3))/3) | AQ75: =IF(COUNTIF(D75:AM75,"(1)")=0," ",COUNTIF(D75:AM75,"(1)")) | AR75: =IF(COUNTIF(D75:AM75,"(2)")=0," ",COUNTIF(D75:AM75,"(2)")) | AS75: =IF(COUNTIF(D75:AM75,"(3)")=0," ",COUNTIF(D75:AM75,"(3)")) | AT75: =IF(SUM(AQ75:AS75)=0," ",SUM(AQ75:AS75)) | AU75: =IF(AO75=0,Var!$B$8,IF(LARGE(D75:AM75,1)>=540,Var!$B$4," ")) -> --- | AV75: =IF(AO75=0,Var!$B$8,IF(LARGE(D75:AM75,1)>=550,Var!$B$4," ")) -> --- | AW75: =IF(AO75=0,Var!$B$8,IF(LARGE(D75:AM75,1)>=555,Var!$B$4," ")) -> --- | AX75: =IF(AO75=0,Var!$B$8,IF(LARGE(D75:AM75,1)>=560,Var!$B$4," ")) -> --- | AY75: =IF(AO75=0,Var!$B$8,IF(LARGE(D75:AM75,1)>=565,Var!$B$4," ")) -> --- | AZ75: =IF(AO75=0,Var!$B$8,IF(LARGE(D75:AM75,1)>=570,Var!$B$4," ")) -> --- | BA75: =IF(AO75=0,Var!$B$8,IF(LARGE(D75:AM75,1)>=575,Var!$B$4," ")) -> --- | BB75: =IF(AO75=0,Var!$B$8,IF(LARGE(D75:AM75,1)>=580,Var!$B$4," ")) -> --- | BC75: =IF(AO75=0,Var!$B$8,IF(LARGE(D75:AM75,1)>=585,Var!$B$4," ")) -> ---
C76: Senior 2 Homme Compound | AP76: =IF(AO76<3," ",(LARGE(D76:AM76,1)+LARGE(D76:AM76,2)+LARGE(D76:AM76,3))/3)
B77: 1 | C77: DEMANGE Damien | AO77: =COUNT(D77:AM77) -> 0 | AP77: =IF(AO77<3," ",(LARGE(D77:AM77,1)+LARGE(D77:AM77,2)+LARGE(D77:AM77,3))/3) | AQ77: =IF(COUNTIF(D77:AM77,"(1)")=0," ",COUNTIF(D77:AM77,"(1)")) | AR77: =IF(COUNTIF(D77:AM77,"(2)")=0," ",COUNTIF(D77:AM77,"(2)")) | AS77: =IF(COUNTIF(D77:AM77,"(3)")=0," ",COUNTIF(D77:AM77,"(3)")) | AT77: =IF(SUM(AQ77:AS77)=0," ",SUM(AQ77:AS77)) | AU77: 21 | AV77: 21 | AW77: 21 | AX77: 21 | AY77: 21 | AZ77: 26 | BA77: =IF(AO77=0,Var!$B$8,IF(LARGE(D77:AM77,1)>=575,Var!$B$4," ")) -> --- | BB77: =IF(AO77=0,Var!$B$8,IF(LARGE(D77:AM77,1)>=580,Var!$B$4," ")) -> --- | BC77: =IF(AO77=0,Var!$B$8,IF(LARGE(D77:AM77,1)>=585,Var!$B$4," ")) -> ---
B78: 1 | C78: BOULANGER Emmanuel | AO78: =COUNT(D78:AM78) -> 0 | AP78: =IF(AO78<3," ",(LARGE(D78:AM78,1)+LARGE(D78:AM78,2)+LARGE(D78:AM78,3))/3) | AQ78: =IF(COUNTIF(D78:AM78,"(1)")=0," ",COUNTIF(D78:AM78,"(1)")) | AR78: =IF(COUNTIF(D78:AM78,"(2)")=0," ",COUNTIF(D78:AM78,"(2)")) | AS78: =IF(COUNTIF(D78:AM78,"(3)")=0," ",COUNTIF(D78:AM78,"(3)")) | AT78: =IF(SUM(AQ78:AS78)=0," ",SUM(AQ78:AS78)) | AU78: 26 | AV78: 26 | AW78: 26 | AX78: =IF(AO78=0,Var!$B$8,IF(LARGE(D78:AM78,1)>=560,Var!$B$4," ")) -> --- | AY78: =IF(AO78=0,Var!$B$8,IF(LARGE(D78:AM78,1)>=565,Var!$B$4," ")) -> --- | AZ78: =IF(AO78=0,Var!$B$8,IF(LARGE(D78:AM78,1)>=570,Var!$B$4," ")) -> --- | BA78: =IF(AO78=0,Var!$B$8,IF(LARGE(D78:AM78,1)>=575,Var!$B$4," ")) -> --- | BB78: =IF(AO78=0,Var!$B$8,IF(LARGE(D78:AM78,1)>=580,Var!$B$4," ")) -> --- | BC78: =IF(AO78=0,Var!$B$8,IF(LARGE(D78:AM78,1)>=585,Var!$B$4," ")) -> ---
C79: Senior 3 Homme Compound | AP79: =IF(AO79<3," ",(LARGE(D79:AM79,1)+LARGE(D79:AM79,2)+LARGE(D79:AM79,3))/3)
C80: CHAIRON Daniel | AO80: =COUNT(D80:AM80) -> 0 | AP80: =IF(AO80<3," ",(LARGE(D80:AM80,1)+LARGE(D80:AM80,2)+LARGE(D80:AM80,3))/3) | AQ80: =IF(COUNTIF(D80:AM80,"(1)")=0," ",COUNTIF(D80:AM80,"(1)")) | AR80: =IF(COUNTIF(D80:AM80,"(2)")=0," ",COUNTIF(D80:AM80,"(2)")) | AS80: =IF(COUNTIF(D80:AM80,"(3)")=0," ",COUNTIF(D80:AM80,"(3)")) | AT80: =IF(SUM(AQ80:AS80)=0," ",SUM(AQ80:AS80)) | AU80: 22 | AV80: 22 | AW80: =IF(AO80=0,Var!$B$8,IF(LARGE(D80:AM80,1)>=555,Var!$B$4," ")) -> --- | AX80: =IF(AO80=0,Var!$B$8,IF(LARGE(D80:AM80,1)>=560,Var!$B$4," ")) -> --- | AY80: =IF(AO80=0,Var!$B$8,IF(LARGE(D80:AM80,1)>=565,Var!$B$4," ")) -> --- | AZ80: =IF(AO80=0,Var!$B$8,IF(LARGE(D80:AM80,1)>=570,Var!$B$4," ")) -> --- | BA80: =IF(AO80=0,Var!$B$8,IF(LARGE(D80:AM80,1)>=575,Var!$B$4," ")) -> --- | BB80: =IF(AO80=0,Var!$B$8,IF(LARGE(D80:AM80,1)>=580,Var!$B$4," ")) -> --- | BC80: =IF(AO80=0,Var!$B$8,IF(LARGE(D80:AM80,1)>=585,Var!$B$4," ")) -> ---
C81: GOGIBUS Alain | AO81: =COUNT(D81:AM81) -> 0 | AP81: =IF(AO81<3," ",(LARGE(D81:AM81,1)+LARGE(D81:AM81,2)+LARGE(D81:AM81,3))/3) | AQ81: =IF(COUNTIF(D81:AM81,"(1)")=0," ",COUNTIF(D81:AM81,"(1)")) | AR81: =IF(COUNTIF(D81:AM81,"(2)")=0," ",COUNTIF(D81:AM81,"(2)")) | AS81: =IF(COUNTIF(D81:AM81,"(3)")=0," ",COUNTIF(D81:AM81,"(3)")) | AT81: =IF(SUM(AQ81:AS81)=0," ",SUM(AQ81:AS81)) | AU81: 18 | AV81: 18 | AW81: 18 | AX81: 18 | AY81: 18 | AZ81: =IF(AO81=0,Var!$B$8,IF(LARGE(D81:AM81,1)>=570,Var!$B$4," ")) -> --- | BA81: =IF(AO81=0,Var!$B$8,IF(LARGE(D81:AM81,1)>=575,Var!$B$4," ")) -> --- | BB81: =IF(AO81=0,Var!$B$8,IF(LARGE(D81:AM81,1)>=580,Var!$B$4," ")) -> --- | BC81: =IF(AO81=0,Var!$B$8,IF(LARGE(D81:AM81,1)>=585,Var!$B$4," ")) -> ---
B82: 1 | C82: HOUWER jean-Marc | AO82: =COUNT(D82:AM82) -> 0 | AP82: =IF(AO82<3," ",(LARGE(D82:AM82,1)+LARGE(D82:AM82,2)+LARGE(D82:AM82,3))/3) | AQ82: =IF(COUNTIF(D82:AM82,"(1)")=0," ",COUNTIF(D82:AM82,"(1)")) | AR82: =IF(COUNTIF(D82:AM82,"(2)")=0," ",COUNTIF(D82:AM82,"(2)")) | AS82: =IF(COUNTIF(D82:AM82,"(3)")=0," ",COUNTIF(D82:AM82,"(3)")) | AT82: =IF(SUM(AQ82:AS82)=0," ",SUM(AQ82:AS82)) | AU82: =IF(AO82=0,Var!$B$8,IF(LARGE(D82:AM82,1)>=540,Var!$B$4," ")) -> --- | AV82: =IF(AO82=0,Var!$B$8,IF(LARGE(D82:AM82,1)>=550,Var!$B$4," ")) -> --- | AW82: =IF(AO82=0,Var!$B$8,IF(LARGE(D82:AM82,1)>=555,Var!$B$4," ")) -> --- | AX82: =IF(AO82=0,Var!$B$8,IF(LARGE(D82:AM82,1)>=560,Var!$B$4," ")) -> --- | AY82: =IF(AO82=0,Var!$B$8,IF(LARGE(D82:AM82,1)>=565,Var!$B$4," ")) -> --- | AZ82: =IF(AO82=0,Var!$B$8,IF(LARGE(D82:AM82,1)>=570,Var!$B$4," ")) -> --- | BA82: =IF(AO82=0,Var!$B$8,IF(LARGE(D82:AM82,1)>=575,Var!$B$4," ")) -> --- | BB82: =IF(AO82=0,Var!$B$8,IF(LARGE(D82:AM82,1)>=580,Var!$B$4," ")) -> --- | BC82: =IF(AO82=0,Var!$B$8,IF(LARGE(D82:AM82,1)>=585,Var!$B$4," ")) -> ---
C83: PERREUX Norbert | AO83: =COUNT(D83:AM83) -> 0 | AP83: =IF(AO83<3," ",(LARGE(D83:AM83,1)+LARGE(D83:AM83,2)+LARGE(D83:AM83,3))/3) | AQ83: =IF(COUNTIF(D83:AM83,"(1)")=0," ",COUNTIF(D83:AM83,"(1)")) | AR83: =IF(COUNTIF(D83:AM83,"(2)")=0," ",COUNTIF(D83:AM83,"(2)")) | AS83: =IF(COUNTIF(D83:AM83,"(3)")=0," ",COUNTIF(D83:AM83,"(3)")) | AT83: =IF(SUM(AQ83:AS83)=0," ",SUM(AQ83:AS83)) | AU83: 18 | AV83: 18 | AW83: =IF(AO83=0,Var!$B$8,IF(LARGE(D83:AM83,1)>=555,Var!$B$4," ")) -> --- | AX83: =IF(AO83=0,Var!$B$8,IF(LARGE(D83:AM83,1)>=560,Var!$B$4," ")) -> --- | AY83: =IF(AO83=0,Var!$B$8,IF(LARGE(D83:AM83,1)>=565,Var!$B$4," ")) -> --- | AZ83: =IF(AO83=0,Var!$B$8,IF(LARGE(D83:AM83,1)>=570,Var!$B$4," ")) -> --- | BA83: =IF(AO83=0,Var!$B$8,IF(LARGE(D83:AM83,1)>=575,Var!$B$4," ")) -> --- | BB83: =IF(AO83=0,Var!$B$8,IF(LARGE(D83:AM83,1)>=580,Var!$B$4," ")) -> --- | BC83: =IF(AO83=0,Var!$B$8,IF(LARGE(D83:AM83,1)>=585,Var!$B$4," ")) -> ---
B84: 1 | C84: SALAUN Hervé | AO84: =COUNT(D84:AM84) -> 0 | AP84: =IF(AO84<3," ",(LARGE(D84:AM84,1)+LARGE(D84:AM84,2)+LARGE(D84:AM84,3))/3) | AQ84: =IF(COUNTIF(D84:AM84,"(1)")=0," ",COUNTIF(D84:AM84,"(1)")) | AR84: =IF(COUNTIF(D84:AM84,"(2)")=0," ",COUNTIF(D84:AM84,"(2)")) | AS84: =IF(COUNTIF(D84:AM84,"(3)")=0," ",COUNTIF(D84:AM84,"(3)")) | AT84: =IF(SUM(AQ84:AS84)=0," ",SUM(AQ84:AS84)) | AU84: 18 | AV84: 18 | AW84: 18 | AX84: 18 | AY84: 18 | AZ84: 18 | BA84: =IF(AO84=0,Var!$B$8,IF(LARGE(D84:AM84,1)>=575,Var!$B$4," ")) -> --- | BB84: =IF(AO84=0,Var!$B$8,IF(LARGE(D84:AM84,1)>=580,Var!$B$4," ")) -> --- | BC84: =IF(AO84=0,Var!$B$8,IF(LARGE(D84:AM84,1)>=585,Var!$B$4," ")) -> ---
C86: Nombre d'Archer participants aux concours FFTA : | J86: =COUNT(B8:B104) -> 23 | AO86: =SUM(AO8:AO85) -> 0 | AQ86: =SUM(AQ8:AQ85) -> 0 | AR86: =SUM(AR8:AR85) -> 0 | AS86: =SUM(AS8:AS85) -> 0 | AT86: =SUM(AT8:AT85) -> 0 | AY86: =IF((LARGE(J86:AQ86,1))>=450,"12"," ")

Sheet EXTERIEUR
AB4: Moy | AC4: Moy | AD4: Podiums | AH4: Ecussons FFTA
AB6: /3 | AC6: /3 | AD6: Or | AE6: Ag | AF6: Br | AG6: Tt | AH6: 480 | AI6: 510 | AJ6: 535 | AK6: 560 | AL6: 585 | AM6: 605 | AN6: 625 | AO6: 645
L8: INTERNATIONAL
C9: U15 Femme Classique-40m
AB10: =COUNT(D10:AA10) -> 0 | AC10: =IF(AB10<3," ",(LARGE(C10:AA10,1)+LARGE(C10:AA10,2)+LARGE(C10:AA10,3))/3) | AD10: =IF(COUNTIF(D10:AA10,"(1)")=0," ",COUNTIF(D10:AA10,"(1)")) | AE10: =IF(COUNTIF(D10:AA10,"(2)")=0," ",COUNTIF(D10:AA10,"(2)")) | AF10: =IF(COUNTIF(D10:AA10,"(3)")=0," ",COUNTIF(D10:AA10,"(3)")) | AG10: =IF(SUM(AD10:AF10)=0," ",SUM(AD10:AF10)) | AH10: =IF(AB10=0,Var!$B$8,IF(LARGE(D10:AA10,1)>=480,Var!$B$4," ")) -> --- | AI10: =IF(AB10=0,Var!$B$8,IF(LARGE(D10:AA10,1)>=510,Var!$B$4," ")) -> --- | AJ10: =IF(AB10=0,Var!$B$8,IF(LARGE(D10:AA10,1)>=535,Var!$B$4," ")) -> --- | AK10: =IF(AB10=0,Var!$B$8,IF(LARGE(D10:AA10,1)>=560,Var!$B$4," ")) -> --- | AL10: =IF(AB10=0,Var!$B$8,IF(LARGE(D10:AA10,1)>=585,Var!$B$4," ")) -> --- | AM10: =IF(AB10=0,Var!$B$8,IF(LARGE(D10:AA10,1)>=605,Var!$B$4," ")) -> --- | AN10: =IF(AB10=0,Var!$B$8,IF(LARGE(D10:AA10,1)>=625,Var!$B$4," ")) -> --- | AO10: =IF(AB10=0,Var!$B$8,IF(LARGE(D10:AA10,1)>=645,Var!$B$4," ")) -> ---
C11: U15 Homme Classique-40m | AC11: =IF(AB11<3," ",(LARGE(C11:AA11,1)+LARGE(C11:AA11,2)+LARGE(C11:AA11,3))/3)
AB12: =COUNT(D12:AA12) -> 0 | AC12: =IF(AB12<3," ",(LARGE(C12:AA12,1)+LARGE(C12:AA12,2)+LARGE(C12:AA12,3))/3) | AD12: =IF(COUNTIF(D12:AA12,"(1)")=0," ",COUNTIF(D12:AA12,"(1)")) | AE12: =IF(COUNTIF(D12:AA12,"(2)")=0," ",COUNTIF(D12:AA12,"(2)")) | AF12: =IF(COUNTIF(D12:AA12,"(3)")=0," ",COUNTIF(D12:AA12,"(3)")) | AG12: =IF(SUM(AD12:AF12)=0," ",SUM(AD12:AF12)) | AH12: =IF(AB12=0,Var!$B$8,IF(LARGE(D12:AA12,1)>=480,Var!$B$4," ")) -> --- | AI12: =IF(AB12=0,Var!$B$8,IF(LARGE(D12:AA12,1)>=510,Var!$B$4," ")) -> --- | AJ12: =IF(AB12=0,Var!$B$8,IF(LARGE(D12:AA12,1)>=535,Var!$B$4," ")) -> --- | AK12: =IF(AB12=0,Var!$B$8,IF(LARGE(D12:AA12,1)>=560,Var!$B$4," ")) -> --- | AL12: =IF(AB12=0,Var!$B$8,IF(LARGE(D12:AA12,1)>=585,Var!$B$4," ")) -> --- | AM12: =IF(AB12=0,Var!$B$8,IF(LARGE(D12:AA12,1)>=605,Var!$B$4," ")) -> --- | AN12: =IF(AB12=0,Var!$B$8,IF(LARGE(D12:AA12,1)>=625,Var!$B$4," ")) -> --- | AO12: =IF(AB12=0,Var!$B$8,IF(LARGE(D12:AA12,1)>=645,Var!$B$4," ")) -> ---
C13: U18 Femme Classique-60m
AB14: =COUNT(D14:AA14) -> 0 | AC14: =IF(AB14<3," ",(LARGE(C14:AA14,1)+LARGE(C14:AA14,2)+LARGE(C14:AA14,3))/3) | AD14: =IF(COUNTIF(D14:AA14,"(1)")=0," ",COUNTIF(D14:AA14,"(1)")) | AE14: =IF(COUNTIF(D14:AA14,"(2)")=0," ",COUNTIF(D14:AA14,"(2)")) | AF14: =IF(COUNTIF(D14:AA14,"(3)")=0," ",COUNTIF(D14:AA14,"(3)")) | AG14: =IF(SUM(AD14:AF14)=0," ",SUM(AD14:AF14)) | AH14: =IF(AB14=0,Var!$B$8,IF(LARGE(D14:AA14,1)>=480,Var!$B$4," ")) -> --- | AI14: =IF(AB14=0,Var!$B$8,IF(LARGE(D14:AA14,1)>=510,Var!$B$4," ")) -> --- | AJ14: =IF(AB14=0,Var!$B$8,IF(LARGE(D14:AA14,1)>=535,Var!$B$4," ")) -> --- | AK14: =IF(AB14=0,Var!$B$8,IF(LARGE(D14:AA14,1)>=560,Var!$B$4," ")) -> --- | AL14: =IF(AB14=0,Var!$B$8,IF(LARGE(D14:AA14,1)>=585,Var!$B$4," ")) -> --- | AM14: =IF(AB14=0,Var!$B$8,IF(LARGE(D14:AA14,1)>=605,Var!$B$4," ")) -> --- | AN14: =IF(AB14=0,Var!$B$8,IF(LARGE(D14:AA14,1)>=625,Var!$B$4," ")) -> --- | AO14: =IF(AB14=0,Var!$B$8,IF(LARGE(D14:AA14,1)>=645,Var!$B$4," ")) -> ---
C15: U18 Homme Classique-60m
AB16: =COUNT(D16:AA16) -> 0 | AC16: =IF(AB16<3," ",(LARGE(C16:AA16,1)+LARGE(C16:AA16,2)+LARGE(C16:AA16,3))/3) | AD16: =IF(COUNTIF(D16:AA16,"(1)")=0," ",COUNTIF(D16:AA16,"(1)")) | AE16: =IF(COUNTIF(D16:AA16,"(2)")=0," ",COUNTIF(D16:AA16,"(2)")) | AF16: =IF(COUNTIF(D16:AA16,"(3)")=0," ",COUNTIF(D16:AA16,"(3)")) | AG16: =IF(SUM(AD16:AF16)=0," ",SUM(AD16:AF16)) | AH16: =IF(AB16=0,Var!$B$8,IF(LARGE(D16:AA16,1)>=480,Var!$B$4," ")) -> --- | AI16: =IF(AB16=0,Var!$B$8,IF(LARGE(D16:AA16,1)>=510,Var!$B$4," ")) -> --- | AJ16: =IF(AB16=0,Var!$B$8,IF(LARGE(D16:AA16,1)>=535,Var!$B$4," ")) -> --- | AK16: =IF(AB16=0,Var!$B$8,IF(LARGE(D16:AA16,1)>=560,Var!$B$4," ")) -> --- | AL16: =IF(AB16=0,Var!$B$8,IF(LARGE(D16:AA16,1)>=585,Var!$B$4," ")) -> --- | AM16: =IF(AB16=0,Var!$B$8,IF(LARGE(D16:AA16,1)>=605,Var!$B$4," ")) -> --- | AN16: =IF(AB16=0,Var!$B$8,IF(LARGE(D16:AA16,1)>=625,Var!$B$4," ")) -> --- | AO16: =IF(AB16=0,Var!$B$8,IF(LARGE(D16:AA16,1)>=645,Var!$B$4," ")) -> ---
C17: Senior 1 Femme Classique-70m | AC17: =IF(AB17<3," ",(LARGE(C17:AA17,1)+LARGE(C17:AA17,2)+LARGE(C17:AA17,3))/3)
AB18: =COUNT(D18:AA18) -> 0 | AD18: =IF(COUNTIF(D18:AA18,"(1)")=0," ",COUNTIF(D18:AA18,"(1)")) | AE18: =IF(COUNTIF(D18:AA18,"(2)")=0," ",COUNTIF(D18:AA18,"(2)")) | AF18: =IF(COUNTIF(D18:AA18,"(3)")=0," ",COUNTIF(D18:AA18,"(3)")) | AG18: =IF(SUM(AD18:AF18)=0," ",SUM(AD18:AF18)) | AH18: =IF(AB18=0,Var!$B$8,IF(LARGE(D18:AA18,1)>=480,Var!$B$4," ")) -> --- | AI18: =IF(AB18=0,Var!$B$8,IF(LARGE(D18:AA18,1)>=510,Var!$B$4," ")) -> --- | AJ18: =IF(AB18=0,Var!$B$8,IF(LARGE(D18:AA18,1)>=535,Var!$B$4," ")) -> --- | AK18: =IF(AB18=0,Var!$B$8,IF(LARGE(D18:AA18,1)>=560,Var!$B$4," ")) -> --- | AL18: =IF(AB18=0,Var!$B$8,IF(LARGE(D18:AA18,1)>=585,Var!$B$4," ")) -> --- | AM18: =IF(AB18=0,Var!$B$8,IF(LARGE(D18:AA18,1)>=605,Var!$B$4," ")) -> --- | AN18: =IF(AB18=0,Var!$B$8,IF(LARGE(D18:AA18,1)>=625,Var!$B$4," ")) -> --- | AO18: =IF(AB18=0,Var!$B$8,IF(LARGE(D18:AA18,1)>=645,Var!$B$4," ")) -> ---
AB19: =COUNT(D19:AA19) -> 0 | AD19: =IF(COUNTIF(D19:AA19,"(1)")=0," ",COUNTIF(D19:AA19,"(1)")) | AE19: =IF(COUNTIF(D19:AA19,"(2)")=0," ",COUNTIF(D19:AA19,"(2)")) | AF19: =IF(COUNTIF(D19:AA19,"(3)")=0," ",COUNTIF(D19:AA19,"(3)")) | AG19: =IF(SUM(AD19:AF19)=0," ",SUM(AD19:AF19)) | AH19: =IF(AB19=0,Var!$B$8,IF(LARGE(D19:AA19,1)>=480,Var!$B$4," ")) -> --- | AI19: =IF(AB19=0,Var!$B$8,IF(LARGE(D19:AA19,1)>=510,Var!$B$4," ")) -> --- | AJ19: =IF(AB19=0,Var!$B$8,IF(LARGE(D19:AA19,1)>=535,Var!$B$4," ")) -> --- | AK19: =IF(AB19=0,Var!$B$8,IF(LARGE(D19:AA19,1)>=560,Var!$B$4," ")) -> --- | AL19: =IF(AB19=0,Var!$B$8,IF(LARGE(D19:AA19,1)>=585,Var!$B$4," ")) -> --- | AM19: =IF(AB19=0,Var!$B$8,IF(LARGE(D19:AA19,1)>=605,Var!$B$4," ")) -> --- | AN19: =IF(AB19=0,Var!$B$8,IF(LARGE(D19:AA19,1)>=625,Var!$B$4," ")) -> --- | AO19: =IF(AB19=0,Var!$B$8,IF(LARGE(D19:AA19,1)>=645,Var!$B$4," ")) -> ---
C20: Senior 1 Homme Classique-70m | AC20: =IF(AB20<3," ",(LARGE(C20:AA20,1)+LARGE(C20:AA20,2)+LARGE(C20:AA20,3))/3)
C21: MONFLIER Geoffrey | AB21: =COUNT(D21:AA21) -> 0 | AC21: =IF(AB21<3," ",(LARGE(C21:AA21,1)+LARGE(C21:AA21,2)+LARGE(C21:AA21,3))/3) | AD21: =IF(COUNTIF(D21:AA21,"(1)")=0," ",COUNTIF(D21:AA21,"(1)")) | AE21: =IF(COUNTIF(D21:AA21,"(2)")=0," ",COUNTIF(D21:AA21,"(2)")) | AF21: =IF(COUNTIF(D21:AA21,"(3)")=0," ",COUNTIF(D21:AA21,"(3)")) | AG21: =IF(SUM(AD21:AF21)=0," ",SUM(AD21:AF21)) | AH21: =IF(AB21=0,Var!$B$8,IF(LARGE(D21:AA21,1)>=480,Var!$B$4," ")) -> --- | AI21: =IF(AB21=0,Var!$B$8,IF(LARGE(D21:AA21,1)>=510,Var!$B$4," ")) -> --- | AJ21: =IF(AB21=0,Var!$B$8,IF(LARGE(D21:AA21,1)>=535,Var!$B$4," ")) -> --- | AK21: =IF(AB21=0,Var!$B$8,IF(LARGE(D21:AA21,1)>=560,Var!$B$4," ")) -> --- | AL21: =IF(AB21=0,Var!$B$8,IF(LARGE(D21:AA21,1)>=585,Var!$B$4," ")) -> --- | AM21: =IF(AB21=0,Var!$B$8,IF(LARGE(D21:AA21,1)>=605,Var!$B$4," ")) -> --- | AN21: =IF(AB21=0,Var!$B$8,IF(LARGE(D21:AA21,1)>=625,Var!$B$4," ")) -> --- | AO21: =IF(AB21=0,Var!$B$8,IF(LARGE(D21:AA21,1)>=645,Var!$B$4," ")) -> ---
AB22: =COUNT(D22:AA22) -> 0 | AD22: =IF(COUNTIF(D22:AA22,"(1)")=0," ",COUNTIF(D22:AA22,"(1)")) | AE22: =IF(COUNTIF(D22:AA22,"(2)")=0," ",COUNTIF(D22:AA22,"(2)")) | AF22: =IF(COUNTIF(D22:AA22,"(3)")=0," ",COUNTIF(D22:AA22,"(3)")) | AG22: =IF(SUM(AD22:AF22)=0," ",SUM(AD22:AF22)) | AH22: =IF(AB22=0,Var!$B$8,IF(LARGE(D22:AA22,1)>=480,Var!$B$4," ")) -> --- | AI22: =IF(AB22=0,Var!$B$8,IF(LARGE(D22:AA22,1)>=510,Var!$B$4," ")) -> --- | AJ22: =IF(AB22=0,Var!$B$8,IF(LARGE(D22:AA22,1)>=535,Var!$B$4," ")) -> --- | AK22: =IF(AB22=0,Var!$B$8,IF(LARGE(D22:AA22,1)>=560,Var!$B$4," ")) -> --- | AL22: =IF(AB22=0,Var!$B$8,IF(LARGE(D22:AA22,1)>=585,Var!$B$4," ")) -> --- | AM22: =IF(AB22=0,Var!$B$8,IF(LARGE(D22:AA22,1)>=605,Var!$B$4," ")) -> --- | AN22: =IF(AB22=0,Var!$B$8,IF(LARGE(D22:AA22,1)>=625,Var!$B$4," ")) -> --- | AO22: =IF(AB22=0,Var!$B$8,IF(LARGE(D22:AA22,1)>=645,Var!$B$4," ")) -> ---
C23: Senior 2 Femme Classique-70m | AC23: =IF(AB23<3," ",(LARGE(C23:AA23,1)+LARGE(C23:AA23,2)+LARGE(C23:AA23,3))/3)
AB24: =COUNT(D24:AA24) -> 0 | AC24: =IF(AB24<3," ",(LARGE(C24:AA24,1)+LARGE(C24:AA24,2)+LARGE(C24:AA24,3))/3) | AD24: =IF(COUNTIF(D24:AA24,"(1)")=0," ",COUNTIF(D24:AA24,"(1)")) | AE24: =IF(COUNTIF(D24:AA24,"(2)")=0," ",COUNTIF(D24:AA24,"(2)")) | AF24: =IF(COUNTIF(D24:AA24,"(3)")=0," ",COUNTIF(D24:AA24,"(3)")) | AG24: =IF(SUM(AD24:AF24)=0," ",SUM(AD24:AF24)) | AH24: =IF(AB24=0,Var!$B$8,IF(LARGE(D24:AA24,1)>=480,Var!$B$4," ")) -> --- | AI24: =IF(AB24=0,Var!$B$8,IF(LARGE(D24:AA24,1)>=510,Var!$B$4," ")) -> --- | AJ24: =IF(AB24=0,Var!$B$8,IF(LARGE(D24:AA24,1)>=535,Var!$B$4," ")) -> --- | AK24: =IF(AB24=0,Var!$B$8,IF(LARGE(D24:AA24,1)>=560,Var!$B$4," ")) -> --- | AL24: =IF(AB24=0,Var!$B$8,IF(LARGE(D24:AA24,1)>=585,Var!$B$4," ")) -> --- | AM24: =IF(AB24=0,Var!$B$8,IF(LARGE(D24:AA24,1)>=605,Var!$B$4," ")) -> --- | AN24: =IF(AB24=0,Var!$B$8,IF(LARGE(D24:AA24,1)>=625,Var!$B$4," ")) -> --- | AO24: =IF(AB24=0,Var!$B$8,IF(LARGE(D24:AA24,1)>=645,Var!$B$4," ")) -> ---
AB25: =COUNT(D25:AA25) -> 0 | AD25: =IF(COUNTIF(D25:AA25,"(1)")=0," ",COUNTIF(D25:AA25,"(1)")) | AE25: =IF(COUNTIF(D25:AA25,"(2)")=0," ",COUNTIF(D25:AA25,"(2)")) | AF25: =IF(COUNTIF(D25:AA25,"(3)")=0," ",COUNTIF(D25:AA25,"(3)")) | AG25: =IF(SUM(AD25:AF25)=0," ",SUM(AD25:AF25)) | AH25: =IF(AB25=0,Var!$B$8,IF(LARGE(D25:AA25,1)>=480,Var!$B$4," ")) -> --- | AI25: =IF(AB25=0,Var!$B$8,IF(LARGE(D25:AA25,1)>=510,Var!$B$4," ")) -> --- | AJ25: =IF(AB25=0,Var!$B$8,IF(LARGE(D25:AA25,1)>=535,Var!$B$4," ")) -> --- | AK25: =IF(AB25=0,Var!$B$8,IF(LARGE(D25:AA25,1)>=560,Var!$B$4," ")) -> --- | AL25: =IF(AB25=0,Var!$B$8,IF(LARGE(D25:AA25,1)>=585,Var!$B$4," ")) -> --- | AM25: =IF(AB25=0,Var!$B$8,IF(LARGE(D25:AA25,1)>=605,Var!$B$4," ")) -> --- | AN25: =IF(AB25=0,Var!$B$8,IF(LARGE(D25:AA25,1)>=625,Var!$B$4," ")) -> --- | AO25: =IF(AB25=0,Var!$B$8,IF(LARGE(D25:AA25,1)>=645,Var!$B$4," ")) -> ---
C26: Senior 2 Homme Classique-70m | AC26: =IF(AB26<3," ",(LARGE(C26:AA26,1)+LARGE(C26:AA26,2)+LARGE(C26:AA26,3))/3)
AH27: =IF(AB27=0,Var!$B$8,IF(LARGE(D27:AA27,1)>=480,Var!$B$4," ")) -> --- | AI27: =IF(AB27=0,Var!$B$8,IF(LARGE(D27:AA27,1)>=510,Var!$B$4," ")) -> --- | AJ27: =IF(AB27=0,Var!$B$8,IF(LARGE(D27:AA27,1)>=535,Var!$B$4," ")) -> --- | AK27: =IF(AB27=0,Var!$B$8,IF(LARGE(D27:AA27,1)>=560,Var!$B$4," ")) -> --- | AL27: =IF(AB27=0,Var!$B$8,IF(LARGE(D27:AA27,1)>=585,Var!$B$4," ")) -> --- | AM27: =IF(AB27=0,Var!$B$8,IF(LARGE(D27:AA27,1)>=605,Var!$B$4," ")) -> --- | AN27: =IF(AB27=0,Var!$B$8,IF(LARGE(D27:AA27,1)>=625,Var!$B$4," ")) -> --- | AO27: =IF(AB27=0,Var!$B$8,IF(LARGE(D27:AA27,1)>=645,Var!$B$4," ")) -> ---
AB28: =COUNT(D28:AA28) -> 0 | AC28: =IF(AB28<3," ",(LARGE(C28:AA28,1)+LARGE(C28:AA28,2)+LARGE(C28:AA28,3))/3) | AD28: =IF(COUNTIF(D28:AA28,"(1)")=0," ",COUNTIF(D28:AA28,"(1)")) | AE28: =IF(COUNTIF(D28:AA28,"(2)")=0," ",COUNTIF(D28:AA28,"(2)")) | AF28: =IF(COUNTIF(D28:AA28,"(3)")=0," ",COUNTIF(D28:AA28,"(3)")) | AG28: =IF(SUM(AD28:AF28)=0," ",SUM(AD28:AF28)) | AH28: =IF(AB28=0,Var!$B$8,IF(LARGE(D28:AA28,1)>=480,Var!$B$4," ")) -> --- | AI28: =IF(AB28=0,Var!$B$8,IF(LARGE(D28:AA28,1)>=510,Var!$B$4," ")) -> --- | AJ28: =IF(AB28=0,Var!$B$8,IF(LARGE(D28:AA28,1)>=535,Var!$B$4," ")) -> --- | AK28: =IF(AB28=0,Var!$B$8,IF(LARGE(D28:AA28,1)>=560,Var!$B$4," ")) -> --- | AL28: =IF(AB28=0,Var!$B$8,IF(LARGE(D28:AA28,1)>=585,Var!$B$4," ")) -> --- | AM28: =IF(AB28=0,Var!$B$8,IF(LARGE(D28:AA28,1)>=605,Var!$B$4," ")) -> --- | AN28: =IF(AB28=0,Var!$B$8,IF(LARGE(D28:AA28,1)>=625,Var!$B$4," ")) -> --- | AO28: =IF(AB28=0,Var!$B$8,IF(LARGE(D28:AA28,1)>=645,Var!$B$4," ")) -> ---
C29: Senior 3 Homme Classique-60m | AC29: =IF(AB29<3," ",(LARGE(C29:AA29,1)+LARGE(C29:AA29,2)+LARGE(C29:AA29,3))/3)
C30: PHULPIN Pascal | AB30: =COUNT(D30:AA30) -> 0 | AC30: =IF(AB30<3," ",(LARGE(C30:AA30,1)+LARGE(C30:AA30,2)+LARGE(C30:AA30,3))/3) | AD30: =IF(COUNTIF(D30:AA30,"(1)")=0," ",COUNTIF(D30:AA30,"(1)")) | AE30: =IF(COUNTIF(D30:AA30,"(2)")=0," ",COUNTIF(D30:AA30,"(2)")) | AF30: =IF(COUNTIF(D30:AA30,"(3)")=0," ",COUNTIF(D30:AA30,"(3)")) | AG30: =IF(SUM(AD30:AF30)=0," ",SUM(AD30:AF30)) | AH30: 23 | AI30: 23 | AJ30: 23 | AK30: 23 | AL30: =IF(AB30=0,Var!$B$8,IF(LARGE(D30:AA30,1)>=585,Var!$B$4," ")) -> --- | AM30: =IF(AB30=0,Var!$B$8,IF(LARGE(D30:AA30,1)>=605,Var!$B$4," ")) -> --- | AN30: =IF(AB30=0,Var!$B$8,IF(LARGE(D30:AA30,1)>=625,Var!$B$4," ")) -> --- | AO30: =IF(AB30=0,Var!$B$8,IF(LARGE(D30:AA30,1)>=645,Var!$B$4," ")) -> ---
AC31: =IF(AB31<3," ",(LARGE(C31:AA31,1)+LARGE(C31:AA31,2)+LARGE(C31:AA31,3))/3)
AC32: =IF(AB32<3," ",(LARGE(C32:AA32,1)+LARGE(C32:AA32,2)+LARGE(C32:AA32,3))/3) | AD32: Or | AE32: Ag | AF32: Br | AG32: Tt | AH32: 620 | AI32: 635 | AJ32: 645 | AK32: 655 | AL32: 665 | AM32: 675 | AN32: 685 | AO32: 695
C33: Junior Homme Compound | AC33: =IF(AB33<3," ",(LARGE(C33:AA33,1)+LARGE(C33:AA33,2)+LARGE(C33:AA33,3))/3)
AB34: =COUNT(D34:AA34) -> 0 | AC34: =IF(AB34<3," ",(LARGE(C34:AA34,1)+LARGE(C34:AA34,2)+LARGE(C34:AA34,3))/3) | AD34: =IF(COUNTIF(D34:AA34,"(1)")=0," ",COUNTIF(D34:AA34,"(1)")) | AE34: =IF(COUNTIF(D34:AA34,"(2)")=0," ",COUNTIF(D34:AA34,"(2)")) | AF34: =IF(COUNTIF(D34:AA34,"(3)")=0," ",COUNTIF(D34:AA34,"(3)")) | AG34: =IF(SUM(AD34:AF34)=0," ",SUM(AD34:AF34)) | AH34: =IF(AB34=0,Var!$B$8,IF(LARGE(D34:AA34,1)>=620,Var!$B$4," ")) -> --- | AI34: =IF(AB34=0,Var!$B$8,IF(LARGE(D34:AA34,1)>=635,Var!$B$4," ")) -> --- | AJ34: =IF(AB34=0,Var!$B$8,IF(LARGE(D34:AA34,1)>=645,Var!$B$4," ")) -> --- | AK34: =IF(AB34=0,Var!$B$8,IF(LARGE(D34:AA34,1)>=655,Var!$B$4," ")) -> --- | AL34: =IF(AB34=0,Var!$B$8,IF(LARGE(D34:AA34,1)>=665,Var!$B$4," ")) -> --- | AM34: =IF(AB34=0,Var!$B$8,IF(LARGE(D34:AA34,1)>=675,Var!$B$4," ")) -> --- | AN34: =IF(AB34=0,Var!$B$8,IF(LARGE(D34:AA34,1)>=685,Var!$B$4," ")) -> --- | AO34: =IF(AB34=0,Var!$B$8,IF(LARGE(D34:AA34,1)>=695,Var!$B$4," ")) -> ---
AB35: =COUNT(D35:AA35) -> 0 | AC35: =IF(AB35<3," ",(LARGE(C35:AA35,1)+LARGE(C35:AA35,2)+LARGE(C35:AA35,3))/3) | AD35: =IF(COUNTIF(D35:AA35,"(1)")=0," ",COUNTIF(D35:AA35,"(1)")) | AE35: =IF(COUNTIF(D35:AA35,"(2)")=0," ",COUNTIF(D35:AA35,"(2)")) | AF35: =IF(COUNTIF(D35:AA35,"(3)")=0," ",COUNTIF(D35:AA35,"(3)")) | AG35: =IF(SUM(AD35:AF35)=0," ",SUM(AD35:AF35)) | AH35: =IF(AB35=0,Var!$B$8,IF(LARGE(D35:AA35,1)>=620,Var!$B$4," ")) -> --- | AI35: =IF(AB35=0,Var!$B$8,IF(LARGE(D35:AA35,1)>=635,Var!$B$4," ")) -> --- | AJ35: =IF(AB35=0,Var!$B$8,IF(LARGE(D35:AA35,1)>=645,Var!$B$4," ")) -> --- | AK35: =IF(AB35=0,Var!$B$8,IF(LARGE(D35:AA35,1)>=655,Var!$B$4," ")) -> --- | AL35: =IF(AB35=0,Var!$B$8,IF(LARGE(D35:AA35,1)>=665,Var!$B$4," ")) -> --- | AM35: =IF(AB35=0,Var!$B$8,IF(LARGE(D35:AA35,1)>=675,Var!$B$4," ")) -> --- | AN35: =IF(AB35=0,Var!$B$8,IF(LARGE(D35:AA35,1)>=685,Var!$B$4," ")) -> --- | AO35: =IF(AB35=0,Var!$B$8,IF(LARGE(D35:AA35,1)>=695,Var!$B$4," ")) -> ---
C36: Senior 1 Homme Compound | AB36: =COUNT(D36:AA36) -> 0 | AC36: =IF(AB36<3," ",(LARGE(C36:AA36,1)+LARGE(C36:AA36,2)+LARGE(C36:AA36,3))/3)
C37: TORLET Teddy | AB37: =COUNT(D37:AA37) -> 0 | AC37: =IF(AB37<3," ",(LARGE(C37:AA37,1)+LARGE(C37:AA37,2)+LARGE(C37:AA37,3))/3) | AD37: =IF(COUNTIF(D37:AA37,"(1)")=0," ",COUNTIF(D37:AA37,"(1)")) | AE37: =IF(COUNTIF(D37:AA37,"(2)")=0," ",COUNTIF(D37:AA37,"(2)")) | AF37: =IF(COUNTIF(D37:AA37,"(3)")=0," ",COUNTIF(D37:AA37,"(3)")) | AG37: =IF(SUM(AD37:AF37)=0," ",SUM(AD37:AF37)) | AH37: 4 | AI37: 4 | AJ37: 5 | AK37: 6 | AL37: 8 | AM37: 8 | AN37: 17 | AO37: =IF(AB37=0,Var!$B$8,IF(LARGE(D37:AA37,1)>=695,Var!$B$4," ")) -> ---
C38: STRYJEK Julien | AB38: =COUNT(D38:AA38) -> 0 | AC38: =IF(AB38<3," ",(LARGE(C38:AA38,1)+LARGE(C38:AA38,2)+LARGE(C38:AA38,3))/3) | AD38: =IF(COUNTIF(D38:AA38,"(1)")=0," ",COUNTIF(D38:AA38,"(1)")) | AE38: =IF(COUNTIF(D38:AA38,"(2)")=0," ",COUNTIF(D38:AA38,"(2)")) | AF38: =IF(COUNTIF(D38:AA38,"(3)")=0," ",COUNTIF(D38:AA38,"(3)")) | AG38: =IF(SUM(AD38:AF38)=0," ",SUM(AD38:AF38)) | AH38: =IF(AB38=0,Var!$B$8,IF(LARGE(D38:AA38,1)>=620,Var!$B$4," ")) -> --- | AI38: =IF(AB38=0,Var!$B$8,IF(LARGE(D38:AA38,1)>=635,Var!$B$4," ")) -> --- | AJ38: =IF(AB38=0,Var!$B$8,IF(LARGE(D38:AA38,1)>=645,Var!$B$4," ")) -> --- | AK38: =IF(AB38=0,Var!$B$8,IF(LARGE(D38:AA38,1)>=655,Var!$B$4," ")) -> --- | AL38: =IF(AB38=0,Var!$B$8,IF(LARGE(D38:AA38,1)>=665,Var!$B$4," ")) -> --- | AM38: =IF(AB38=0,Var!$B$8,IF(LARGE(D38:AA38,1)>=675,Var!$B$4," ")) -> --- | AN38: =IF(AB38=0,Var!$B$8,IF(LARGE(D38:AA38,1)>=685,Var!$B$4," ")) -> --- | AO38: =IF(AB38=0,Var!$B$8,IF(LARGE(D38:AA38,1)>=695,Var!$B$4," ")) -> ---
C39: Senior 2 Homme Compound | AB39: =COUNT(D39:AA39) -> 0 | AC39: =IF(AB39<3," ",(LARGE(C39:AA39,1)+LARGE(C39:AA39,2)+LARGE(C39:AA39,3))/3)
C40: BOULANGER Emmanuel | AB40: =COUNT(D40:AA40) -> 0 | AC40: =IF(AB40<3," ",(LARGE(C40:AA40,1)+LARGE(C40:AA40,2)+LARGE(C40:AA40,3))/3) | AD40: =IF(COUNTIF(D40:AA40,"(1)")=0," ",COUNTIF(D40:AA40,"(1)")) | AE40: =IF(COUNTIF(D40:AA40,"(2)")=0," ",COUNTIF(D40:AA40,"(2)")) | AF40: =IF(COUNTIF(D40:AA40,"(3)")=0," ",COUNTIF(D40:AA40,"(3)")) | AG40: =IF(SUM(AD40:AF40)=0," ",SUM(AD40:AF40)) | AH40: 24 | AI40: 24 | AJ40: 24 | AK40: 24 | AL40: 24 | AM40: 24 | AN40: =IF(AB40=0,Var!$B$8,IF(LARGE(D40:AA40,1)>=685,Var!$B$4," ")) -> --- | AO40: =IF(AB40=0,Var!$B$8,IF(LARGE(D40:AA40,1)>=695,Var!$B$4," ")) -> ---
B41: 1 | C41: DEMANGE Damien | AB41: =COUNT(D41:AA41) -> 0 | AC41: =IF(AB41<3," ",(LARGE(C41:AA41,1)+LARGE(C41:AA41,2)+LARGE(C41:AA41,3))/3) | AD41: =IF(COUNTIF(D41:AA41,"(1)")=0," ",COUNTIF(D41:AA41,"(1)")) | AE41: =IF(COUNTIF(D41:AA41,"(2)")=0," ",COUNTIF(D41:AA41,"(2)")) | AF41: =IF(COUNTIF(D41:AA41,"(3)")=0," ",COUNTIF(D41:AA41,"(3)")) | AG41: =IF(SUM(AD41:AF41)=0," ",SUM(AD41:AF41)) | AH41: 24 | AI41: 24 | AJ41: 26 | AK41: 26 | AL41: 26 | AM41: =IF(AB41=0,Var!$B$8,IF(LARGE(D41:AA41,1)>=675,Var!$B$4," ")) -> --- | AN41: =IF(AB41=0,Var!$B$8,IF(LARGE(D41:AA41,1)>=685,Var!$B$4," ")) -> --- | AO41: =IF(AB41=0,Var!$B$8,IF(LARGE(D41:AA41,1)>=695,Var!$B$4," ")) -> ---
C42: SALAUN Hervé | AB42: =COUNT(D42:AA42) -> 0 | AC42: =IF(AB42<3," ",(LARGE(C42:AA42,1)+LARGE(C42:AA42,2)+LARGE(C42:AA42,3))/3) | AD42: =IF(COUNTIF(D42:AA42,"(1)")=0," ",COUNTIF(D42:AA42,"(1)")) | AE42: =IF(COUNTIF(D42:AA42,"(2)")=0," ",COUNTIF(D42:AA42,"(2)")) | AF42: =IF(COUNTIF(D42:AA42,"(3)")=0," ",COUNTIF(D42:AA42,"(3)")) | AG42: =IF(SUM(AD42:AF42)=0," ",SUM(AD42:AF42)) | AH42: 21 | AI42: 21 | AJ42: 21 | AK42: =IF(AB42=0,Var!$B$8,IF(LARGE(D42:AA42,1)>=655,Var!$B$4," ")) -> --- | AL42: =IF(AB42=0,Var!$B$8,IF(LARGE(D42:AA42,1)>=665,Var!$B$4," ")) -> --- | AM42: =IF(AB42=0,Var!$B$8,IF(LARGE(D42:AA42,1)>=675,Var!$B$4," ")) -> --- | AN42: =IF(AB42=0,Var!$B$8,IF(LARGE(D42:AA42,1)>=685,Var!$B$4," ")) -> --- | AO42: =IF(AB42=0,Var!$B$8,IF(LARGE(D42:AA42,1)>=695,Var!$B$4," ")) -> ---
C43: Senior 3 Femme Compound | AB43: =COUNT(D43:AA43) -> 0 | AC43: =IF(AB43<3," ",(LARGE(C43:AA43,1)+LARGE(C43:AA43,2)+LARGE(C43:AA43,3))/3)
B44: 1 | C44: HOUWER Françoise | AB44: =COUNT(D44:AA44) -> 0 | AC44: =IF(AB44<3," ",(LARGE(C44:AA44,1)+LARGE(C44:AA44,2)+LARGE(C44:AA44,3))/3) | AD44: =IF(COUNTIF(D44:AA44,"(1)")=0," ",COUNTIF(D44:AA44,"(1)")) | AE44: =IF(COUNTIF(D44:AA44,"(2)")=0," ",COUNTIF(D44:AA44,"(2)")) | AF44: =IF(COUNTIF(D44:AA44,"(3)")=0," ",COUNTIF(D44:AA44,"(3)")) | AG44: =IF(SUM(AD44:AF44)=0," ",SUM(AD44:AF44)) | AH44: =IF(AB44=0,Var!$B$8,IF(LARGE(D44:AA44,1)>=620,Var!$B$4," ")) -> --- | AI44: =IF(AB44=0,Var!$B$8,IF(LARGE(D44:AA44,1)>=635,Var!$B$4," ")) -> --- | AJ44: =IF(AB44=0,Var!$B$8,IF(LARGE(D44:AA44,1)>=645,Var!$B$4," ")) -> --- | AK44: =IF(AB44=0,Var!$B$8,IF(LARGE(D44:AA44,1)>=655,Var!$B$4," ")) -> --- | AL44: =IF(AB44=0,Var!$B$8,IF(LARGE(D44:AA44,1)>=665,Var!$B$4," ")) -> --- | AM44: =IF(AB44=0,Var!$B$8,IF(LARGE(D44:AA44,1)>=675,Var!$B$4," ")) -> --- | AN44: =IF(AB44=0,Var!$B$8,IF(LARGE(D44:AA44,1)>=685,Var!$B$4," ")) -> --- | AO44: =IF(AB44=0,Var!$B$8,IF(LARGE(D44:AA44,1)>=695,Var!$B$4," ")) -> ---
C45: Senior 3 Homme Compound | AB45: =COUNT(D45:AA45) -> 0 | AC45: =IF(AB45<3," ",(LARGE(C45:AA45,1)+LARGE(C45:AA45,2)+LARGE(C45:AA45,3))/3)
C46: GOGIBUS Alain | AB46: =COUNT(D46:AA46) -> 0 | AC46: =IF(AB46<3," ",(LARGE(C46:AA46,1)+LARGE(C46:AA46,2)+LARGE(C46:AA46,3))/3) | AD46: =IF(COUNTIF(D46:AA46,"(1)")=0," ",COUNTIF(D46:AA46,"(1)")) | AE46: =IF(COUNTIF(D46:AA46,"(2)")=0," ",COUNTIF(D46:AA46,"(2)")) | AF46: =IF(COUNTIF(D46:AA46,"(3)")=0," ",COUNTIF(D46:AA46,"(3)")) | AG46: =IF(SUM(AD46:AF46)=0," ",SUM(AD46:AF46)) | AH46: 6 | AI46: 6 | AJ46: 7 | AK46: 9 | AL46: =IF(AB46=0,Var!$B$8,IF(LARGE(D46:AA46,1)>=665,Var!$B$4," ")) -> --- | AM46: =IF(AB46=0,Var!$B$8,IF(LARGE(D46:AA46,1)>=675,Var!$B$4," ")) -> --- | AN46: =IF(AB46=0,Var!$B$8,IF(LARGE(D46:AA46,1)>=685,Var!$B$4," ")) -> --- | AO46: =IF(AB46=0,Var!$B$8,IF(LARGE(D46:AA46,1)>=695,Var!$B$4," ")) -> ---
C47: HOUWER Jean-Marc | AB47: =COUNT(D47:AA47) -> 0 | AD47: =IF(COUNTIF(D47:AA47,"(1)")=0," ",COUNTIF(D47:AA47,"(1)")) | AE47: =IF(COUNTIF(D47:AA47,"(2)")=0," ",COUNTIF(D47:AA47,"(2)")) | AF47: =IF(COUNTIF(D47:AA47,"(3)")=0," ",COUNTIF(D47:AA47,"(3)")) | AG47: =IF(SUM(AD47:AF47)=0," ",SUM(AD47:AF47)) | AH47: =IF(AB47=0,Var!$B$8,IF(LARGE(D47:AA47,1)>=620,Var!$B$4," ")) -> --- | AI47: =IF(AB47=0,Var!$B$8,IF(LARGE(D47:AA47,1)>=635,Var!$B$4," ")) -> --- | AJ47: =IF(AB47=0,Var!$B$8,IF(LARGE(D47:AA47,1)>=645,Var!$B$4," ")) -> --- | AK47: =IF(AB47=0,Var!$B$8,IF(LARGE(D47:AA47,1)>=655,Var!$B$4," ")) -> --- | AL47: =IF(AB47=0,Var!$B$8,IF(LARGE(D47:AA47,1)>=665,Var!$B$4," ")) -> --- | AM47: =IF(AB47=0,Var!$B$8,IF(LARGE(D47:AA47,1)>=675,Var!$B$4," ")) -> --- | AN47: =IF(AB47=0,Var!$B$8,IF(LARGE(D47:AA47,1)>=685,Var!$B$4," ")) -> --- | AO47: =IF(AB47=0,Var!$B$8,IF(LARGE(D47:AA47,1)>=695,Var!$B$4," ")) -> ---
C48: PERREUX Norbert | AB48: =COUNT(D48:AA48) -> 0 | AC48: =IF(AB48<3," ",(LARGE(C48:AA48,1)+LARGE(C48:AA48,2)+LARGE(C48:AA48,3))/3) | AD48: =IF(COUNTIF(D48:AA48,"(1)")=0," ",COUNTIF(D48:AA48,"(1)")) | AE48: =IF(COUNTIF(D48:AA48,"(2)")=0," ",COUNTIF(D48:AA48,"(2)")) | AF48: =IF(COUNTIF(D48:AA48,"(3)")=0," ",COUNTIF(D48:AA48,"(3)")) | AG48: =IF(SUM(AD48:AF48)=0," ",SUM(AD48:AF48)) | AH48: 9 | AI48: 9 | AJ48: 9 | AK48: =IF(AB48=0,Var!$B$8,IF(LARGE(D48:AA48,1)>=655,Var!$B$4," ")) -> --- | AL48: =IF(AB48=0,Var!$B$8,IF(LARGE(D48:AA48,1)>=665,Var!$B$4," ")) -> --- | AM48: =IF(AB48=0,Var!$B$8,IF(LARGE(D48:AA48,1)>=675,Var!$B$4," ")) -> --- | AN48: =IF(AB48=0,Var!$B$8,IF(LARGE(D48:AA48,1)>=685,Var!$B$4," ")) -> --- | AO48: =IF(AB48=0,Var!$B$8,IF(LARGE(D48:AA48,1)>=695,Var!$B$4," ")) -> ---
C49: REMOLU Jean-Michel | AB49: =COUNT(D49:AA49) -> 0 | AC49: =IF(AB49<3," ",(LARGE(C49:AA49,1)+LARGE(C49:AA49,2)+LARGE(C49:AA49,3))/3) | AD49: =IF(COUNTIF(D49:AA49,"(1)")=0," ",COUNTIF(D49:AA49,"(1)")) | AE49: =IF(COUNTIF(D49:AA49,"(2)")=0," ",COUNTIF(D49:AA49,"(2)")) | AF49: =IF(COUNTIF(D49:AA49,"(3)")=0," ",COUNTIF(D49:AA49,"(3)")) | AG49: =IF(SUM(AD49:AF49)=0," ",SUM(AD49:AF49)) | AH49: =IF(AB49=0,Var!$B$8,IF(LARGE(D49:AA49,1)>=620,Var!$B$4," ")) -> --- | AI49: =IF(AB49=0,Var!$B$8,IF(LARGE(D49:AA49,1)>=635,Var!$B$4," ")) -> --- | AJ49: =IF(AB49=0,Var!$B$8,IF(LARGE(D49:AA49,1)>=645,Var!$B$4," ")) -> --- | AK49: =IF(AB49=0,Var!$B$8,IF(LARGE(D49:AA49,1)>=655,Var!$B$4," ")) -> --- | AL49: =IF(AB49=0,Var!$B$8,IF(LARGE(D49:AA49,1)>=665,Var!$B$4," ")) -> --- | AM49: =IF(AB49=0,Var!$B$8,IF(LARGE(D49:AA49,1)>=675,Var!$B$4," ")) -> --- | AN49: =IF(AB49=0,Var!$B$8,IF(LARGE(D49:AA49,1)>=685,Var!$B$4," ")) -> --- | AO49: =IF(AB49=0,Var!$B$8,IF(LARGE(D49:AA49,1)>=695,Var!$B$4," ")) -> ---
L50: 50M - 122 | AC50: =IF(AB50<3," ",(LARGE(C50:AA50,1)+LARGE(C50:AA50,2)+LARGE(C50:AA50,3))/3) | AD50: Podiums | AH50: Ecussons FFTA
AC51: =IF(AB51<3," ",(LARGE(C51:AA51,1)+LARGE(C51:AA51,2)+LARGE(C51:AA51,3))/3) | AD51: Or | AE51: Ag | AF51: Br | AG51: Tt | AH51: 500 | AI51: 550 | AJ51: 600 | AK51: 640 | AL51: 670
C52: U13 Homme classique | AC52: =IF(AB52<3," ",(LARGE(C52:AA52,1)+LARGE(C52:AA52,2)+LARGE(C52:AA52,3))/3)
B53: 1 | C53: FROTTE Maxime | AB53: =COUNT(D53:AA53) -> 0 | AC53: =IF(AB53<3," ",(LARGE(C53:AA53,1)+LARGE(C53:AA53,2)+LARGE(C53:AA53,3))/3) | AD53: =IF(COUNTIF(D53:AA53,"(1)")=0," ",COUNTIF(D53:AA53,"(1)")) | AE53: =IF(COUNTIF(D53:AA53,"(2)")=0," ",COUNTIF(D53:AA53,"(2)")) | AF53: =IF(COUNTIF(D53:AA53,"(3)")=0," ",COUNTIF(D53:AA53,"(3)")) | AG53: =IF(SUM(AD53:AF53)=0," ",SUM(AD53:AF53)) | AH53: 24 | AI53: =IF(AB53=0,Var!$B$8,IF(LARGE(D53:AA53,1)>=550,Var!$B$4," ")) -> --- | AJ53: =IF(AB53=0,Var!$B$8,IF(LARGE(D53:AA53,1)>=600,Var!$B$4," ")) -> --- | AK53: =IF(AB53=0,Var!$B$8,IF(LARGE(D53:AA53,1)>=640,Var!$B$4," ")) -> --- | AL53: =IF(AB53=0,Var!$B$8,IF(LARGE(D53:AA53,1)>=670,Var!$B$4," ")) -> ---
C54: U13 Femme classique | AC54: =IF(AB54<3," ",(LARGE(C54:AA54,1)+LARGE(C54:AA54,2)+LARGE(C54:AA54,3))/3)
AB55: =COUNT(D55:AA55) -> 0 | AC55: =IF(AB55<3," ",(LARGE(C55:AA55,1)+LARGE(C55:AA55,2)+LARGE(C55:AA55,3))/3) | AD55: =IF(COUNTIF(D55:AA55,"(1)")=0," ",COUNTIF(D55:AA55,"(1)")) | AE55: =IF(COUNTIF(D55:AA55,"(2)")=0," ",COUNTIF(D55:AA55,"(2)")) | AF55: =IF(COUNTIF(D55:AA55,"(3)")=0," ",COUNTIF(D55:AA55,"(3)")) | AG55: =IF(SUM(AD55:AF55)=0," ",SUM(AD55:AF55)) | AH55: =IF(AB55=0,Var!$B$8,IF(LARGE(D55:AA55,1)>=500,Var!$B$4," ")) -> --- | AI55: =IF(AB55=0,Var!$B$8,IF(LARGE(D55:AA55,1)>=550,Var!$B$4," ")) -> --- | AJ55: =IF(AB55=0,Var!$B$8,IF(LARGE(D55:AA55,1)>=600,Var!$B$4," ")) -> --- | AK55: =IF(AB55=0,Var!$B$8,IF(LARGE(D55:AA55,1)>=640,Var!$B$4," ")) -> --- | AL55: =IF(AB55=0,Var!$B$8,IF(LARGE(D55:AA55,1)>=670,Var!$B$4," ")) -> ---
C56: U13 Homme classique | AC56: =IF(AB56<3," ",(LARGE(C56:AA56,1)+LARGE(C56:AA56,2)+LARGE(C56:AA56,3))/3)
AB57: =COUNT(D57:AA57) -> 0 | AC57: =IF(AB57<3," ",(LARGE(C57:AA57,1)+LARGE(C57:AA57,2)+LARGE(C57:AA57,3))/3) | AD57: =IF(COUNTIF(D57:AA57,"(1)")=0," ",COUNTIF(D57:AA57,"(1)")) | AE57: =IF(COUNTIF(D57:AA57,"(2)")=0," ",COUNTIF(D57:AA57,"(2)")) | AF57: =IF(COUNTIF(D57:AA57,"(3)")=0," ",COUNTIF(D57:AA57,"(3)")) | AG57: =IF(SUM(AD57:AF57)=0," ",SUM(AD57:AF57)) | AH57: =IF(AB57=0,Var!$B$8,IF(LARGE(D57:AA57,1)>=500,Var!$B$4," ")) -> --- | AI57: =IF(AB57=0,Var!$B$8,IF(LARGE(D57:AA57,1)>=550,Var!$B$4," ")) -> --- | AJ57: =IF(AB57=0,Var!$B$8,IF(LARGE(D57:AA57,1)>=600,Var!$B$4," ")) -> --- | AK57: =IF(AB57=0,Var!$B$8,IF(LARGE(D57:AA57,1)>=640,Var!$B$4," ")) -> --- | AL57: =IF(AB57=0,Var!$B$8,IF(LARGE(D57:AA57,1)>=670,Var!$B$4," ")) -> ---
C58: U15 Homme classique | AC58: =IF(AB58<3," ",(LARGE(C58:AA58,1)+LARGE(C58:AA58,2)+LARGE(C58:AA58,3))/3)
AB59: =COUNT(D59:AA59) -> 0 | AC59: =IF(AB59<3," ",(LARGE(C59:AA59,1)+LARGE(C59:AA59,2)+LARGE(C59:AA59,3))/3) | AD59: =IF(COUNTIF(D59:AA59,"(1)")=0," ",COUNTIF(D59:AA59,"(1)")) | AE59: =IF(COUNTIF(D59:AA59,"(2)")=0," ",COUNTIF(D59:AA59,"(2)")) | AF59: =IF(COUNTIF(D59:AA59,"(3)")=0," ",COUNTIF(D59:AA59,"(3)")) | AG59: =IF(SUM(AD59:AF59)=0," ",SUM(AD59:AF59)) | AH59: =IF(AB59=0,Var!$B$8,IF(LARGE(D59:AA59,1)>=500,Var!$B$4," ")) -> --- | AI59: =IF(AB59=0,Var!$B$8,IF(LARGE(D59:AA59,1)>=550,Var!$B$4," ")) -> --- | AJ59: =IF(AB59=0,Var!$B$8,IF(LARGE(D59:AA59,1)>=600,Var!$B$4," ")) -> --- | AK59: =IF(AB59=0,Var!$B$8,IF(LARGE(D59:AA59,1)>=640,Var!$B$4," ")) -> --- | AL59: =IF(AB59=0,Var!$B$8,IF(LARGE(D59:AA59,1)>=670,Var!$B$4," ")) -> ---
C60: U18Femme classique | AC60: =IF(AB60<3," ",(LARGE(C60:AA60,1)+LARGE(C60:AA60,2)+LARGE(C60:AA60,3))/3)
B61: 1 | C61: ZIEGELMEYER Katell | AB61: =COUNT(D61:AA61) -> 0 | AC61: =IF(AB61<3," ",(LARGE(C61:AA61,1)+LARGE(C61:AA61,2)+LARGE(C61:AA61,3))/3) | AD61: =IF(COUNTIF(D61:AA61,"(1)")=0," ",COUNTIF(D61:AA61,"(1)")) | AE61: =IF(COUNTIF(D61:AA61,"(2)")=0," ",COUNTIF(D61:AA61,"(2)")) | AF61: =IF(COUNTIF(D61:AA61,"(3)")=0," ",COUNTIF(D61:AA61,"(3)")) | AG61: =IF(SUM(AD61:AF61)=0," ",SUM(AD61:AF61)) | AH61: =IF(AB61=0,Var!$B$8,IF(LARGE(D61:AA61,1)>=500,Var!$B$4," ")) -> --- | AI61: =IF(AB61=0,Var!$B$8,IF(LARGE(D61:AA61,1)>=550,Var!$B$4," ")) -> --- | AJ61: =IF(AB61=0,Var!$B$8,IF(LARGE(D61:AA61,1)>=600,Var!$B$4," ")) -> --- | AK61: =IF(AB61=0,Var!$B$8,IF(LARGE(D61:AA61,1)>=640,Var!$B$4," ")) -> --- | AL61: =IF(AB61=0,Var!$B$8,IF(LARGE(D61:AA61,1)>=670,Var!$B$4," ")) -> ---
C62: Senior 1 Femme classique | AC62: =IF(AB62<3," ",(LARGE(C62:AA62,1)+LARGE(C62:AA62,2)+LARGE(C62:AA62,3))/3)
B63: 1 | C63: DAVY Charlène | AB63: =COUNT(D63:AA63) -> 0 | AC63: =IF(AB63<3," ",(LARGE(C63:AA63,1)+LARGE(C63:AA63,2)+LARGE(C63:AA63,3))/3) | AD63: =IF(COUNTIF(D63:AA63,"(1)")=0," ",COUNTIF(D63:AA63,"(1)")) | AE63: =IF(COUNTIF(D63:AA63,"(2)")=0," ",COUNTIF(D63:AA63,"(2)")) | AF63: =IF(COUNTIF(D63:AA63,"(3)")=0," ",COUNTIF(D63:AA63,"(3)")) | AG63: =IF(SUM(AD63:AF63)=0," ",SUM(AD63:AF63)) | AH63: 26 | AI63: 26 | AJ63: 26 | AK63: =IF(AB63=0,Var!$B$8,IF(LARGE(D63:AA63,1)>=640,Var!$B$4," ")) -> --- | AL63: =IF(AB63=0,Var!$B$8,IF(LARGE(D63:AA63,1)>=670,Var!$B$4," ")) -> --- | BI63: =IF(BH63<3," ",(LARGE(AP63:BF63,1)+LARGE(AP63:BF63,2)+LARGE(AP63:BF63,3))/3) | BJ63: =SUM(AD8:AD52) -> 0 | BK63: =SUM(AE8:AE62) -> 0 | BL63: =SUM(AF8:AF62) -> 0 | BM63: =SUM(AG8:AG62) -> 0 | BN63: =TODAY() -> 46278
B64: 1 | C64: KRAUSS Sarah | AB64: =COUNT(D64:AA64) -> 0 | AC64: =IF(AB64<3," ",(LARGE(C64:AA64,1)+LARGE(C64:AA64,2)+LARGE(C64:AA64,3))/3) | AD64: =IF(COUNTIF(D64:AA64,"(1)")=0," ",COUNTIF(D64:AA64,"(1)")) | AE64: =IF(COUNTIF(D64:AA64,"(2)")=0," ",COUNTIF(D64:AA64,"(2)")) | AF64: =IF(COUNTIF(D64:AA64,"(3)")=0," ",COUNTIF(D64:AA64,"(3)")) | AG64: =IF(SUM(AD64:AF64)=0," ",SUM(AD64:AF64)) | AH64: 26 | AI64: 26 | AJ64: =IF(AB64=0,Var!$B$8,IF(LARGE(D64:AA64,1)>=600,Var!$B$4," ")) -> --- | AK64: =IF(AB64=0,Var!$B$8,IF(LARGE(D64:AA64,1)>=640,Var!$B$4," ")) -> --- | AL64: =IF(AB64=0,Var!$B$8,IF(LARGE(D64:AA64,1)>=670,Var!$B$4," ")) -> ---
C65: Adultes H Arc Nu
C66: VALENTIN Grégory | AB66: =COUNT(D66:AA66) -> 0 | AC66: =IF(AB66<3," ",(LARGE(C66:AA66,1)+LARGE(C66:AA66,2)+LARGE(C66:AA66,3))/3) | AD66: =IF(COUNTIF(D66:AA66,"(1)")=0," ",COUNTIF(D66:AA66,"(1)")) | AE66: =IF(COUNTIF(D66:AA66,"(2)")=0," ",COUNTIF(D66:AA66,"(2)")) | AF66: =IF(COUNTIF(D66:AA66,"(3)")=0," ",COUNTIF(D66:AA66,"(3)")) | AG66: =IF(SUM(AD66:AF66)=0," ",SUM(AD66:AF66)) | AH66: 25 | AI66: 25 | AJ66: =IF(AB66=0,Var!$B$8,IF(LARGE(D66:AA66,1)>=600,Var!$B$4," ")) -> --- | AK66: =IF(AB66=0,Var!$B$8,IF(LARGE(D66:AA66,1)>=640,Var!$B$4," ")) -> --- | AL66: =IF(AB66=0,Var!$B$8,IF(LARGE(D66:AA66,1)>=670,Var!$B$4," ")) -> ---
C67: LHERMITTE William | AB67: =COUNT(D67:AA67) -> 0 | AC67: =IF(AB67<3," ",(LARGE(C67:AA67,1)+LARGE(C67:AA67,2)+LARGE(C67:AA67,3))/3) | AD67: =IF(COUNTIF(D67:AA67,"(1)")=0," ",COUNTIF(D67:AA67,"(1)")) | AE67: =IF(COUNTIF(D67:AA67,"(2)")=0," ",COUNTIF(D67:AA67,"(2)")) | AF67: =IF(COUNTIF(D67:AA67,"(3)")=0," ",COUNTIF(D67:AA67,"(3)")) | AG67: =IF(SUM(AD67:AF67)=0," ",SUM(AD67:AF67)) | AH67: 22 | AI67: =IF(AB67=0,Var!$B$8,IF(LARGE(D67:AA67,1)>=550,Var!$B$4," ")) -> --- | AJ67: =IF(AB67=0,Var!$B$8,IF(LARGE(D67:AA67,1)>=600,Var!$B$4," ")) -> --- | AK67: =IF(AB67=0,Var!$B$8,IF(LARGE(D67:AA67,1)>=640,Var!$B$4," ")) -> --- | AL67: =IF(AB67=0,Var!$B$8,IF(LARGE(D67:AA67,1)>=670,Var!$B$4," ")) -> ---
C68: Junior Homme classique | AC68: =IF(AB68<3," ",(LARGE(C68:AA68,1)+LARGE(C68:AA68,2)+LARGE(C68:AA68,3))/3) | BI68: =IF(BH68<3," ",(LARGE(AP68:BF68,1)+LARGE(AP68:BF68,2)+LARGE(AP68:BF68,3))/3)
AB69: =COUNT(D69:AA69) -> 0 | AC69: =IF(AB69<3," ",(LARGE(C69:AA69,1)+LARGE(C69:AA69,2)+LARGE(C69:AA69,3))/3) | AD69: =IF(COUNTIF(D69:AA69,"(1)")=0," ",COUNTIF(D69:AA69,"(1)")) | AE69: =IF(COUNTIF(D69:AA69,"(2)")=0," ",COUNTIF(D69:AA69,"(2)")) | AF69: =IF(COUNTIF(D69:AA69,"(3)")=0," ",COUNTIF(D69:AA69,"(3)")) | AG69: =IF(SUM(AD69:AF69)=0," ",SUM(AD69:AF69)) | AH69: =IF(AB69=0,Var!$B$8,IF(LARGE(D69:AA69,1)>=500,Var!$B$4," ")) -> --- | AI69: =IF(AB69=0,Var!$B$8,IF(LARGE(D69:AA69,1)>=550,Var!$B$4," ")) -> --- | AJ69: =IF(AB69=0,Var!$B$8,IF(LARGE(D69:AA69,1)>=600,Var!$B$4," ")) -> --- | AK69: =IF(AB69=0,Var!$B$8,IF(LARGE(D69:AA69,1)>=640,Var!$B$4," ")) -> --- | AL69: =IF(AB69=0,Var!$B$8,IF(LARGE(D69:AA69,1)>=670,Var!$B$4," ")) -> ---
C70: Senior1 Homme Classique | AC70: =IF(AB70<3," ",(LARGE(C70:AA70,1)+LARGE(C70:AA70,2)+LARGE(C70:AA70,3))/3) | BI70: =IF(BH70<3," ",(LARGE(AP70:BF70,1)+LARGE(AP70:BF70,2)+LARGE(AP70:BF70,3))/3)
AB71: =COUNT(D71:AA71) -> 0 | AC71: =IF(AB71<3," ",(LARGE(C71:AA71,1)+LARGE(C71:AA71,2)+LARGE(C71:AA71,3))/3) | AD71: =IF(COUNTIF(D71:AA71,"(1)")=0," ",COUNTIF(D71:AA71,"(1)")) | AE71: =IF(COUNTIF(D71:AA71,"(2)")=0," ",COUNTIF(D71:AA71,"(2)")) | AF71: =IF(COUNTIF(D71:AA71,"(3)")=0," ",COUNTIF(D71:AA71,"(3)")) | AG71: =IF(SUM(AD71:AF71)=0," ",SUM(AD71:AF71)) | AH71: =IF(AB71=0,Var!$B$8,IF(LARGE(D71:AA71,1)>=500,Var!$B$4," ")) -> --- | AI71: =IF(AB71=0,Var!$B$8,IF(LARGE(D71:AA71,1)>=550,Var!$B$4," ")) -> --- | AJ71: =IF(AB71=0,Var!$B$8,IF(LARGE(D71:AA71,1)>=600,Var!$B$4," ")) -> --- | AK71: =IF(AB71=0,Var!$B$8,IF(LARGE(D71:AA71,1)>=640,Var!$B$4," ")) -> --- | AL71: =IF(AB71=0,Var!$B$8,IF(LARGE(D71:AA71,1)>=670,Var!$B$4," ")) -> ---
C72: LAGNEAUX Quentin | AB72: =COUNT(D72:AA72) -> 0 | AC72: =IF(AB72<3," ",(LARGE(C72:AA72,1)+LARGE(C72:AA72,2)+LARGE(C72:AA72,3))/3) | AD72: =IF(COUNTIF(D72:AA72,"(1)")=0," ",COUNTIF(D72:AA72,"(1)")) | AE72: =IF(COUNTIF(D72:AA72,"(2)")=0," ",COUNTIF(D72:AA72,"(2)")) | AF72: =IF(COUNTIF(D72:AA72,"(3)")=0," ",COUNTIF(D72:AA72,"(3)")) | AG72: =IF(SUM(AD72:AF72)=0," ",SUM(AD72:AF72)) | AH72: 23 | AI72: 23 | AJ72: =IF(AB72=0,Var!$B$8,IF(LARGE(D72:AA72,1)>=600,Var!$B$4," ")) -> --- | AK72: =IF(AB72=0,Var!$B$8,IF(LARGE(D72:AA72,1)>=640,Var!$B$4," ")) -> --- | AL72: =IF(AB72=0,Var!$B$8,IF(LARGE(D72:AA72,1)>=670,Var!$B$4," ")) -> ---
C73: Senior 3 Femme Classique | AC73: =IF(AB73<3," ",(LARGE(C73:AA73,1)+LARGE(C73:AA73,2)+LARGE(C73:AA73,3))/3) | BI73: =IF(BH73<3," ",(LARGE(AP73:BF73,1)+LARGE(AP73:BF73,2)+LARGE(AP73:BF73,3))/3)
C74: VOLVERT Claudette | AB74: =COUNT(D74:AA74) -> 0 | AC74: =IF(AB74<3," ",(LARGE(C74:AA74,1)+LARGE(C74:AA74,2)+LARGE(C74:AA74,3))/3) | AD74: =IF(COUNTIF(D74:AA74,"(1)")=0," ",COUNTIF(D74:AA74,"(1)")) | AE74: =IF(COUNTIF(D74:AA74,"(2)")=0," ",COUNTIF(D74:AA74,"(2)")) | AF74: =IF(COUNTIF(D74:AA74,"(3)")=0," ",COUNTIF(D74:AA74,"(3)")) | AG74: =IF(SUM(AD74:AF74)=0," ",SUM(AD74:AF74)) | AH74: 4 | AI74: 4 | AJ74: =IF(AB74=0,Var!$B$8,IF(LARGE(D74:AA74,1)>=600,Var!$B$4," ")) -> --- | AK74: =IF(AB74=0,Var!$B$8,IF(LARGE(D74:AA74,1)>=640,Var!$B$4," ")) -> --- | AL74: =IF(AB74=0,Var!$B$8,IF(LARGE(D74:AA74,1)>=670,Var!$B$4," ")) -> --- | BI74: =IF(BH74<3," ",(LARGE(AP74:BF74,1)+LARGE(AP74:BF74,2)+LARGE(AP74:BF74,3))/3)
C75: Senior 2 Homme classique | AC75: =IF(AB75<3," ",(LARGE(C75:AA75,1)+LARGE(C75:AA75,2)+LARGE(C75:AA75,3))/3)
C76: MULLER Christian | AB76: =COUNT(D76:AA76) -> 0 | AC76: =IF(AB76<3," ",(LARGE(C76:AA76,1)+LARGE(C76:AA76,2)+LARGE(C76:AA76,3))/3) | AD76: =IF(COUNTIF(D76:AA76,"(1)")=0," ",COUNTIF(D76:AA76,"(1)")) | AE76: =IF(COUNTIF(D76:AA76,"(2)")=0," ",COUNTIF(D76:AA76,"(2)")) | AF76: =IF(COUNTIF(D76:AA76,"(3)")=0," ",COUNTIF(D76:AA76,"(3)")) | AG76: =IF(SUM(AD76:AF76)=0," ",SUM(AD76:AF76)) | AH76: 22 | AI76: 23 | AJ76: =IF(AB76=0,Var!$B$8,IF(LARGE(D76:AA76,1)>=600,Var!$B$4," ")) -> --- | AK76: =IF(AB76=0,Var!$B$8,IF(LARGE(D76:AA76,1)>=640,Var!$B$4," ")) -> --- | AL76: =IF(AB76=0,Var!$B$8,IF(LARGE(D76:AA76,1)>=670,Var!$B$4," ")) -> ---
C77: ZIEGELMEYER Damien | AB77: =COUNT(D77:AA77) -> 0 | AC77: =IF(AB77<3," ",(LARGE(C77:AA77,1)+LARGE(C77:AA77,2)+LARGE(C77:AA77,3))/3) | AD77: =IF(COUNTIF(D77:AA77,"(1)")=0," ",COUNTIF(D77:AA77,"(1)")) | AE77: =IF(COUNTIF(D77:AA77,"(2)")=0," ",COUNTIF(D77:AA77,"(2)")) | AF77: =IF(COUNTIF(D77:AA77,"(3)")=0," ",COUNTIF(D77:AA77,"(3)")) | AG77: =IF(SUM(AD77:AF77)=0," ",SUM(AD77:AF77)) | AH77: 23 | AI77: =IF(AB77=0,Var!$B$8,IF(LARGE(D77:AA77,1)>=550,Var!$B$4," ")) -> --- | AJ77: =IF(AB77=0,Var!$B$8,IF(LARGE(D77:AA77,1)>=600,Var!$B$4," ")) -> --- | AK77: =IF(AB77=0,Var!$B$8,IF(LARGE(D77:AA77,1)>=640,Var!$B$4," ")) -> --- | AL77: =IF(AB77=0,Var!$B$8,IF(LARGE(D77:AA77,1)>=670,Var!$B$4," ")) -> ---
AC78: =IF(AB78<3," ",(LARGE(C78:AA78,1)+LARGE(C78:AA78,2)+LARGE(C78:AA78,3))/3)
C79: Senior 3 homme classique | AC79: =IF(AB79<3," ",(LARGE(C79:AA79,1)+LARGE(C79:AA79,2)+LARGE(C79:AA79,3))/3)
C80: PHULPIN Pascal | AB80: =COUNT(D80:AA80) -> 0 | AC80: =IF(AB80<3," ",(LARGE(C80:AA80,1)+LARGE(C80:AA80,2)+LARGE(C80:AA80,3))/3) | AD80: =IF(COUNTIF(D80:AA80,"(1)")=0," ",COUNTIF(D80:AA80,"(1)")) | AE80: =IF(COUNTIF(D80:AA80,"(2)")=0," ",COUNTIF(D80:AA80,"(2)")) | AF80: =IF(COUNTIF(D80:AA80,"(3)")=0," ",COUNTIF(D80:AA80,"(3)")) | AG80: =IF(SUM(AD80:AF80)=0," ",SUM(AD80:AF80)) | AH80: 21 | AI80: 21 | AJ80: =IF(AB80=0,Var!$B$8,IF(LARGE(D80:AA80,1)>=600,Var!$B$4," ")) -> --- | AK80: =IF(AB80=0,Var!$B$8,IF(LARGE(D80:AA80,1)>=640,Var!$B$4," ")) -> --- | AL80: =IF(AB80=0,Var!$B$8,IF(LARGE(D80:AA80,1)>=670,Var!$B$4," ")) -> ---
AB81: =COUNT(D81:AA81) -> 0 | AC81: =IF(AB81<3," ",(LARGE(C81:AA81,1)+LARGE(C81:AA81,2)+LARGE(C81:AA81,3))/3) | AD81: =IF(COUNTIF(D81:AA81,"(1)")=0," ",COUNTIF(D81:AA81,"(1)")) | AE81: =IF(COUNTIF(D81:AA81,"(2)")=0," ",COUNTIF(D81:AA81,"(2)")) | AF81: =IF(COUNTIF(D81:AA81,"(3)")=0," ",COUNTIF(D81:AA81,"(3)")) | AG81: =IF(SUM(AD81:AF81)=0," ",SUM(AD81:AF81)) | AH81: =IF(AB81=0,Var!$B$8,IF(LARGE(D81:AA81,1)>=500,Var!$B$4," ")) -> --- | AI81: =IF(AB81=0,Var!$B$8,IF(LARGE(D81:AA81,1)>=550,Var!$B$4," ")) -> --- | AJ81: =IF(AB81=0,Var!$B$8,IF(LARGE(D81:AA81,1)>=600,Var!$B$4," ")) -> --- | AK81: =IF(AB81=0,Var!$B$8,IF(LARGE(D81:AA81,1)>=640,Var!$B$4," ")) -> --- | AL81: =IF(AB81=0,Var!$B$8,IF(LARGE(D81:AA81,1)>=670,Var!$B$4," ")) -> ---
AC82: =IF(AB82<3," ",(LARGE(C82:AA82,1)+LARGE(C82:AA82,2)+LARGE(C82:AA82,3))/3)
AC83: =IF(AB83<3," ",(LARGE(C83:AA83,1)+LARGE(C83:AA83,2)+LARGE(C83:AA83,3))/3) | AD83: Or | AE83: Ag | AF83: Br | AG83: Tt | AH83: 550 | AI83: 600 | AJ83: 640 | AK83: 670 | AL83: 690
C84: Jeune Homme Compound | AC84: =IF(AB84<3," ",(LARGE(C84:AA84,1)+LARGE(C84:AA84,2)+LARGE(C84:AA84,3))/3)
AB85: =COUNT(D85:AA85) -> 0 | AC85: =IF(AB85<3," ",(LARGE(C85:AA85,1)+LARGE(C85:AA85,2)+LARGE(C85:AA85,3))/3) | AD85: =IF(COUNTIF(D85:AA85,"(1)")=0," ",COUNTIF(D85:AA85,"(1)")) | AE85: =IF(COUNTIF(D85:AA85,"(2)")=0," ",COUNTIF(D85:AA85,"(2)")) | AF85: =IF(COUNTIF(D85:AA85,"(3)")=0," ",COUNTIF(D85:AA85,"(3)")) | AG85: =IF(SUM(AD85:AF85)=0," ",SUM(AD85:AF85)) | AH85: =IF(AB85=0,Var!$B$8,IF(LARGE(D85:AA85,1)>=550,Var!$B$4," ")) -> --- | AI85: =IF(AB85=0,Var!$B$8,IF(LARGE(D85:AA85,1)>=600,Var!$B$4," ")) -> --- | AJ85: =IF(AB85=0,Var!$B$8,IF(LARGE(D85:AA85,1)>=640,Var!$B$4," ")) -> --- | AK85: =IF(AB85=0,Var!$B$8,IF(LARGE(D85:AA85,1)>=670,Var!$B$4," ")) -> --- | AL85: =IF(AB85=0,Var!$B$8,IF(LARGE(D85:AA85,1)>=690,Var!$B$4," ")) -> ---
C86: Senior Femme Compound | AC86: =IF(AB86<3," ",(LARGE(C86:AA86,1)+LARGE(C86:AA86,2)+LARGE(C86:AA86,3))/3)
AB87: =COUNT(D87:AA87) -> 0 | AC87: =IF(AB87<3," ",(LARGE(C87:AA87,1)+LARGE(C87:AA87,2)+LARGE(C87:AA87,3))/3) | AD87: =IF(COUNTIF(D87:AA87,"(1)")=0," ",COUNTIF(D87:AA87,"(1)")) | AE87: =IF(COUNTIF(D87:AA87,"(2)")=0," ",COUNTIF(D87:AA87,"(2)")) | AF87: =IF(COUNTIF(D87:AA87,"(3)")=0," ",COUNTIF(D87:AA87,"(3)")) | AG87: =IF(SUM(AD87:AF87)=0," ",SUM(AD87:AF87)) | AH87: =IF(AB87=0,Var!$B$8,IF(LARGE(D87:AA87,1)>=550,Var!$B$4," ")) -> --- | AI87: =IF(AB87=0,Var!$B$8,IF(LARGE(D87:AA87,1)>=600,Var!$B$4," ")) -> --- | AJ87: =IF(AB87=0,Var!$B$8,IF(LARGE(D87:AA87,1)>=640,Var!$B$4," ")) -> --- | AK87: =IF(AB87=0,Var!$B$8,IF(LARGE(D87:AA87,1)>=670,Var!$B$4," ")) -> --- | AL87: =IF(AB87=0,Var!$B$8,IF(LARGE(D87:AA87,1)>=690,Var!$B$4," ")) -> ---
C88: Senior1 Homme Compound | AC88: =IF(AB88<3," ",(LARGE(C88:AA88,1)+LARGE(C88:AA88,2)+LARGE(C88:AA88,3))/3)
B89: 1 | C89: DEMANGE Damien | AB89: =COUNT(D89:AA89) -> 0 | AC89: =IF(AB89<3," ",(LARGE(C89:AA89,1)+LARGE(C89:AA89,2)+LARGE(C89:AA89,3))/3) | AD89: =IF(COUNTIF(D89:AA89,"(1)")=0," ",COUNTIF(D89:AA89,"(1)")) | AE89: =IF(COUNTIF(D89:AA89,"(2)")=0," ",COUNTIF(D89:AA89,"(2)")) | AF89: =IF(COUNTIF(D89:AA89,"(3)")=0," ",COUNTIF(D89:AA89,"(3)")) | AG89: =IF(SUM(AD89:AF89)=0," ",SUM(AD89:AF89)) | AH89: 21 | AI89: 21 | AJ89: 21 | AK89: 21 | AL89: 25
C90: STRYJEK Julien | AB90: =COUNT(D90:AA90) -> 0 | AC90: =IF(AB90<3," ",(LARGE(C90:AA90,1)+LARGE(C90:AA90,2)+LARGE(C90:AA90,3))/3) | AD90: =IF(COUNTIF(D90:AA90,"(1)")=0," ",COUNTIF(D90:AA90,"(1)")) | AE90: =IF(COUNTIF(D90:AA90,"(2)")=0," ",COUNTIF(D90:AA90,"(2)")) | AF90: =IF(COUNTIF(D90:AA90,"(3)")=0," ",COUNTIF(D90:AA90,"(3)")) | AG90: =IF(SUM(AD90:AF90)=0," ",SUM(AD90:AF90)) | AH90: 19 | AI90: 19 | AJ90: 21 | AK90: =IF(AB90=0,Var!$B$8,IF(LARGE(D90:AA90,1)>=670,Var!$B$4," ")) -> --- | AL90: =IF(AB90=0,Var!$B$8,IF(LARGE(D90:AA90,1)>=690,Var!$B$4," ")) -> ---
C91: Senior 3 Femmee Compound | AC91: =IF(AB91<3," ",(LARGE(C91:AA91,1)+LARGE(C91:AA91,2)+LARGE(C91:AA91,3))/3)
B92: 1 | C92: HOUWER Françoise | AB92: =COUNT(D92:AA92) -> 0 | AC92: =IF(AB92<3," ",(LARGE(C92:AA92,1)+LARGE(C92:AA92,2)+LARGE(C92:AA92,3))/3) | AD92: =IF(COUNTIF(D92:AA92,"(1)")=0," ",COUNTIF(D92:AA92,"(1)")) | AE92: =IF(COUNTIF(D92:AA92,"(2)")=0," ",COUNTIF(D92:AA92,"(2)")) | AF92: =IF(COUNTIF(D92:AA92,"(3)")=0," ",COUNTIF(D92:AA92,"(3)")) | AG92: =IF(SUM(AD92:AF92)=0," ",SUM(AD92:AF92)) | AH92: 25 | AI92: 25 | AJ92: 25 | AK92: =IF(AB92=0,Var!$B$8,IF(LARGE(D92:AA92,1)>=670,Var!$B$4," ")) -> --- | AL92: =IF(AB92=0,Var!$B$8,IF(LARGE(D92:AA92,1)>=690,Var!$B$4," ")) -> ---
AH93: =IF(AB93=0,Var!$B$8,IF(LARGE(D93:AA93,1)>=550,Var!$B$4," ")) -> --- | AI93: =IF(AB93=0,Var!$B$8,IF(LARGE(D93:AA93,1)>=600,Var!$B$4," ")) -> --- | AJ93: =IF(AB93=0,Var!$B$8,IF(LARGE(D93:AA93,1)>=640,Var!$B$4," ")) -> --- | AK93: =IF(AB93=0,Var!$B$8,IF(LARGE(D93:AA93,1)>=670,Var!$B$4," ")) -> --- | AL93: =IF(AB93=0,Var!$B$8,IF(LARGE(D93:AA93,1)>=690,Var!$B$4," ")) -> ---
C94: Senior 3 homme Compound | AC94: =IF(AB94<3," ",(LARGE(C94:AA94,1)+LARGE(C94:AA94,2)+LARGE(C94:AA94,3))/3)
B95: 1 | C95: CHAIRON Daniel | AB95: =COUNT(D95:AA95) -> 0 | AC95: =IF(AB95<3," ",(LARGE(C95:AA95,1)+LARGE(C95:AA95,2)+LARGE(C95:AA95,3))/3) | AD95: =IF(COUNTIF(D95:AA95,"(1)")=0," ",COUNTIF(D95:AA95,"(1)")) | AE95: =IF(COUNTIF(D95:AA95,"(2)")=0," ",COUNTIF(D95:AA95,"(2)")) | AF95: =IF(COUNTIF(D95:AA95,"(3)")=0," ",COUNTIF(D95:AA95,"(3)")) | AG95: =IF(SUM(AD95:AF95)=0," ",SUM(AD95:AF95)) | AH95: 2 | AI95: 11 | AJ95: 18 | AK95: =IF(AB95=0,Var!$B$8,IF(LARGE(D95:AA95,1)>=670,Var!$B$4," ")) -> --- | AL95: =IF(AB95=0,Var!$B$8,IF(LARGE(D95:AA95,1)>=690,Var!$B$4," ")) -> ---
C96: GOGIBUS Alain | AB96: =COUNT(D96:AA96) -> 0 | AC96: =IF(AB96<3," ",(LARGE(C96:AA96,1)+LARGE(C96:AA96,2)+LARGE(C96:AA96,3))/3) | AD96: =IF(COUNTIF(D96:AA96,"(1)")=0," ",COUNTIF(D96:AA96,"(1)")) | AE96: =IF(COUNTIF(D96:AA96,"(2)")=0," ",COUNTIF(D96:AA96,"(2)")) | AF96: =IF(COUNTIF(D96:AA96,"(3)")=0," ",COUNTIF(D96:AA96,"(3)")) | AG96: =IF(SUM(AD96:AF96)=0," ",SUM(AD96:AF96)) | AH96: 6 | AI96: 6 | AJ96: 6 | AK96: 7 | AL96: 9
B97: 1 | C97: HOUWER Jean-Marc | AB97: =COUNT(D97:AA97) -> 0 | AC97: =IF(AB97<3," ",(LARGE(C97:AA97,1)+LARGE(C97:AA97,2)+LARGE(C97:AA97,3))/3) | AD97: =IF(COUNTIF(D97:AA97,"(1)")=0," ",COUNTIF(D97:AA97,"(1)")) | AE97: =IF(COUNTIF(D97:AA97,"(2)")=0," ",COUNTIF(D97:AA97,"(2)")) | AF97: =IF(COUNTIF(D97:AA97,"(3)")=0," ",COUNTIF(D97:AA97,"(3)")) | AG97: =IF(SUM(AD97:AF97)=0," ",SUM(AD97:AF97)) | AH97: 25 | AI97: 25 | AJ97: =IF(AB97=0,Var!$B$8,IF(LARGE(D97:AA97,1)>=640,Var!$B$4," ")) -> --- | AK97: =IF(AB97=0,Var!$B$8,IF(LARGE(D97:AA97,1)>=670,Var!$B$4," ")) -> --- | AL97: =IF(AB97=0,Var!$B$8,IF(LARGE(D97:AA97,1)>=690,Var!$B$4," ")) -> ---
B98: 1 | C98: SALAUN Hervé | AB98: =COUNT(D98:AA98) -> 0 | AC98: =IF(AB98<3," ",(LARGE(C98:AA98,1)+LARGE(C98:AA98,2)+LARGE(C98:AA98,3))/3) | AD98: =IF(COUNTIF(D98:AA98,"(1)")=0," ",COUNTIF(D98:AA98,"(1)")) | AE98: =IF(COUNTIF(D98:AA98,"(2)")=0," ",COUNTIF(D98:AA98,"(2)")) | AF98: =IF(COUNTIF(D98:AA98,"(3)")=0," ",COUNTIF(D98:AA98,"(3)")) | AG98: =IF(SUM(AD98:AF98)=0," ",SUM(AD98:AF98)) | AH98: 16 | AI98: 16 | AJ98: 16 | AK98: 16 | AL98: 21
C100: Nombre d'Archer participants aux concours FFTA : | J100: =SUM(B8:B98) -> 11 | AB100: =SUM(AB10:AB98) -> 0 | AD100: =SUM(AD10:AD98) -> 0 | AE100: =SUM(AE10:AE98) -> 0 | AF100: =SUM(AF57:AF98) -> 0 | AG100: =SUM(AG10:AG98) -> 0

Sheet 3D
AY4: Nb | AZ4: Moy | BA4: Podiums | BE4: Écussons FFTA
AZ5: /3 | BA5: Or | BB5: Ag | BC5: Br | BD5: Tt
C7: Benjamin Homme Arc Nu | BE7: 150 | BF7: 175 | BG7: 210
AY8: =COUNT(D8:AW8) -> 0 | AZ8: =IF(AY8<3," ",(LARGE(D8:AW8,1)+LARGE(D8:AW8,2)+LARGE(D8:AW8,3))/3) | BA8: =IF(COUNTIF(D8:AW8,"(1)")=0," ",COUNTIF(D8:AW8,"(1)")) | BB8: =IF(COUNTIF(D8:AW8,"(2)")=0," ",COUNTIF(D8:AW8,"(2)")) | BC8: =IF(COUNTIF(D8:AW8,"(3)")=0," ",COUNTIF(D8:AW8,"(3)")) | BD8: =IF(SUM(BA8:BC8)=0," ",SUM(BA8:BC8)) | BE8: =IF(AY8=0,Var!$B$8,IF(LARGE(D8:AW8,1)>=150,Var!$B$4," ")) -> --- | BF8: =IF(AY8=0,Var!$B$8,IF(LARGE(D8:AW8,1)>=175,Var!$B$4," ")) -> --- | BG8: =IF(AY8=0,Var!$B$8,IF(LARGE(D8:AW8,1)>=210,Var!$B$4," ")) -> ---
C9: Minime Femme Arc Nu
AY10: =COUNT(D10:AW10) -> 0 | AZ10: =IF(AY10<3," ",(LARGE(D10:AW10,1)+LARGE(D10:AW10,2)+LARGE(D10:AW10,3))/3) | BA10: =IF(COUNTIF(D10:AW10,"(1)")=0," ",COUNTIF(D10:AW10,"(1)")) | BB10: =IF(COUNTIF(D10:AW10,"(2)")=0," ",COUNTIF(D10:AW10,"(2)")) | BC10: =IF(COUNTIF(D10:AW10,"(3)")=0," ",COUNTIF(D10:AW10,"(3)")) | BD10: =IF(SUM(BA10:BC10)=0," ",SUM(BA10:BC10)) | BE10: =IF(AY10=0,Var!$B$8,IF(LARGE(D10:AW10,1)>=165,Var!$B$4," ")) -> --- | BF10: =IF(AY10=0,Var!$B$8,IF(LARGE(D10:AW10,1)>=275,Var!$B$4," ")) -> --- | BG10: =IF(AY10=0,Var!$B$8,IF(LARGE(D10:AW10,1)>=390,Var!$B$4," ")) -> ---
C11: Minime Homme Arc Nu
AY12: =COUNT(D12:AW12) -> 0 | AZ12: =IF(AY12<3," ",(LARGE(D12:AW12,1)+LARGE(D12:AW12,2)+LARGE(D12:AW12,3))/3) | BA12: =IF(COUNTIF(D12:AW12,"(1)")=0," ",COUNTIF(D12:AW12,"(1)")) | BB12: =IF(COUNTIF(D12:AW12,"(2)")=0," ",COUNTIF(D12:AW12,"(2)")) | BC12: =IF(COUNTIF(D12:AW12,"(3)")=0," ",COUNTIF(D12:AW12,"(3)")) | BD12: =IF(SUM(BA12:BC12)=0," ",SUM(BA12:BC12)) | BE12: =IF(AY12=0,Var!$B$8,IF(LARGE(D12:AW12,1)>=165,Var!$B$4," ")) -> --- | BF12: =IF(AY12=0,Var!$B$8,IF(LARGE(D12:AW12,1)>=275,Var!$B$4," ")) -> --- | BG12: =IF(AY12=0,Var!$B$8,IF(LARGE(D12:AW12,1)>=390,Var!$B$4," ")) -> ---
AY13: =COUNT(D13:AW13) -> 0 | AZ13: =IF(AY13<3," ",(LARGE(D13:AW13,1)+LARGE(D13:AW13,2)+LARGE(D13:AW13,3))/3) | BA13: =IF(COUNTIF(D13:AW13,"(1)")=0," ",COUNTIF(D13:AW13,"(1)")) | BB13: =IF(COUNTIF(D13:AW13,"(2)")=0," ",COUNTIF(D13:AW13,"(2)")) | BC13: =IF(COUNTIF(D13:AW13,"(3)")=0," ",COUNTIF(D13:AW13,"(3)")) | BD13: =IF(SUM(BA13:BC13)=0," ",SUM(BA13:BC13)) | BE13: =IF(AY13=0,Var!$B$8,IF(LARGE(D13:AW13,1)>=165,Var!$B$4," ")) -> --- | BF13: =IF(AY13=0,Var!$B$8,IF(LARGE(D13:AW13,1)>=275,Var!$B$4," ")) -> --- | BG13: =IF(AY13=0,Var!$B$8,IF(LARGE(D13:AW13,1)>=390,Var!$B$4," ")) -> ---
C14: U 18 Homme Arc Nu
AY15: =COUNT(D15:AW15) -> 0 | AZ15: =IF(AY15<3," ",(LARGE(D15:AW15,1)+LARGE(D15:AW15,2)+LARGE(D15:AW15,3))/3) | BA15: =IF(COUNTIF(D15:AW15,"(1)")=0," ",COUNTIF(D15:AW15,"(1)")) | BB15: =IF(COUNTIF(D15:AW15,"(2)")=0," ",COUNTIF(D15:AW15,"(2)")) | BC15: =IF(COUNTIF(D15:AW15,"(3)")=0," ",COUNTIF(D15:AW15,"(3)")) | BD15: =IF(SUM(BA15:BC15)=0," ",SUM(BA15:BC15)) | BE15: =IF(AY15=0,Var!$B$8,IF(LARGE(D15:AW15,1)>=165,Var!$B$4," ")) -> --- | BF15: =IF(AY15=0,Var!$B$8,IF(LARGE(D15:AW15,1)>=275,Var!$B$4," ")) -> --- | BG15: =IF(AY15=0,Var!$B$8,IF(LARGE(D15:AW15,1)>=390,Var!$B$4," ")) -> ---
C16: U 18 Femme Arc Nu
AY17: =COUNT(D17:AW17) -> 0 | AZ17: =IF(AY17<3," ",(LARGE(D17:AW17,1)+LARGE(D17:AW17,2)+LARGE(D17:AW17,3))/3) | BA17: =IF(COUNTIF(D17:AW17,"(1)")=0," ",COUNTIF(D17:AW17,"(1)")) | BB17: =IF(COUNTIF(D17:AW17,"(2)")=0," ",COUNTIF(D17:AW17,"(2)")) | BC17: =IF(COUNTIF(D17:AW17,"(3)")=0," ",COUNTIF(D17:AW17,"(3)")) | BD17: =IF(SUM(BA17:BC17)=0," ",SUM(BA17:BC17)) | BE17: =IF(AY17=0,Var!$B$8,IF(LARGE(D17:AW17,1)>=85,Var!$B$4," ")) -> --- | BF17: =IF(AY17=0,Var!$B$8,IF(LARGE(D17:AW17,1)>=140,Var!$B$4," ")) -> --- | BG17: =IF(AY17=0,Var!$B$8,IF(LARGE(D17:AW17,1)>=195,Var!$B$4," ")) -> ---
C18: Senior 1 Homme Arc Chasse | AY18: =COUNT(D18:AW18) -> 0 | AZ18: =IF(AY18<3," ",(LARGE(D18:AW18,1)+LARGE(D18:AW18,2)+LARGE(D18:AW18,3))/3) | BE18: 85 | BF18: 140 | BG18: 195 | BH18: 260 | BI18: 300 | BJ18: 360
C19: DEMANGE Damien | AY19: =COUNT(D19:AW19) -> 0 | AZ19: =IF(AY19<3," ",(LARGE(D19:AW19,1)+LARGE(D19:AW19,2)+LARGE(D19:AW19,3))/3) | BA19: =IF(COUNTIF(D19:AW19,"(1)")=0," ",COUNTIF(D19:AW19,"(1)")) | BB19: =IF(COUNTIF(D19:AW19,"(2)")=0," ",COUNTIF(D19:AW19,"(2)")) | BC19: =IF(COUNTIF(D19:AW19,"(3)")=0," ",COUNTIF(D19:AW19,"(3)")) | BD19: =IF(SUM(BA19:BC19)=0," ",SUM(BA19:BC19)) | BE19: 23 | BF19: 24 | BG19: =IF(AY19=0,Var!$B$8,IF(LARGE(D19:AW19,1)>=195,Var!$B$4," ")) -> --- | BH19: =IF(AY19=0,Var!$B$8,IF(LARGE(D19:AW19,1)>=260,Var!$B$4," ")) -> --- | BI19: =IF(AY19=0,Var!$B$8,IF(LARGE(D19:AW19,1)>=300,Var!$B$4," ")) -> --- | BJ19: =IF(AY19=0,Var!$B$8,IF(LARGE(D19:AW19,1)>=360,Var!$B$4," ")) -> ---
C20: STRYJEK Julien | AY20: =COUNT(D20:AW20) -> 0 | AZ20: =IF(AY20<3," ",(LARGE(D20:AW20,1)+LARGE(D20:AW20,2)+LARGE(D20:AW20,3))/3) | BA20: =IF(COUNTIF(D20:AW20,"(1)")=0," ",COUNTIF(D20:AW20,"(1)")) | BB20: =IF(COUNTIF(D20:AW20,"(2)")=0," ",COUNTIF(D20:AW20,"(2)")) | BC20: =IF(COUNTIF(D20:AW20,"(3)")=0," ",COUNTIF(D20:AW20,"(3)")) | BD20: =IF(SUM(BA20:BC20)=0," ",SUM(BA20:BC20)) | BE20: 15 | BF20: 15 | BG20: 19 | BH20: =IF(AY20=0,Var!$B$8,IF(LARGE(D20:AW20,1)>=260,Var!$B$4," ")) -> --- | BI20: =IF(AY20=0,Var!$B$8,IF(LARGE(D20:AW20,1)>=300,Var!$B$4," ")) -> --- | BJ20: =IF(AY20=0,Var!$B$8,IF(LARGE(D20:AW20,1)>=360,Var!$B$4," ")) -> ---
B21: 1
C22: Senior 2 Homme Arc Chasse
C23: DIDRICHE Frédéric | AY23: =COUNT(D23:AW23) -> 0 | AZ23: =IF(AY23<3," ",(LARGE(D23:AW23,1)+LARGE(D23:AW23,2)+LARGE(D23:AW23,3))/3) | BA23: =IF(COUNTIF(D23:AW23,"(1)")=0," ",COUNTIF(D23:AW23,"(1)")) | BB23: =IF(COUNTIF(D23:AW23,"(2)")=0," ",COUNTIF(D23:AW23,"(2)")) | BC23: =IF(COUNTIF(D23:AW23,"(3)")=0," ",COUNTIF(D23:AW23,"(3)")) | BD23: =IF(SUM(BA23:BC23)=0," ",SUM(BA23:BC23)) | BE23: 16 | BF23: 16 | BG23: 16 | BH23: 16 | BI23: 16 | BJ23: 19
B24: 1 | C24: VALENTIN Grégory | AY24: =COUNT(D24:AW24) -> 0 | AZ24: =IF(AY24<3," ",(LARGE(D24:AW24,1)+LARGE(D24:AW24,2)+LARGE(D24:AW24,3))/3) | BA24: =IF(COUNTIF(D24:AW24,"(1)")=0," ",COUNTIF(D24:AW24,"(1)")) | BB24: =IF(COUNTIF(D24:AW24,"(2)")=0," ",COUNTIF(D24:AW24,"(2)")) | BC24: =IF(COUNTIF(D24:AW24,"(3)")=0," ",COUNTIF(D24:AW24,"(3)")) | BD24: =IF(SUM(BA24:BC24)=0," ",SUM(BA24:BC24)) | BE24: 1 | BF24: 1 | BG24: 1 | BH24: 3 | BI24: 9 | BJ24: 18
C25: Senior 3 Homme Arc Chasse
C26: SALAUN Hervé | AY26: =COUNT(D26:AW26) -> 0 | AZ26: =IF(AY26<3," ",(LARGE(D26:AW26,1)+LARGE(D26:AW26,2)+LARGE(D26:AW26,3))/3) | BA26: =IF(COUNTIF(D26:AW26,"(1)")=0," ",COUNTIF(D26:AW26,"(1)")) | BB26: =IF(COUNTIF(D26:AW26,"(2)")=0," ",COUNTIF(D26:AW26,"(2)")) | BC26: =IF(COUNTIF(D26:AW26,"(3)")=0," ",COUNTIF(D26:AW26,"(3)")) | BD26: =IF(SUM(BA26:BC26)=0," ",SUM(BA26:BC26)) | BE26: 24 | BF26: 24 | BG26: 24 | BH26: 24 | BI26: 24 | BJ26: =IF(AY26=0,Var!$B$8,IF(LARGE(D26:AW26,1)>=360,Var!$B$4," ")) -> ---
B27: 1 | C27: NOGENT Eric | AY27: =COUNT(D27:AW27) -> 0 | BA27: =IF(COUNTIF(D27:AW27,"(1)")=0," ",COUNTIF(D27:AW27,"(1)")) | BB27: =IF(COUNTIF(D27:AW27,"(2)")=0," ",COUNTIF(D27:AW27,"(2)")) | BC27: =IF(COUNTIF(D27:AW27,"(3)")=0," ",COUNTIF(D27:AW27,"(3)")) | BD27: =IF(SUM(BA27:BC27)=0," ",SUM(BA27:BC27)) | BE27: 26 | BF27: =IF(AY27=0,Var!$B$8,IF(LARGE(D27:AW27,1)>=140,Var!$B$4," ")) -> --- | BG27: =IF(AY27=0,Var!$B$8,IF(LARGE(D27:AW27,1)>=195,Var!$B$4," ")) -> --- | BH27: =IF(AY27=0,Var!$B$8,IF(LARGE(D27:AW27,1)>=260,Var!$B$4," ")) -> --- | BI27: =IF(AY27=0,Var!$B$8,IF(LARGE(D27:AW27,1)>=300,Var!$B$4," ")) -> --- | BJ27: =IF(AY27=0,Var!$B$8,IF(LARGE(D27:AW27,1)>=360,Var!$B$4," ")) -> ---
C28: PHULPIN Pascal | AY28: =COUNT(D28:AW28) -> 0 | AZ28: =IF(AY28<3," ",(LARGE(D28:AW28,1)+LARGE(D28:AW28,2)+LARGE(D28:AW28,3))/3) | BA28: =IF(COUNTIF(D28:AW28,"(1)")=0," ",COUNTIF(D28:AW28,"(1)")) | BB28: =IF(COUNTIF(D28:AW28,"(2)")=0," ",COUNTIF(D28:AW28,"(2)")) | BC28: =IF(COUNTIF(D28:AW28,"(3)")=0," ",COUNTIF(D28:AW28,"(3)")) | BD28: =IF(SUM(BA28:BC28)=0," ",SUM(BA28:BC28)) | BE28: =IF(AY28=0,Var!$B$8,IF(LARGE(D28:AW28,1)>=85,Var!$B$4," ")) -> --- | BF28: =IF(AY28=0,Var!$B$8,IF(LARGE(D28:AW28,1)>=140,Var!$B$4," ")) -> --- | BG28: =IF(AY28=0,Var!$B$8,IF(LARGE(D28:AW28,1)>=195,Var!$B$4," ")) -> --- | BH28: =IF(AY28=0,Var!$B$8,IF(LARGE(D28:AW28,1)>=260,Var!$B$4," ")) -> --- | BI28: =IF(AY28=0,Var!$B$8,IF(LARGE(D28:AW28,1)>=300,Var!$B$4," ")) -> --- | BJ28: =IF(AY28=0,Var!$B$8,IF(LARGE(D28:AW28,1)>=360,Var!$B$4," ")) -> ---
C29: Senior1 Homme Arc Droit | BE29: 70 | BF29: 125 | BG29: 185 | BH29: 235 | BI29: 270 | BJ29: 335
C30: BALLAN Jean | AY30: =COUNT(D30:AW30) -> 0 | AZ30: =IF(AY30<3," ",(LARGE(D30:AW30,1)+LARGE(D30:AW30,2)+LARGE(D30:AW30,3))/3) | BA30: =IF(COUNTIF(D30:AW30,"(1)")=0," ",COUNTIF(D30:AW30,"(1)")) | BB30: =IF(COUNTIF(D30:AW30,"(2)")=0," ",COUNTIF(D30:AW30,"(2)")) | BC30: =IF(COUNTIF(D30:AW30,"(3)")=0," ",COUNTIF(D30:AW30,"(3)")) | BD30: =IF(SUM(BA30:BC30)=0," ",SUM(BA30:BC30)) | BE30: 17 | BF30: 17 | BG30: =IF(AY30=0,Var!$B$8,IF(LARGE(D30:AW30,1)>=185,Var!$B$4," ")) -> --- | BH30: =IF(AY30=0,Var!$B$8,IF(LARGE(D30:AW30,1)>=235,Var!$B$4," ")) -> --- | BI30: =IF(AY30=0,Var!$B$8,IF(LARGE(D30:AW30,1)>=270,Var!$B$4," ")) -> --- | BJ30: =IF(AY30=0,Var!$B$8,IF(LARGE(D30:AW30,1)>=335,Var!$B$4," ")) -> ---
C31: Senior2 Homme Arc Droit | BE31: 70 | BF31: 125 | BG31: 185 | BH31: 235 | BI31: 270 | BJ31: 335
C32: DIDRICHE Frédéric | AY32: =COUNT(D32:AW32) -> 0 | AZ32: =IF(AY32<3," ",(LARGE(D32:AW32,1)+LARGE(D32:AW32,2)+LARGE(D32:AW32,3))/3) | BA32: =IF(COUNTIF(D32:AW32,"(1)")=0," ",COUNTIF(D32:AW32,"(1)")) | BB32: =IF(COUNTIF(D32:AW32,"(2)")=0," ",COUNTIF(D32:AW32,"(2)")) | BC32: =IF(COUNTIF(D32:AW32,"(3)")=0," ",COUNTIF(D32:AW32,"(3)")) | BD32: =IF(SUM(BA32:BC32)=0," ",SUM(BA32:BC32)) | BE32: 16 | BF32: 16 | BG32: 16 | BH32: 16 | BI32: 16 | BJ32: =IF(AY32=0,Var!$B$8,IF(LARGE(D32:AW32,1)>=335,Var!$B$4," ")) -> ---
B33: 1 | C33: VALENTIN Grégory | AY33: =COUNT(D33:AW33) -> 0 | AZ33: =IF(AY33<3," ",(LARGE(D33:AW33,1)+LARGE(D33:AW33,2)+LARGE(D33:AW33,3))/3) | BA33: =IF(COUNTIF(D33:AW33,"(1)")=0," ",COUNTIF(D33:AW33,"(1)")) | BB33: =IF(COUNTIF(D33:AW33,"(2)")=0," ",COUNTIF(D33:AW33,"(2)")) | BC33: =IF(COUNTIF(D33:AW33,"(3)")=0," ",COUNTIF(D33:AW33,"(3)")) | BD33: =IF(SUM(BA33:BC33)=0," ",SUM(BA33:BC33)) | BE33: 25 | BF33: 25 | BG33: 25 | BH33: 25 | BI33: 25 | BJ33: =IF(AY33=0,Var!$B$8,IF(LARGE(D33:AW33,1)>=335,Var!$B$4," ")) -> ---
C34: Senior 3 Homme Arc Droit | BE34: 70 | BF34: 125 | BG34: 185 | BH34: 235 | BI34: 270 | BJ34: 335
C35: COUTANT J,Dominique | AY35: =COUNT(D35:AW35) -> 0 | AZ35: =IF(AY35<3," ",(LARGE(D35:AW35,1)+LARGE(D35:AW35,2)+LARGE(D35:AW35,3))/3) | BA35: =IF(COUNTIF(D35:AW35,"(1)")=0," ",COUNTIF(D35:AW35,"(1)")) | BB35: =IF(COUNTIF(D35:AW35,"(2)")=0," ",COUNTIF(D35:AW35,"(2)")) | BC35: =IF(COUNTIF(D35:AW35,"(3)")=0," ",COUNTIF(D35:AW35,"(3)")) | BD35: =IF(SUM(BA35:BC35)=0," ",SUM(BA35:BC35)) | BE35: 18 | BF35: 18 | BG35: =IF(AY35=0,Var!$B$8,IF(LARGE(D35:AW35,1)>=185,Var!$B$4," ")) -> --- | BH35: =IF(AY35=0,Var!$B$8,IF(LARGE(D35:AW35,1)>=235,Var!$B$4," ")) -> --- | BI35: =IF(AY35=0,Var!$B$8,IF(LARGE(D35:AW35,1)>=270,Var!$B$4," ")) -> --- | BJ35: =IF(AY35=0,Var!$B$8,IF(LARGE(D35:AW35,1)>=335,Var!$B$4," ")) -> ---
C36: PERREUX Norbert | AY36: =COUNT(D36:AW36) -> 0 | AZ36: =IF(AY36<3," ",(LARGE(D36:AW36,1)+LARGE(D36:AW36,2)+LARGE(D36:AW36,3))/3) | BA36: =IF(COUNTIF(D36:AW36,"(1)")=0," ",COUNTIF(D36:AW36,"(1)")) | BB36: =IF(COUNTIF(D36:AW36,"(2)")=0," ",COUNTIF(D36:AW36,"(2)")) | BC36: =IF(COUNTIF(D36:AW36,"(3)")=0," ",COUNTIF(D36:AW36,"(3)")) | BD36: =IF(SUM(BA36:BC36)=0," ",SUM(BA36:BC36)) | BE36: 10 | BF36: 11 | BG36: 11 | BH36: =IF(AY36=0,Var!$B$8,IF(LARGE(D36:AW36,1)>=235,Var!$B$4," ")) -> --- | BI36: =IF(AY36=0,Var!$B$8,IF(LARGE(D36:AW36,1)>=270,Var!$B$4," ")) -> --- | BJ36: =IF(AY36=0,Var!$B$8,IF(LARGE(D36:AW36,1)>=335,Var!$B$4," ")) -> ---
C37: Senior 1 Femme Bare Bow | BE37: 110 | BF37: 160 | BG37: 220 | BH37: 270 | BI37: 315 | BJ37: 375
B38: 1 | C38: CHASSIN Aurélie | AY38: =COUNT(D38:AW38) -> 0 | BA38: =IF(COUNTIF(D38:AW38,"(1)")=0," ",COUNTIF(D38:AW38,"(1)")) | BB38: =IF(COUNTIF(D38:AW38,"(2)")=0," ",COUNTIF(D38:AW38,"(2)")) | BC38: =IF(COUNTIF(D38:AW38,"(3)")=0," ",COUNTIF(D38:AW38,"(3)")) | BD38: =IF(SUM(BA38:BC38)=0," ",SUM(BA38:BC38)) | BE38: 26 | BF38: 26 | BG38: 26 | BH38: 26 | BI38: 26 | BJ38: =IF(AY38=0,Var!$B$8,IF(LARGE(D38:AW38,1)>=375,Var!$B$4," ")) -> ---
AY39: =COUNT(D39:AW39) -> 0 | AZ39: =IF(AY39<3," ",(LARGE(D39:AW39,1)+LARGE(D39:AW39,2)+LARGE(D39:AW39,3))/3) | BA39: =IF(COUNTIF(D39:AW39,"(1)")=0," ",COUNTIF(D39:AW39,"(1)")) | BB39: =IF(COUNTIF(D39:AW39,"(2)")=0," ",COUNTIF(D39:AW39,"(2)")) | BC39: =IF(COUNTIF(D39:AW39,"(3)")=0," ",COUNTIF(D39:AW39,"(3)")) | BD39: =IF(SUM(BA39:BC39)=0," ",SUM(BA39:BC39)) | BE39: =IF(AY39=0,Var!$B$8,IF(LARGE(D39:AW39,1)>=110,Var!$B$4," ")) -> --- | BF39: =IF(AY39=0,Var!$B$8,IF(LARGE(D39:AW39,1)>=160,Var!$B$4," ")) -> --- | BG39: =IF(AY39=0,Var!$B$8,IF(LARGE(D39:AW39,1)>=220,Var!$B$4," ")) -> --- | BH39: =IF(AY39=0,Var!$B$8,IF(LARGE(D39:AW39,1)>=270,Var!$B$4," ")) -> --- | BI39: =IF(AY39=0,Var!$B$8,IF(LARGE(D39:AW39,1)>=315,Var!$B$4," ")) -> --- | BJ39: =IF(AY39=0,Var!$B$8,IF(LARGE(D39:AW39,1)>=375,Var!$B$4," ")) -> ---
C40: Senior 1Homme Arc Nu
B41: 1 | C41: CLAIN Cédric | AY41: =COUNT(D41:AW41) -> 0 | AZ41: =IF(AY41<3," ",(LARGE(D41:AW41,1)+LARGE(D41:AW41,2)+LARGE(D41:AW41,3))/3) | BA41: =IF(COUNTIF(D41:AW41,"(1)")=0," ",COUNTIF(D41:AW41,"(1)")) | BB41: =IF(COUNTIF(D41:AW41,"(2)")=0," ",COUNTIF(D41:AW41,"(2)")) | BC41: =IF(COUNTIF(D41:AW41,"(3)")=0," ",COUNTIF(D41:AW41,"(3)")) | BD41: =IF(SUM(BA41:BC41)=0," ",SUM(BA41:BC41)) | BE41: 26 | BF41: 26 | BG41: 26 | BH41: 26 | BI41: 26 | BJ41: =IF(AY41=0,Var!$B$8,IF(LARGE(D41:AW41,1)>=360,Var!$B$4," ")) -> ---
C42: Senior2 Homme Bare Bow
B43: 1 | C43: GAWLOWIEZ Franck | AY43: =COUNT(D43:AW43) -> 0 | BA43: =IF(COUNTIF(D43:AW43,"(1)")=0," ",COUNTIF(D43:AW43,"(1)")) | BB43: =IF(COUNTIF(D43:AW43,"(2)")=0," ",COUNTIF(D43:AW43,"(2)")) | BC43: =IF(COUNTIF(D43:AW43,"(3)")=0," ",COUNTIF(D43:AW43,"(3)")) | BD43: =IF(SUM(BA43:BC43)=0," ",SUM(BA43:BC43)) | BE43: 21 | BF43: 21 | BG43: 21 | BH43: 21 | BI43: 21 | BJ43: 24
B44: 1 | C44: VALENTIN Grégory | AY44: =COUNT(D44:AW44) -> 0 | AZ44: =IF(AY44<3," ",(LARGE(D44:AW44,1)+LARGE(D44:AW44,2)+LARGE(D44:AW44,3))/3) | BA44: =IF(COUNTIF(D44:AW44,"(1)")=0," ",COUNTIF(D44:AW44,"(1)")) | BB44: =IF(COUNTIF(D44:AW44,"(2)")=0," ",COUNTIF(D44:AW44,"(2)")) | BC44: =IF(COUNTIF(D44:AW44,"(3)")=0," ",COUNTIF(D44:AW44,"(3)")) | BD44: =IF(SUM(BA44:BC44)=0," ",SUM(BA44:BC44)) | BE44: 26 | BF44: 26 | BG44: 26 | BH44: 26 | BI44: 26 | BJ44: 26
C45: Senior 3 Homme Bare Bow
B46: 1 | C46: PHULPIN Pascal | AY46: =COUNT(D46:AW46) -> 0 | AZ46: =IF(AY46<3," ",(LARGE(D46:AW46,1)+LARGE(D46:AW46,2)+LARGE(D46:AW46,3))/3) | BA46: =IF(COUNTIF(D46:AW46,"(1)")=0," ",COUNTIF(D46:AW46,"(1)")) | BB46: =IF(COUNTIF(D46:AW46,"(2)")=0," ",COUNTIF(D46:AW46,"(2)")) | BC46: =IF(COUNTIF(D46:AW46,"(3)")=0," ",COUNTIF(D46:AW46,"(3)")) | BD46: =IF(SUM(BA46:BC46)=0," ",SUM(BA46:BC46)) | BE46: 22 | BF46: 22 | BG46: 22 | BH46: 22 | BI46: =IF(AY46=0,Var!$B$8,IF(LARGE(D46:AW46,1)>=315,Var!$B$4," ")) -> --- | BJ46: =IF(AY46=0,Var!$B$8,IF(LARGE(D46:AW46,1)>=375,Var!$B$4," ")) -> ---
B47: 1 | C47: LHERMITTE William | AY47: =COUNT(D47:AW47) -> 0 | BA47: =IF(COUNTIF(D47:AW47,"(1)")=0," ",COUNTIF(D47:AW47,"(1)")) | BB47: =IF(COUNTIF(D47:AW47,"(2)")=0," ",COUNTIF(D47:AW47,"(2)")) | BC47: =IF(COUNTIF(D47:AW47,"(3)")=0," ",COUNTIF(D47:AW47,"(3)")) | BE47: 22 | BF47: 22 | BG47: 22 | BH47: 22 | BI47: 23 | BJ47: =IF(AY47=0,Var!$B$8,IF(LARGE(D47:AW47,1)>=375,Var!$B$4," ")) -> ---
C48: Junior Femme Arc Libre | BE48: 185 | BF48: 260 | BG48: 330 | BH48: 380 | BI48: 435 | BJ48: 460
AY49: =COUNT(D49:AW49) -> 0 | AZ49: =IF(AY49<3," ",(LARGE(D49:AW49,1)+LARGE(D49:AW49,2)+LARGE(D49:AW49,3))/3) | BA49: =IF(COUNTIF(D49:AW49,"(1)")=0," ",COUNTIF(D49:AW49,"(1)")) | BB49: =IF(COUNTIF(D49:AW49,"(2)")=0," ",COUNTIF(D49:AW49,"(2)")) | BC49: =IF(COUNTIF(D49:AW49,"(3)")=0," ",COUNTIF(D49:AW49,"(3)")) | BD49: =IF(SUM(BA49:BC49)=0," ",SUM(BA49:BC49)) | BE49: =IF(AY49=0,Var!$B$8,IF(LARGE(D49:AW49,1)>=185,Var!$B$4," ")) -> --- | BF49: =IF(AY49=0,Var!$B$8,IF(LARGE(D49:AW49,1)>=260,Var!$B$4," ")) -> --- | BG49: =IF(AY49=0,Var!$B$8,IF(LARGE(D49:AW49,1)>=330,Var!$B$4," ")) -> --- | BH49: =IF(AY49=0,Var!$B$8,IF(LARGE(D49:AW49,1)>=380,Var!$B$4," ")) -> --- | BI49: =IF(AY49=0,Var!$B$8,IF(LARGE(D49:AW49,1)>=435,Var!$B$4," ")) -> --- | BJ49: =IF(AY49=0,Var!$B$8,IF(LARGE(D49:AW49,1)>=460,Var!$B$4," ")) -> ---
C50: Junior Homme Arc Libre
AY51: =COUNT(D51:AW51) -> 0 | AZ51: =IF(AY51<3," ",(LARGE(D51:AW51,1)+LARGE(D51:AW51,2)+LARGE(D51:AW51,3))/3) | BA51: =IF(COUNTIF(D51:AW51,"(1)")=0," ",COUNTIF(D51:AW51,"(1)")) | BB51: =IF(COUNTIF(D51:AW51,"(2)")=0," ",COUNTIF(D51:AW51,"(2)")) | BC51: =IF(COUNTIF(D51:AW51,"(3)")=0," ",COUNTIF(D51:AW51,"(3)")) | BD51: =IF(SUM(BA51:BC51)=0," ",SUM(BA51:BC51)) | BE51: =IF(AY51=0,Var!$B$8,IF(LARGE(D51:AW51,1)>=185,Var!$B$4," ")) -> --- | BF51: =IF(AY51=0,Var!$B$8,IF(LARGE(D51:AW51,1)>=260,Var!$B$4," ")) -> --- | BG51: =IF(AY51=0,Var!$B$8,IF(LARGE(D51:AW51,1)>=330,Var!$B$4," ")) -> --- | BH51: =IF(AY51=0,Var!$B$8,IF(LARGE(D51:AW51,1)>=380,Var!$B$4," ")) -> --- | BI51: =IF(AY51=0,Var!$B$8,IF(LARGE(D51:AW51,1)>=435,Var!$B$4," ")) -> --- | BJ51: =IF(AY51=0,Var!$B$8,IF(LARGE(D51:AW51,1)>=460,Var!$B$4," ")) -> ---
AY52: =COUNT(D52:AW52) -> 0 | AZ52: =IF(AY52<3," ",(LARGE(D52:AW52,1)+LARGE(D52:AW52,2)+LARGE(D52:AW52,3))/3) | BA52: =IF(COUNTIF(D52:AW52,"(1)")=0," ",COUNTIF(D52:AW52,"(1)")) | BB52: =IF(COUNTIF(D52:AW52,"(2)")=0," ",COUNTIF(D52:AW52,"(2)")) | BC52: =IF(COUNTIF(D52:AW52,"(3)")=0," ",COUNTIF(D52:AW52,"(3)")) | BD52: =IF(SUM(BA52:BC52)=0," ",SUM(BA52:BC52)) | BE52: =IF(AY52=0,Var!$B$8,IF(LARGE(D52:AW52,1)>=185,Var!$B$4," ")) -> --- | BF52: =IF(AY52=0,Var!$B$8,IF(LARGE(D52:AW52,1)>=260,Var!$B$4," ")) -> --- | BG52: =IF(AY52=0,Var!$B$8,IF(LARGE(D52:AW52,1)>=330,Var!$B$4," ")) -> --- | BH52: =IF(AY52=0,Var!$B$8,IF(LARGE(D52:AW52,1)>=380,Var!$B$4," ")) -> --- | BI52: =IF(AY52=0,Var!$B$8,IF(LARGE(D52:AW52,1)>=435,Var!$B$4," ")) -> --- | BJ52: =IF(AY52=0,Var!$B$8,IF(LARGE(D52:AW52,1)>=460,Var!$B$4," ")) -> ---
C53: Senior 1 Femme Arc Libre
C54: VALENTIN Angélique | AY54: =COUNT(D54:AW54) -> 0 | AZ54: =IF(AY54<3," ",(LARGE(D54:AW54,1)+LARGE(D54:AW54,2)+LARGE(D54:AW54,3))/3) | BA54: =IF(COUNTIF(D54:AW54,"(1)")=0," ",COUNTIF(D54:AW54,"(1)")) | BB54: =IF(COUNTIF(D54:AW54,"(2)")=0," ",COUNTIF(D54:AW54,"(2)")) | BC54: =IF(COUNTIF(D54:AW54,"(3)")=0," ",COUNTIF(D54:AW54,"(3)")) | BD54: =IF(SUM(BA54:BC54)=0," ",SUM(BA54:BC54)) | BE54: 14 | BF54: 14 | BG54: 14 | BH54: 16 | BI54: =IF(AY54=0,Var!$B$8,IF(LARGE(D54:AW54,1)>=435,Var!$B$4," ")) -> --- | BJ54: =IF(AY54=0,Var!$B$8,IF(LARGE(D54:AW54,1)>=460,Var!$B$4," ")) -> ---
C55: Senior2 Homme Arc Libre
B56: 1 | C56: DEMANGE Damien | AY56: =COUNT(D56:AW56) -> 0 | AZ56: =IF(AY56<3," ",(LARGE(D56:AW56,1)+LARGE(D56:AW56,2)+LARGE(D56:AW56,3))/3) | BA56: =IF(COUNTIF(D56:AW56,"(1)")=0," ",COUNTIF(D56:AW56,"(1)")) | BB56: =IF(COUNTIF(D56:AW56,"(2)")=0," ",COUNTIF(D56:AW56,"(2)")) | BC56: =IF(COUNTIF(D56:AW56,"(3)")=0," ",COUNTIF(D56:AW56,"(3)")) | BD56: =IF(SUM(BA56:BC56)=0," ",SUM(BA56:BC56)) | BE56: 24 | BF56: 24 | BG56: 24 | BH56: 24 | BI56: 25 | BJ56: =IF(AY56=0,Var!$B$8,IF(LARGE(D56:AW56,1)>=460,Var!$B$4," ")) -> ---
AY57: =COUNT(D57:AW57) -> 0 | AZ57: =IF(AY57<3," ",(LARGE(D57:AW57,1)+LARGE(D57:AW57,2)+LARGE(D57:AW57,3))/3) | BA57: =IF(COUNTIF(D57:AW57,"(1)")=0," ",COUNTIF(D57:AW57,"(1)")) | BB57: =IF(COUNTIF(D57:AW57,"(2)")=0," ",COUNTIF(D57:AW57,"(2)")) | BC57: =IF(COUNTIF(D57:AW57,"(3)")=0," ",COUNTIF(D57:AW57,"(3)")) | BD57: =IF(SUM(BA57:BC57)=0," ",SUM(BA57:BC57)) | BE57: =IF(AY57=0,Var!$B$8,IF(LARGE(D57:AW57,1)>=185,Var!$B$4," ")) -> --- | BF57: =IF(AY57=0,Var!$B$8,IF(LARGE(D57:AW57,1)>=260,Var!$B$4," ")) -> --- | BG57: =IF(AY57=0,Var!$B$8,IF(LARGE(D57:AW57,1)>=330,Var!$B$4," ")) -> --- | BH57: =IF(AY57=0,Var!$B$8,IF(LARGE(D57:AW57,1)>=380,Var!$B$4," ")) -> --- | BI57: =IF(AY57=0,Var!$B$8,IF(LARGE(D57:AW57,1)>=435,Var!$B$4," ")) -> --- | BJ57: =IF(AY57=0,Var!$B$8,IF(LARGE(D57:AW57,1)>=460,Var!$B$4," ")) -> ---
C58: Senior 3 Homme Arc Libre
B59: 1 | C59: SALAUN Hervé | AY59: =COUNT(D59:AW59) -> 0 | BA59: =IF(COUNTIF(D59:AW59,"(1)")=0," ",COUNTIF(D59:AW59,"(1)")) | BB59: =IF(COUNTIF(D59:AW59,"(2)")=0," ",COUNTIF(D59:AW59,"(2)")) | BC59: =IF(COUNTIF(D59:AW59,"(3)")=0," ",COUNTIF(D59:AW59,"(3)")) | BD59: =IF(SUM(BA59:BC59)=0," ",SUM(BA59:BC59)) | BE59: 14 | BF59: 14 | BG59: 14 | BH59: 14 | BI59: 14 | BJ59: 14
AY60: =COUNT(D60:AW60) -> 0 | AZ60: =IF(AY60<3," ",(LARGE(D60:AW60,1)+LARGE(D60:AW60,2)+LARGE(D60:AW60,3))/3) | BA60: =IF(COUNTIF(D60:AW60,"(1)")=0," ",COUNTIF(D60:AW60,"(1)")) | BB60: =IF(COUNTIF(D60:AW60,"(2)")=0," ",COUNTIF(D60:AW60,"(2)")) | BC60: =IF(COUNTIF(D60:AW60,"(3)")=0," ",COUNTIF(D60:AW60,"(3)")) | BD60: =IF(SUM(BA60:BC60)=0," ",SUM(BA60:BC60)) | BE60: =IF(AY60=0,Var!$B$8,IF(LARGE(D60:AW60,1)>=185,Var!$B$4," ")) -> --- | BF60: =IF(AY60=0,Var!$B$8,IF(LARGE(D60:AW60,1)>=260,Var!$B$4," ")) -> --- | BG60: =IF(AY60=0,Var!$B$8,IF(LARGE(D60:AW60,1)>=330,Var!$B$4," ")) -> --- | BH60: =IF(AY60=0,Var!$B$8,IF(LARGE(D60:AW60,1)>=380,Var!$B$4," ")) -> --- | BI60: =IF(AY60=0,Var!$B$8,IF(LARGE(D60:AW60,1)>=435,Var!$B$4," ")) -> --- | BJ60: =IF(AY60=0,Var!$B$8,IF(LARGE(D60:AW60,1)>=460,Var!$B$4," ")) -> ---
AY61: =COUNT(D61:AW61) -> 0 | AZ61: =IF(AY61<3," ",(LARGE(D61:AW61,1)+LARGE(D61:AW61,2)+LARGE(D61:AW61,3))/3) | BA61: =IF(COUNTIF(D61:AW61,"(1)")=0," ",COUNTIF(D61:AW61,"(1)")) | BB61: =IF(COUNTIF(D61:AW61,"(2)")=0," ",COUNTIF(D61:AW61,"(2)")) | BC61: =IF(COUNTIF(D61:AW61,"(3)")=0," ",COUNTIF(D61:AW61,"(3)")) | BD61: =IF(SUM(BA61:BC61)=0," ",SUM(BA61:BC61)) | BE61: =IF(AY61=0,Var!$B$8,IF(LARGE(D61:AW61,1)>=185,Var!$B$4," ")) -> --- | BF61: =IF(AY61=0,Var!$B$8,IF(LARGE(D61:AW61,1)>=260,Var!$B$4," ")) -> --- | BG61: =IF(AY61=0,Var!$B$8,IF(LARGE(D61:AW61,1)>=330,Var!$B$4," ")) -> --- | BH61: =IF(AY61=0,Var!$B$8,IF(LARGE(D61:AW61,1)>=380,Var!$B$4," ")) -> --- | BI61: =IF(AY61=0,Var!$B$8,IF(LARGE(D61:AW61,1)>=435,Var!$B$4," ")) -> --- | BJ61: =IF(AY61=0,Var!$B$8,IF(LARGE(D61:AW61,1)>=460,Var!$B$4," ")) -> ---
C62: Senior Homme Compound | BE62: 140 | BF62: 210 | BG62: 280 | BH62: 330 | BI62: 385 | BJ62: 435
B63: 1 | C63: STRYJEK Julien | AY63: =COUNT(D63:AW63) -> 0 | AZ63: =IF(AY63<3," ",(LARGE(D63:AW63,1)+LARGE(D63:AW63,2)+LARGE(D63:AW63,3))/3) | BA63: =IF(COUNTIF(D63:AW63,"(1)")=0," ",COUNTIF(D63:AW63,"(1)")) | BB63: =IF(COUNTIF(D63:AW63,"(2)")=0," ",COUNTIF(D63:AW63,"(2)")) | BC63: =IF(COUNTIF(D63:AW63,"(3)")=0," ",COUNTIF(D63:AW63,"(3)")) | BD63: =IF(SUM(BA63:BC63)=0," ",SUM(BA63:BC63)) | BE63: 25 | BF63: 25 | BG63: 26 | BH63: =IF(AY63=0,Var!$B$8,IF(LARGE(D63:AW63,1)>=330,Var!$B$4," ")) -> --- | BI63: =IF(AY63=0,Var!$B$8,IF(LARGE(D63:AW63,1)>=485,Var!$B$4," ")) -> --- | BJ63: =IF(AY63=0,Var!$B$8,IF(LARGE(D63:AW63,1)>=435,Var!$B$4," ")) -> ---
AY64: =COUNT(D64:AW64) -> 0 | BE64: =IF(AY64=0,Var!$B$8,IF(LARGE(D64:AW64,1)>=140,Var!$B$4," ")) -> --- | BF64: =IF(AY64=0,Var!$B$8,IF(LARGE(D64:AW64,1)>=210,Var!$B$4," ")) -> --- | BG64: =IF(AY64=0,Var!$B$8,IF(LARGE(D64:AW64,1)>=280,Var!$B$4," ")) -> --- | BH64: =IF(AY64=0,Var!$B$8,IF(LARGE(D64:AW64,1)>=330,Var!$B$4," ")) -> --- | BI64: =IF(AY64=0,Var!$B$8,IF(LARGE(D64:AW64,1)>=485,Var!$B$4," ")) -> --- | BJ64: =IF(AY64=0,Var!$B$8,IF(LARGE(D64:AW64,1)>=435,Var!$B$4," ")) -> ---
AY65: =COUNT(D65:AW65) -> 0 | AZ65: =IF(AY65<3," ",(LARGE(D65:AW65,1)+LARGE(D65:AW65,2)+LARGE(D65:AW65,3))/3) | BA65: =IF(COUNTIF(D65:AW65,"(1)")=0," ",COUNTIF(D65:AW65,"(1)")) | BB65: =IF(COUNTIF(D65:AW65,"(2)")=0," ",COUNTIF(D65:AW65,"(2)")) | BC65: =IF(COUNTIF(D65:AW65,"(3)")=0," ",COUNTIF(D65:AW65,"(3)")) | BD65: =IF(SUM(BA65:BC65)=0," ",SUM(BA65:BC65)) | BE65: =IF(AY65=0,Var!$B$8,IF(LARGE(D65:AW65,1)>=140,Var!$B$4," ")) -> --- | BF65: =IF(AY65=0,Var!$B$8,IF(LARGE(D65:AW65,1)>=210,Var!$B$4," ")) -> --- | BG65: =IF(AY65=0,Var!$B$8,IF(LARGE(D65:AW65,1)>=280,Var!$B$4," ")) -> --- | BH65: =IF(AY65=0,Var!$B$8,IF(LARGE(D65:AW65,1)>=330,Var!$B$4," ")) -> --- | BI65: =IF(AY65=0,Var!$B$8,IF(LARGE(D65:AW65,1)>=485,Var!$B$4," ")) -> --- | BJ65: =IF(AY65=0,Var!$B$8,IF(LARGE(D65:AW65,1)>=435,Var!$B$4," ")) -> ---
C67: Nombre d'Archer participants aux concours FFTA : | T67: =COUNT(B8:B101) -> 13 | AY67: =SUM(AY8:AY65) -> 0 | BA67: =SUM(BA8:BA65) -> 0 | BB67: =SUM(BB8:BB65) -> 0 | BC67: =SUM(BC8:BC65) -> 0 | BD67: =SUM(BD8:BD65) -> 0

Sheet Nature
Y4: Nb | Z4: Moy | AA4: Podiums | AE4: Ecussons FFTA
Z5: /3 | AA5: Or | AB5: Ag | AC5: Br | AD5: Tt
C7: U13 Homme Arc Nu | AE7: 165 | AF7: 275 | AG7: 390
Y8: =COUNT(D8:W8) -> 0 | Z8: =IF(Y8<3," ",(LARGE(D8:W8,1)+LARGE(D8:W8,2)+LARGE(D8:W8,3))/3) | AA8: =IF(COUNTIF(D8:W8,"(1)")=0," ",COUNTIF(D8:W8,"(1)")) | AB8: =IF(COUNTIF(D8:W8,"(2)")=0," ",COUNTIF(D8:W8,"(2)")) | AC8: =IF(COUNTIF(D8:W8,"(3)")=0," ",COUNTIF(D8:W8,"(3)")) | AD8: =IF(SUM(AA8:AC8)=0," ",SUM(AA8:AC8)) | AE8: =IF(Y8=0,Var!$B$8,IF(LARGE(D8:W8,1)>=165,Var!$B$4," ")) -> --- | AF8: =IF(Y8=0,Var!$B$8,IF(LARGE(D8:W8,1)>=275,Var!$B$4," ")) -> --- | AG8: =IF(Y8=0,Var!$B$8,IF(LARGE(D8:W8,1)>=390,Var!$B$4," ")) -> ---
C9: U15 Femme Arc Nu
Y10: =COUNT(D10:W10) -> 0 | Z10: =IF(Y10<3," ",(LARGE(D10:W10,1)+LARGE(D10:W10,2)+LARGE(D10:W10,3))/3) | AA10: =IF(COUNTIF(D10:W10,"(1)")=0," ",COUNTIF(D10:W10,"(1)")) | AB10: =IF(COUNTIF(D10:W10,"(2)")=0," ",COUNTIF(D10:W10,"(2)")) | AC10: =IF(COUNTIF(D10:W10,"(3)")=0," ",COUNTIF(D10:W10,"(3)")) | AD10: =IF(SUM(AA10:AC10)=0," ",SUM(AA10:AC10)) | AE10: =IF(Y10=0,Var!$B$8,IF(LARGE(D10:W10,1)>=165,Var!$B$4," ")) -> --- | AF10: =IF(Y10=0,Var!$B$8,IF(LARGE(D10:W10,1)>=275,Var!$B$4," ")) -> --- | AG10: =IF(Y10=0,Var!$B$8,IF(LARGE(D10:W10,1)>=390,Var!$B$4," ")) -> ---
C11: U15 Homme Arc Nu
Y12: =COUNT(D12:W12) -> 0 | Z12: =IF(Y12<3," ",(LARGE(D12:W12,1)+LARGE(D12:W12,2)+LARGE(D12:W12,3))/3) | AA12: =IF(COUNTIF(D12:W12,"(1)")=0," ",COUNTIF(D12:W12,"(1)")) | AB12: =IF(COUNTIF(D12:W12,"(2)")=0," ",COUNTIF(D12:W12,"(2)")) | AC12: =IF(COUNTIF(D12:W12,"(3)")=0," ",COUNTIF(D12:W12,"(3)")) | AD12: =IF(SUM(AA12:AC12)=0," ",SUM(AA12:AC12)) | AE12: =IF(Y12=0,Var!$B$8,IF(LARGE(D12:W12,1)>=165,Var!$B$4," ")) -> --- | AF12: =IF(Y12=0,Var!$B$8,IF(LARGE(D12:W12,1)>=275,Var!$B$4," ")) -> --- | AG12: =IF(Y12=0,Var!$B$8,IF(LARGE(D12:W12,1)>=390,Var!$B$4," ")) -> ---
Y13: =COUNT(D13:W13) -> 0 | Z13: =IF(Y13<3," ",(LARGE(D13:W13,1)+LARGE(D13:W13,2)+LARGE(D13:W13,3))/3) | AA13: =IF(COUNTIF(D13:W13,"(1)")=0," ",COUNTIF(D13:W13,"(1)")) | AB13: =IF(COUNTIF(D13:W13,"(2)")=0," ",COUNTIF(D13:W13,"(2)")) | AC13: =IF(COUNTIF(D13:W13,"(3)")=0," ",COUNTIF(D13:W13,"(3)")) | AD13: =IF(SUM(AA13:AC13)=0," ",SUM(AA13:AC13)) | AE13: =IF(Y13=0,Var!$B$8,IF(LARGE(D13:W13,1)>=165,Var!$B$4," ")) -> --- | AF13: =IF(Y13=0,Var!$B$8,IF(LARGE(D13:W13,1)>=275,Var!$B$4," ")) -> --- | AG13: =IF(Y13=0,Var!$B$8,IF(LARGE(D13:W13,1)>=390,Var!$B$4," ")) -> ---
C14: U18 Homme Arc Nu
Y15: =COUNT(D15:W15) -> 0 | Z15: =IF(Y15<3," ",(LARGE(D15:W15,1)+LARGE(D15:W15,2)+LARGE(D15:W15,3))/3) | AA15: =IF(COUNTIF(D15:W15,"(1)")=0," ",COUNTIF(D15:W15,"(1)")) | AB15: =IF(COUNTIF(D15:W15,"(2)")=0," ",COUNTIF(D15:W15,"(2)")) | AC15: =IF(COUNTIF(D15:W15,"(3)")=0," ",COUNTIF(D15:W15,"(3)")) | AD15: =IF(SUM(AA15:AC15)=0," ",SUM(AA15:AC15)) | AE15: =IF(Y15=0,Var!$B$8,IF(LARGE(D15:W15,1)>=165,Var!$B$4," ")) -> --- | AF15: =IF(Y15=0,Var!$B$8,IF(LARGE(D15:W15,1)>=275,Var!$B$4," ")) -> --- | AG15: =IF(Y15=0,Var!$B$8,IF(LARGE(D15:W15,1)>=390,Var!$B$4," ")) -> ---
C17: Senior Femme Arc Chasse | AE17: 175 | AF17: 290 | AG17: 400 | AH17: 475 | AI17: 550 | AJ17: 590
Y18: =COUNT(D18:W18) -> 0 | Z18: =IF(Y18<3," ",(LARGE(D18:W18,1)+LARGE(D18:W18,2)+LARGE(D18:W18,3))/3) | AA18: =IF(COUNTIF(D18:W18,"(1)")=0," ",COUNTIF(D18:W18,"(1)")) | AB18: =IF(COUNTIF(D18:W18,"(2)")=0," ",COUNTIF(D18:W18,"(2)")) | AC18: =IF(COUNTIF(D18:W18,"(3)")=0," ",COUNTIF(D18:W18,"(3)")) | AD18: =IF(SUM(AA18:AC18)=0," ",SUM(AA18:AC18)) | AE18: =IF(Y18=0,Var!$B$8,IF(LARGE(D18:W18,1)>=175,Var!$B$4," ")) -> --- | AF18: =IF(Y18=0,Var!$B$8,IF(LARGE(D18:W18,1)>=290,Var!$B$4," ")) -> --- | AG18: =IF(Y18=0,Var!$B$8,IF(LARGE(D18:W18,1)>=400,Var!$B$4," ")) -> --- | AH18: =IF(Y18=0,Var!$B$8,IF(LARGE(D18:W18,1)>=475,Var!$B$4," ")) -> --- | AI18: =IF(Y18=0,Var!$B$8,IF(LARGE(D18:W18,1)>=550,Var!$B$4," ")) -> --- | AJ18: =IF(Y18=0,Var!$B$8,IF(LARGE(D18:W18,1)>=590,Var!$B$4," ")) -> ---
C19: Senior Homme Arc Chasse
Y20: =COUNT(D20:W20) -> 0 | Z20: =IF(Y20<3," ",(LARGE(D20:W20,1)+LARGE(D20:W20,2)+LARGE(D20:W20,3))/3) | AA20: =IF(COUNTIF(D20:W20,"(1)")=0," ",COUNTIF(D20:W20,"(1)")) | AB20: =IF(COUNTIF(D20:W20,"(2)")=0," ",COUNTIF(D20:W20,"(2)")) | AC20: =IF(COUNTIF(D20:W20,"(3)")=0," ",COUNTIF(D20:W20,"(3)")) | AD20: =IF(SUM(AA20:AC20)=0," ",SUM(AA20:AC20)) | AE20: =IF(Y20=0,Var!$B$8,IF(LARGE(D20:W20,1)>=175,Var!$B$4," ")) -> --- | AF20: =IF(Y20=0,Var!$B$8,IF(LARGE(D20:W20,1)>=290,Var!$B$4," ")) -> --- | AG20: =IF(Y20=0,Var!$B$8,IF(LARGE(D20:W20,1)>=400,Var!$B$4," ")) -> --- | AH20: =IF(Y20=0,Var!$B$8,IF(LARGE(D20:W20,1)>=475,Var!$B$4," ")) -> --- | AI20: =IF(Y20=0,Var!$B$8,IF(LARGE(D20:W20,1)>=550,Var!$B$4," ")) -> --- | AJ20: =IF(Y20=0,Var!$B$8,IF(LARGE(D20:W20,1)>=590,Var!$B$4," ")) -> ---
C21: Senior 2 Homme Arc Chasse
C22: DIDRICHE Frédéric | Y22: =COUNT(D22:W22) -> 0 | Z22: =IF(Y22<3," ",(LARGE(D22:W22,1)+LARGE(D22:W22,2)+LARGE(D22:W22,3))/3) | AA22: =IF(COUNTIF(D22:W22,"(1)")=0," ",COUNTIF(D22:W22,"(1)")) | AB22: =IF(COUNTIF(D22:W22,"(2)")=0," ",COUNTIF(D22:W22,"(2)")) | AC22: =IF(COUNTIF(D22:W22,"(3)")=0," ",COUNTIF(D22:W22,"(3)")) | AD22: =IF(SUM(AA22:AC22)=0," ",SUM(AA22:AC22)) | AE22: 22 | AF22: 22 | AG22: 22 | AH22: =IF(Y22=0,Var!$B$8,IF(LARGE(D22:W22,1)>=475,Var!$B$4," ")) -> --- | AI22: =IF(Y22=0,Var!$B$8,IF(LARGE(D22:W22,1)>=550,Var!$B$4," ")) -> --- | AJ22: =IF(Y22=0,Var!$B$8,IF(LARGE(D22:W22,1)>=590,Var!$B$4," ")) -> ---
C23: PRIN Jean-Charles | Y23: =COUNT(D23:W23) -> 0 | Z23: =IF(Y23<3," ",(LARGE(D23:W23,1)+LARGE(D23:W23,2)+LARGE(D23:W23,3))/3) | AA23: =IF(COUNTIF(D23:W23,"(1)")=0," ",COUNTIF(D23:W23,"(1)")) | AB23: =IF(COUNTIF(D23:W23,"(2)")=0," ",COUNTIF(D23:W23,"(2)")) | AC23: =IF(COUNTIF(D23:W23,"(3)")=0," ",COUNTIF(D23:W23,"(3)")) | AD23: =IF(SUM(AA23:AC23)=0," ",SUM(AA23:AC23)) | AE23: 14 | AF23: 14 | AG23: 14 | AH23: =IF(Y23=0,Var!$B$8,IF(LARGE(D23:W23,1)>=950,Var!$B$4," ")) -> --- | AI23: =IF(Y23=0,Var!$B$8,IF(LARGE(D23:W23,1)>=1100,Var!$B$4," ")) -> --- | AJ23: =IF(Y23=0,Var!$B$8,IF(LARGE(D23:W23,1)>=1175,Var!$B$4," ")) -> ---
Y24: =COUNT(D24:W24) -> 0 | AA24: =IF(COUNTIF(D24:W24,"(1)")=0," ",COUNTIF(D24:W24,"(1)")) | AB24: =IF(COUNTIF(D24:W24,"(2)")=0," ",COUNTIF(D24:W24,"(2)")) | AC24: =IF(COUNTIF(D24:W24,"(3)")=0," ",COUNTIF(D24:W24,"(3)")) | AD24: =IF(SUM(AA24:AC24)=0," ",SUM(AA24:AC24)) | AE24: =IF(Y24=0,Var!$B$8,IF(LARGE(D24:W24,1)>=175,Var!$B$4," ")) -> --- | AF24: =IF(Y24=0,Var!$B$8,IF(LARGE(D24:W24,1)>=290,Var!$B$4," ")) -> --- | AG24: =IF(Y24=0,Var!$B$8,IF(LARGE(D24:W24,1)>=400,Var!$B$4," ")) -> --- | AH24: =IF(Y24=0,Var!$B$8,IF(LARGE(D24:W24,1)>=475,Var!$B$4," ")) -> --- | AI24: =IF(Y24=0,Var!$B$8,IF(LARGE(D24:W24,1)>=550,Var!$B$4," ")) -> --- | AJ24: =IF(Y24=0,Var!$B$8,IF(LARGE(D24:W24,1)>=590,Var!$B$4," ")) -> ---
C25: SALAUN Hervé | Y25: =COUNT(D25:W25) -> 0 | Z25: =IF(Y25<3," ",(LARGE(D25:W25,1)+LARGE(D25:W25,2)+LARGE(D25:W25,3))/3) | AA25: =IF(COUNTIF(D25:W25,"(1)")=0," ",COUNTIF(D25:W25,"(1)")) | AB25: =IF(COUNTIF(D25:W25,"(2)")=0," ",COUNTIF(D25:W25,"(2)")) | AC25: =IF(COUNTIF(D25:W25,"(3)")=0," ",COUNTIF(D25:W25,"(3)")) | AD25: =IF(SUM(AA25:AC25)=0," ",SUM(AA25:AC25)) | AE25: 22 | AF25: 22 | AG25: 22 | AH25: =IF(Y25=0,Var!$B$8,IF(LARGE(D25:W25,1)>=475,Var!$B$4," ")) -> --- | AI25: =IF(Y25=0,Var!$B$8,IF(LARGE(D25:W25,1)>=550,Var!$B$4," ")) -> --- | AJ25: =IF(Y25=0,Var!$B$8,IF(LARGE(D25:W25,1)>=590,Var!$B$4," ")) -> ---
C27: Senior Homme Arc Droit | AE27: 125 | AF27: 240 | AG27: 350 | AH27: 425 | AI27: 500 | AJ27: 540
Y28: =COUNT(D28:W28) -> 0 | Z28: =IF(Y28<3," ",(LARGE(D28:W28,1)+LARGE(D28:W28,2)+LARGE(D28:W28,3))/3) | AA28: =IF(COUNTIF(D28:W28,"(1)")=0," ",COUNTIF(D28:W28,"(1)")) | AB28: =IF(COUNTIF(D28:W28,"(2)")=0," ",COUNTIF(D28:W28,"(2)")) | AC28: =IF(COUNTIF(D28:W28,"(3)")=0," ",COUNTIF(D28:W28,"(3)")) | AD28: =IF(SUM(AA28:AC28)=0," ",SUM(AA28:AC28)) | AE28: =IF(Y28=0,Var!$B$8,IF(LARGE(D28:W28,1)>=125,Var!$B$4," ")) -> --- | AF28: =IF(Y28=0,Var!$B$8,IF(LARGE(D28:W28,1)>=240,Var!$B$4," ")) -> --- | AG28: =IF(Y28=0,Var!$B$8,IF(LARGE(D28:W28,1)>=350,Var!$B$4," ")) -> --- | AH28: =IF(Y28=0,Var!$B$8,IF(LARGE(D28:W28,1)>=425,Var!$B$4," ")) -> --- | AI28: =IF(Y28=0,Var!$B$8,IF(LARGE(D28:W28,1)>=500,Var!$B$4," ")) -> --- | AJ28: =IF(Y28=0,Var!$B$8,IF(LARGE(D28:W28,1)>=540,Var!$B$4," ")) -> ---
C29: Senior 2 Homme Arc Droit
Y30: =COUNT(D30:W30) -> 0 | Z30: =IF(Y30<3," ",(LARGE(D30:W30,1)+LARGE(D30:W30,2)+LARGE(D30:W30,3))/3) | AA30: =IF(COUNTIF(D30:W30,"(1)")=0," ",COUNTIF(D30:W30,"(1)")) | AB30: =IF(COUNTIF(D30:W30,"(2)")=0," ",COUNTIF(D30:W30,"(2)")) | AC30: =IF(COUNTIF(D30:W30,"(3)")=0," ",COUNTIF(D30:W30,"(3)")) | AD30: =IF(SUM(AA30:AC30)=0," ",SUM(AA30:AC30)) | AE30: =IF(Y30=0,Var!$B$8,IF(LARGE(D30:W30,1)>=125,Var!$B$4," ")) -> --- | AF30: =IF(Y30=0,Var!$B$8,IF(LARGE(D30:W30,1)>=240,Var!$B$4," ")) -> --- | AG30: =IF(Y30=0,Var!$B$8,IF(LARGE(D30:W30,1)>=350,Var!$B$4," ")) -> --- | AH30: =IF(Y30=0,Var!$B$8,IF(LARGE(D30:W30,1)>=425,Var!$B$4," ")) -> --- | AI30: =IF(Y30=0,Var!$B$8,IF(LARGE(D30:W30,1)>=500,Var!$B$4," ")) -> --- | AJ30: =IF(Y30=0,Var!$B$8,IF(LARGE(D30:W30,1)>=540,Var!$B$4," ")) -> ---
Y31: =COUNT(D31:W31) -> 0 | Z31: =IF(Y31<3," ",(LARGE(D31:W31,1)+LARGE(D31:W31,2)+LARGE(D31:W31,3))/3) | AA31: =IF(COUNTIF(D31:W31,"(1)")=0," ",COUNTIF(D31:W31,"(1)")) | AB31: =IF(COUNTIF(D31:W31,"(2)")=0," ",COUNTIF(D31:W31,"(2)")) | AC31: =IF(COUNTIF(D31:W31,"(3)")=0," ",COUNTIF(D31:W31,"(3)")) | AD31: =IF(SUM(AA31:AC31)=0," ",SUM(AA31:AC31)) | AE31: =IF(Y31=0,Var!$B$8,IF(LARGE(D31:W31,1)>=125,Var!$B$4," ")) -> --- | AF31: =IF(Y31=0,Var!$B$8,IF(LARGE(D31:W31,1)>=240,Var!$B$4," ")) -> --- | AG31: =IF(Y31=0,Var!$B$8,IF(LARGE(D31:W31,1)>=350,Var!$B$4," ")) -> --- | AH31: =IF(Y31=0,Var!$B$8,IF(LARGE(D31:W31,1)>=425,Var!$B$4," ")) -> --- | AI31: =IF(Y31=0,Var!$B$8,IF(LARGE(D31:W31,1)>=500,Var!$B$4," ")) -> --- | AJ31: =IF(Y31=0,Var!$B$8,IF(LARGE(D31:W31,1)>=540,Var!$B$4," ")) -> ---
C33: Senior Femme Arc Nu | AE33: 200 | AF33: 315 | AG33: 425 | AH33: 500 | AI33: 575 | AJ33: 615
Y34: =COUNT(D34:W34) -> 0 | Z34: =IF(Y34<3," ",(LARGE(D34:W34,1)+LARGE(D34:W34,2)+LARGE(D34:W34,3))/3) | AA34: =IF(COUNTIF(D34:W34,"(1)")=0," ",COUNTIF(D34:W34,"(1)")) | AB34: =IF(COUNTIF(D34:W34,"(2)")=0," ",COUNTIF(D34:W34,"(2)")) | AC34: =IF(COUNTIF(D34:W34,"(3)")=0," ",COUNTIF(D34:W34,"(3)")) | AD34: =IF(SUM(AA34:AC34)=0," ",SUM(AA34:AC34)) | AE34: =IF(Y34=0,Var!$B$8,IF(LARGE(D34:W34,1)>=200,Var!$B$4," ")) -> --- | AF34: =IF(Y34=0,Var!$B$8,IF(LARGE(D34:W34,1)>=315,Var!$B$4," ")) -> --- | AG34: =IF(Y34=0,Var!$B$8,IF(LARGE(D34:W34,1)>=425,Var!$B$4," ")) -> --- | AH34: =IF(Y34=0,Var!$B$8,IF(LARGE(D34:W34,1)>=500,Var!$B$4," ")) -> --- | AI34: =IF(Y34=0,Var!$B$8,IF(LARGE(D34:W34,1)>=575,Var!$B$4," ")) -> --- | AJ34: =IF(Y34=0,Var!$B$8,IF(LARGE(D34:W34,1)>=615,Var!$B$4," ")) -> ---
Y35: =COUNT(D35:W35) -> 0 | Z35: =IF(Y35<3," ",(LARGE(D35:W35,1)+LARGE(D35:W35,2)+LARGE(D35:W35,3))/3) | AA35: =IF(COUNTIF(D35:W35,"(1)")=0," ",COUNTIF(D35:W35,"(1)")) | AB35: =IF(COUNTIF(D35:W35,"(2)")=0," ",COUNTIF(D35:W35,"(2)")) | AC35: =IF(COUNTIF(D35:W35,"(3)")=0," ",COUNTIF(D35:W35,"(3)")) | AD35: =IF(SUM(AA35:AC35)=0," ",SUM(AA35:AC35)) | AE35: =IF(Y35=0,Var!$B$8,IF(LARGE(D35:W35,1)>=200,Var!$B$4," ")) -> --- | AF35: =IF(Y35=0,Var!$B$8,IF(LARGE(D35:W35,1)>=315,Var!$B$4," ")) -> --- | AG35: =IF(Y35=0,Var!$B$8,IF(LARGE(D35:W35,1)>=425,Var!$B$4," ")) -> --- | AH35: =IF(Y35=0,Var!$B$8,IF(LARGE(D35:W35,1)>=500,Var!$B$4," ")) -> --- | AI35: =IF(Y35=0,Var!$B$8,IF(LARGE(D35:W35,1)>=575,Var!$B$4," ")) -> --- | AJ35: =IF(Y35=0,Var!$B$8,IF(LARGE(D35:W35,1)>=615,Var!$B$4," ")) -> ---
C36: Senior2 Homme Arc Nu
B37: 1 | C37: GAWLOWIEZ Franck | Y37: =COUNT(D37:W37) -> 0 | Z37: =IF(Y37<3," ",(LARGE(D37:W37,1)+LARGE(D37:W37,2)+LARGE(D37:W37,3))/3) | AA37: =IF(COUNTIF(D37:W37,"(1)")=0," ",COUNTIF(D37:W37,"(1)")) | AB37: =IF(COUNTIF(D37:W37,"(2)")=0," ",COUNTIF(D37:W37,"(2)")) | AC37: =IF(COUNTIF(D37:W37,"(3)")=0," ",COUNTIF(D37:W37,"(3)")) | AD37: =IF(SUM(AA37:AC37)=0," ",SUM(AA37:AC37)) | AE37: 23 | AF37: 25 | AG37: 26 | AH37: 26 | AI37: 26 | AJ37: 26
C39: Junior Femme Arc Libre
Y40: =COUNT(D40:W40) -> 0 | Z40: =IF(Y40<3," ",(LARGE(D40:W40,1)+LARGE(D40:W40,2)+LARGE(D40:W40,3))/3) | AA40: =IF(COUNTIF(D40:W40,"(1)")=0," ",COUNTIF(D40:W40,"(1)")) | AB40: =IF(COUNTIF(D40:W40,"(2)")=0," ",COUNTIF(D40:W40,"(2)")) | AC40: =IF(COUNTIF(D40:W40,"(3)")=0," ",COUNTIF(D40:W40,"(3)")) | AD40: =IF(SUM(AA40:AC40)=0," ",SUM(AA40:AC40)) | AE40: =IF(Y40=0,Var!$B$8,IF(LARGE(D40:W40,1)>=200,Var!$B$4," ")) -> --- | AF40: =IF(Y40=0,Var!$B$8,IF(LARGE(D40:W40,1)>=315,Var!$B$4," ")) -> --- | AG40: =IF(Y40=0,Var!$B$8,IF(LARGE(D40:W40,1)>=425,Var!$B$4," ")) -> --- | AH40: =IF(Y40=0,Var!$B$8,IF(LARGE(D40:W40,1)>=500,Var!$B$4," ")) -> --- | AI40: =IF(Y40=0,Var!$B$8,IF(LARGE(D40:W40,1)>=575,Var!$B$4," ")) -> --- | AJ40: =IF(Y40=0,Var!$B$8,IF(LARGE(D40:W40,1)>=615,Var!$B$4," ")) -> ---
C41: Senior Femme Arc Libre | AE41: 300 | AF41: 415 | AG41: 525 | AH41: 600 | AI41: 675 | AJ41: 715
Y42: =COUNT(D42:W42) -> 0 | Z42: =IF(Y42<3," ",(LARGE(D42:W42,1)+LARGE(D42:W42,2)+LARGE(D42:W42,3))/3) | AA42: =IF(COUNTIF(D42:W42,"(1)")=0," ",COUNTIF(D42:W42,"(1)")) | AB42: =IF(COUNTIF(D42:W42,"(2)")=0," ",COUNTIF(D42:W42,"(2)")) | AC42: =IF(COUNTIF(D42:W42,"(3)")=0," ",COUNTIF(D42:W42,"(3)")) | AD42: =IF(SUM(AA42:AC42)=0," ",SUM(AA42:AC42)) | AE42: =IF(Y42=0,Var!$B$8,IF(LARGE(D42:W42,1)>=300,Var!$B$4," ")) -> --- | AF42: =IF(Y42=0,Var!$B$8,IF(LARGE(D42:W42,1)>=415,Var!$B$4," ")) -> --- | AG42: =IF(Y42=0,Var!$B$8,IF(LARGE(D42:W42,1)>=525,Var!$B$4," ")) -> --- | AH42: =IF(Y42=0,Var!$B$8,IF(LARGE(D42:W42,1)>=600,Var!$B$4," ")) -> --- | AI42: =IF(Y42=0,Var!$B$8,IF(LARGE(D42:W42,1)>=675,Var!$B$4," ")) -> --- | AJ42: =IF(Y42=0,Var!$B$8,IF(LARGE(D42:W42,1)>=715,Var!$B$4," ")) -> ---
C43: Junior Homme Arc Libre
Y44: =COUNT(D44:W44) -> 0 | Z44: =IF(Y44<3," ",(LARGE(D44:W44,1)+LARGE(D44:W44,2)+LARGE(D44:W44,3))/3) | AA44: =IF(COUNTIF(D44:W44,"(1)")=0," ",COUNTIF(D44:W44,"(1)")) | AB44: =IF(COUNTIF(D44:W44,"(2)")=0," ",COUNTIF(D44:W44,"(2)")) | AC44: =IF(COUNTIF(D44:W44,"(3)")=0," ",COUNTIF(D44:W44,"(3)")) | AD44: =IF(SUM(AA44:AC44)=0," ",SUM(AA44:AC44)) | AE44: =IF(Y44=0,Var!$B$8,IF(LARGE(D44:W44,1)>=300,Var!$B$4," ")) -> --- | AF44: =IF(Y44=0,Var!$B$8,IF(LARGE(D44:W44,1)>=415,Var!$B$4," ")) -> --- | AG44: =IF(Y44=0,Var!$B$8,IF(LARGE(D44:W44,1)>=525,Var!$B$4," ")) -> --- | AH44: =IF(Y44=0,Var!$B$8,IF(LARGE(D44:W44,1)>=600,Var!$B$4," ")) -> --- | AI44: =IF(Y44=0,Var!$B$8,IF(LARGE(D44:W44,1)>=675,Var!$B$4," ")) -> --- | AJ44: =IF(Y44=0,Var!$B$8,IF(LARGE(D44:W44,1)>=715,Var!$B$4," ")) -> ---
Y45: =COUNT(D45:W45) -> 0 | Z45: =IF(Y45<3," ",(LARGE(D45:W45,1)+LARGE(D45:W45,2)+LARGE(D45:W45,3))/3) | AA45: =IF(COUNTIF(D45:W45,"(1)")=0," ",COUNTIF(D45:W45,"(1)")) | AB45: =IF(COUNTIF(D45:W45,"(2)")=0," ",COUNTIF(D45:W45,"(2)")) | AC45: =IF(COUNTIF(D45:W45,"(3)")=0," ",COUNTIF(D45:W45,"(3)")) | AD45: =IF(SUM(AA45:AC45)=0," ",SUM(AA45:AC45)) | AE45: =IF(Y45=0,Var!$B$8,IF(LARGE(D45:W45,1)>=300,Var!$B$4," ")) -> --- | AF45: =IF(Y45=0,Var!$B$8,IF(LARGE(D45:W45,1)>=415,Var!$B$4," ")) -> --- | AG45: =IF(Y45=0,Var!$B$8,IF(LARGE(D45:W45,1)>=525,Var!$B$4," ")) -> --- | AH45: =IF(Y45=0,Var!$B$8,IF(LARGE(D45:W45,1)>=600,Var!$B$4," ")) -> --- | AI45: =IF(Y45=0,Var!$B$8,IF(LARGE(D45:W45,1)>=675,Var!$B$4," ")) -> --- | AJ45: =IF(Y45=0,Var!$B$8,IF(LARGE(D45:W45,1)>=715,Var!$B$4," ")) -> ---
C46: Senior Homme Arc Libre
Y47: =COUNT(D47:W47) -> 0 | Z47: =IF(Y47<3," ",(LARGE(D47:W47,1)+LARGE(D47:W47,2)+LARGE(D47:W47,3))/3) | AA47: =IF(COUNTIF(D47:W47,"(1)")=0," ",COUNTIF(D47:W47,"(1)")) | AB47: =IF(COUNTIF(D47:W47,"(2)")=0," ",COUNTIF(D47:W47,"(2)")) | AC47: =IF(COUNTIF(D47:W47,"(3)")=0," ",COUNTIF(D47:W47,"(3)")) | AD47: =IF(SUM(AA47:AC47)=0," ",SUM(AA47:AC47)) | AE47: =IF(Y47=0,Var!$B$8,IF(LARGE(D47:W47,1)>=300,Var!$B$4," ")) -> --- | AF47: =IF(Y47=0,Var!$B$8,IF(LARGE(D47:W47,1)>=415,Var!$B$4," ")) -> --- | AG47: =IF(Y47=0,Var!$B$8,IF(LARGE(D47:W47,1)>=525,Var!$B$4," ")) -> --- | AH47: =IF(Y47=0,Var!$B$8,IF(LARGE(D47:W47,1)>=600,Var!$B$4," ")) -> --- | AI47: =IF(Y47=0,Var!$B$8,IF(LARGE(D47:W47,1)>=675,Var!$B$4," ")) -> --- | AJ47: =IF(Y47=0,Var!$B$8,IF(LARGE(D47:W47,1)>=715,Var!$B$4," ")) -> ---
Y48: =COUNT(D48:W48) -> 0 | Z48: =IF(Y48<3," ",(LARGE(D48:W48,1)+LARGE(D48:W48,2)+LARGE(D48:W48,3))/3) | AA48: =IF(COUNTIF(D48:W48,"(1)")=0," ",COUNTIF(D48:W48,"(1)")) | AB48: =IF(COUNTIF(D48:W48,"(2)")=0," ",COUNTIF(D48:W48,"(2)")) | AC48: =IF(COUNTIF(D48:W48,"(3)")=0," ",COUNTIF(D48:W48,"(3)")) | AD48: =IF(SUM(AA48:AC48)=0," ",SUM(AA48:AC48)) | AE48: =IF(Y48=0,Var!$B$8,IF(LARGE(D48:W48,1)>=300,Var!$B$4," ")) -> --- | AF48: =IF(Y48=0,Var!$B$8,IF(LARGE(D48:W48,1)>=415,Var!$B$4," ")) -> --- | AG48: =IF(Y48=0,Var!$B$8,IF(LARGE(D48:W48,1)>=525,Var!$B$4," ")) -> --- | AH48: =IF(Y48=0,Var!$B$8,IF(LARGE(D48:W48,1)>=600,Var!$B$4," ")) -> --- | AI48: =IF(Y48=0,Var!$B$8,IF(LARGE(D48:W48,1)>=675,Var!$B$4," ")) -> --- | AJ48: =IF(Y48=0,Var!$B$8,IF(LARGE(D48:W48,1)>=715,Var!$B$4," ")) -> ---
C50: Senior Homme Compound | AE50: 250 | AF50: 340 | AG50: 450 | AH50: 525 | AI50: 600 | AJ50: 640
Y51: =COUNT(D51:W51) -> 0 | Z51: =IF(Y51<3," ",(LARGE(D51:W51,1)+LARGE(D51:W51,2)+LARGE(D51:W51,3))/3) | AA51: =IF(COUNTIF(D51:W51,"(1)")=0," ",COUNTIF(D51:W51,"(1)")) | AB51: =IF(COUNTIF(D51:W51,"(2)")=0," ",COUNTIF(D51:W51,"(2)")) | AC51: =IF(COUNTIF(D51:W51,"(3)")=0," ",COUNTIF(D51:W51,"(3)")) | AD51: =IF(SUM(AA51:AC51)=0," ",SUM(AA51:AC51)) | AE51: =IF(Y51=0,Var!$B$8,IF(LARGE(D51:W51,1)>=250,Var!$B$4," ")) -> --- | AF51: =IF(Y51=0,Var!$B$8,IF(LARGE(D51:W51,1)>=340,Var!$B$4," ")) -> --- | AG51: =IF(Y51=0,Var!$B$8,IF(LARGE(D51:W51,1)>=450,Var!$B$4," ")) -> --- | AH51: =IF(Y51=0,Var!$B$8,IF(LARGE(D51:W51,1)>=525,Var!$B$4," ")) -> --- | AI51: =IF(Y51=0,Var!$B$8,IF(LARGE(D51:W51,1)>=600,Var!$B$4," ")) -> --- | AJ51: =IF(Y51=0,Var!$B$8,IF(LARGE(D51:W51,1)>=640,Var!$B$4," ")) -> ---
Y52: =COUNT(D52:W52) -> 0 | Z52: =IF(Y52<3," ",(LARGE(D52:W52,1)+LARGE(D52:W52,2)+LARGE(D52:W52,3))/3) | AA52: =IF(COUNTIF(D52:W52,"(1)")=0," ",COUNTIF(D52:W52,"(1)")) | AB52: =IF(COUNTIF(D52:W52,"(2)")=0," ",COUNTIF(D52:W52,"(2)")) | AC52: =IF(COUNTIF(D52:W52,"(3)")=0," ",COUNTIF(D52:W52,"(3)")) | AD52: =IF(SUM(AA52:AC52)=0," ",SUM(AA52:AC52)) | AE52: =IF(Y52=0,Var!$B$8,IF(LARGE(D52:W52,1)>=250,Var!$B$4," ")) -> --- | AF52: =IF(Y52=0,Var!$B$8,IF(LARGE(D52:W52,1)>=340,Var!$B$4," ")) -> --- | AG52: =IF(Y52=0,Var!$B$8,IF(LARGE(D52:W52,1)>=450,Var!$B$4," ")) -> --- | AH52: =IF(Y52=0,Var!$B$8,IF(LARGE(D52:W52,1)>=525,Var!$B$4," ")) -> --- | AI52: =IF(Y52=0,Var!$B$8,IF(LARGE(D52:W52,1)>=600,Var!$B$4," ")) -> --- | AJ52: =IF(Y52=0,Var!$B$8,IF(LARGE(D52:W52,1)>=640,Var!$B$4," ")) -> ---
C54: Nombre d'Archer participants aux concours FFTA : | N54: =SUM(B8:B52) -> 1 | Y54: =SUM(Y8:Y52) -> 0 | AA54: =SUM(AA8:AA52) -> 0 | AB54: =SUM(AB8:AB52) -> 0 | AC54: =SUM(AC8:AC52) -> 0 | AD54: =SUM(AD8:AD52) -> 0 | AE54: =TODAY() -> 46278

Sheet Beursault
AD4: Podiums | AH4: Ecussons FFTA
AD5: Or | AE5: Ag | AF5: Br | AG5: Tt | AH5: 32 | AI5: 35 | AJ5: 38 | AK5: 40
AB6: NB
C8: U13Homme
AB9: =COUNT(D9:AA9) -> 0 | AD9: =IF(COUNTIF(D9:AA9,"(1)")=0," ",COUNTIF(D9:AA9,"(1)")) | AE9: =IF(COUNTIF(D9:AA9,"(2)")=0," ",COUNTIF(D9:AA9,"(2)")) | AF9: =IF(COUNTIF(D9:AA9,"(3)")=0," ",COUNTIF(D9:AA9,"(3)")) | AG9: =IF(SUM(AD9:AF9)=0," ",SUM(AD9:AF9))
C10: U15 Homme Cl
B11: 1 | C11: FROTTE Maxime | AB11: =COUNT(D11:AA11) -> 0 | AD11: =IF(COUNTIF(D11:AA11,"(1)")=0," ",COUNTIF(D11:AA11,"(1)")) | AE11: =IF(COUNTIF(D11:AA11,"(2)")=0," ",COUNTIF(D11:AA11,"(2)")) | AF11: =IF(COUNTIF(D11:AA11,"(3)")=0," ",COUNTIF(D11:AA11,"(3)")) | AG11: =IF(SUM(AD11:AF11)=0," ",SUM(AD11:AF11)) | AH11: 26 | AI11: =IF(AB11=0,Var!$B$8,IF(LARGE(D11:AA11,1)>=35,Var!$B$4," ")) -> --- | AJ11: =IF(AB11=0,Var!$B$8,IF(LARGE(D11:AA11,1)>=38,Var!$B$4," ")) -> --- | AK11: =IF(AB11=0,Var!$B$8,IF(LARGE(D11:AA11,1)=40,Var!$B$4," ")) -> ---
C12: U18 Femme
AB13: =COUNT(D13:AA13) -> 0 | AD13: =IF(COUNTIF(D13:AA13,"(1)")=0," ",COUNTIF(D13:AA13,"(1)")) | AE13: =IF(COUNTIF(D13:AA13,"(2)")=0," ",COUNTIF(D13:AA13,"(2)")) | AF13: =IF(COUNTIF(D13:AA13,"(3)")=0," ",COUNTIF(D13:AA13,"(3)")) | AG13: =IF(SUM(AD13:AF13)=0," ",SUM(AD13:AF13))
C14: Senior 1 Femme | AB14: =COUNT(D14:AA14) -> 0
C15: GUILLAUMIE Charlène | AB15: =COUNT(D15:AA15) -> 0 | AD15: =IF(COUNTIF(D15:AA15,"(1)")=0," ",COUNTIF(D15:AA15,"(1)")) | AE15: =IF(COUNTIF(D15:AA15,"(2)")=0," ",COUNTIF(D15:AA15,"(2)")) | AF15: =IF(COUNTIF(D15:AA15,"(3)")=0," ",COUNTIF(D15:AA15,"(3)")) | AG15: =IF(SUM(AD15:AF15)=0," ",SUM(AD15:AF15)) | AH15: 25
AB16: =COUNT(D16:AA16) -> 0 | AD16: =IF(COUNTIF(D16:AA16,"(1)")=0," ",COUNTIF(D16:AA16,"(1)")) | AE16: =IF(COUNTIF(D16:AA16,"(2)")=0," ",COUNTIF(D16:AA16,"(2)")) | AF16: =IF(COUNTIF(D16:AA16,"(3)")=0," ",COUNTIF(D16:AA16,"(3)")) | AG16: =IF(SUM(AD16:AF16)=0," ",SUM(AD16:AF16))
C17: Junior Homme Compound
AB18: =COUNT(D18:AA18) -> 0 | AD18: =IF(COUNTIF(D18:AA18,"(1)")=0," ",COUNTIF(D18:AA18,"(1)")) | AE18: =IF(COUNTIF(D18:AA18,"(2)")=0," ",COUNTIF(D18:AA18,"(2)")) | AF18: =IF(COUNTIF(D18:AA18,"(3)")=0," ",COUNTIF(D18:AA18,"(3)")) | AG18: =IF(SUM(AD18:AF18)=0," ",SUM(AD18:AF18))
C19: Senior 1 Homme Compound
C20: STRYJEK Julien | AB20: =COUNT(D20:AA20) -> 0 | AD20: =IF(COUNTIF(D20:AA20,"(1)")=0," ",COUNTIF(D20:AA20,"(1)")) | AE20: =IF(COUNTIF(D20:AA20,"(2)")=0," ",COUNTIF(D20:AA20,"(2)")) | AF20: =IF(COUNTIF(D20:AA20,"(3)")=0," ",COUNTIF(D20:AA20,"(3)")) | AG20: =IF(SUM(AD20:AF20)=0," ",SUM(AD20:AF20)) | AH20: 22 | AI20: 22 | AJ20: 22
C21: Senior 1 Homme Classique
AB22: =COUNT(D22:AA22) -> 0 | AD22: =IF(COUNTIF(D22:AA22,"(1)")=0," ",COUNTIF(D22:AA22,"(1)")) | AE22: =IF(COUNTIF(D22:AA22,"(2)")=0," ",COUNTIF(D22:AA22,"(2)")) | AF22: =IF(COUNTIF(D22:AA22,"(3)")=0," ",COUNTIF(D22:AA22,"(3)")) | AG22: =IF(SUM(AD22:AF22)=0," ",SUM(AD22:AF22))
C23: Senior 3 Homme - AD
AB24: =COUNT(D24:AA24) -> 0 | AD24: =IF(COUNTIF(D24:AA24,"(1)")=0," ",COUNTIF(D24:AA24,"(1)")) | AE24: =IF(COUNTIF(D24:AA24,"(2)")=0," ",COUNTIF(D24:AA24,"(2)")) | AF24: =IF(COUNTIF(D24:AA24,"(3)")=0," ",COUNTIF(D24:AA24,"(3)")) | AG24: =IF(SUM(AD24:AF24)=0," ",SUM(AD24:AF24)) | AH24: =IF(BE24=0,Var!$B$8,IF(LARGE(D24:AA24,1)>=32,Var!$B$4," ")) -> --- | AI24: =IF(BE24=0,Var!$B$8,IF(LARGE(D24:AA24,1)>=35,Var!$B$4," ")) -> --- | AJ24: =IF(BE24=0,Var!$B$8,IF(LARGE(D24:AA24,1)>=38,Var!$B$4," ")) -> --- | AK24: =IF(BE24=0,Var!$B$8,IF(LARGE(D24:AA24,1)=40,Var!$B$4," ")) -> ---
C25: Senior Homme Arc Nu
B26: 1 | C26: CLAIN Cédric | AB26: =COUNT(D26:AA26) -> 0 | AD26: =IF(COUNTIF(D26:AA26,"(1)")=0," ",COUNTIF(D26:AA26,"(1)")) | AE26: =IF(COUNTIF(D26:AA26,"(2)")=0," ",COUNTIF(D26:AA26,"(2)")) | AF26: =IF(COUNTIF(D26:AA26,"(3)")=0," ",COUNTIF(D26:AA26,"(3)")) | AG26: =IF(SUM(AD26:AF26)=0," ",SUM(AD26:AF26)) | AH26: =IF(BE26=0,Var!$B$8,IF(LARGE(D26:AA26,1)>=32,Var!$B$4," ")) -> --- | AI26: =IF(BE26=0,Var!$B$8,IF(LARGE(D26:AA26,1)>=35,Var!$B$4," ")) -> --- | AJ26: =IF(BE26=0,Var!$B$8,IF(LARGE(D26:AA26,1)>=38,Var!$B$4," ")) -> --- | AK26: =IF(BE26=0,Var!$B$8,IF(LARGE(D26:AA26,1)=40,Var!$B$4," ")) -> ---
B27: 1 | C27: GAWLOWIEZ Franck | AB27: =COUNT(D27:AA27) -> 0 | AD27: =IF(COUNTIF(D27:AA27,"(1)")=0," ",COUNTIF(D27:AA27,"(1)")) | AE27: =IF(COUNTIF(D27:AA27,"(2)")=0," ",COUNTIF(D27:AA27,"(2)")) | AF27: 1 | AG27: =IF(SUM(AD27:AF27)=0," ",SUM(AD27:AF27)) -> 1 | AH27: 25 | AI27: 25 | AJ27: 25 | AK27: =IF(BE27=0,Var!$B$8,IF(LARGE(D27:AA27,1)=40,Var!$B$4," ")) -> ---
C28: Senior 2 Femme Cl
AB29: =COUNT(D29:AA29) -> 0 | AD29: =IF(COUNTIF(D29:AA29,"(1)")=0," ",COUNTIF(D29:AA29,"(1)")) | AE29: =IF(COUNTIF(D29:AA29,"(2)")=0," ",COUNTIF(D29:AA29,"(2)")) | AF29: =IF(COUNTIF(D29:AA29,"(3)")=0," ",COUNTIF(D29:AA29,"(3)")) | AG29: =IF(SUM(AD29:AF29)=0," ",SUM(AD29:AF29)) | AH29: =IF(BE29=0,Var!$B$8,IF(LARGE(D29:AA29,1)>=32,Var!$B$4," ")) -> --- | AI29: =IF(BE29=0,Var!$B$8,IF(LARGE(D29:AA29,1)>=35,Var!$B$4," ")) -> --- | AJ29: =IF(BE29=0,Var!$B$8,IF(LARGE(D29:AA29,1)>=38,Var!$B$4," ")) -> --- | AK29: =IF(BE29=0,Var!$B$8,IF(LARGE(D29:AA29,1)=40,Var!$B$4," ")) -> ---
C30: Senior 2 Homme Cl
B31: 1 | C31: MULLER Christian | AB31: =COUNT(D31:AA31) -> 0 | AD31: =IF(COUNTIF(D31:AA31,"(1)")=0," ",COUNTIF(D31:AA31,"(1)")) | AE31: =IF(COUNTIF(D31:AA31,"(2)")=0," ",COUNTIF(D31:AA31,"(2)")) | AF31: =IF(COUNTIF(D31:AA31,"(3)")=0," ",COUNTIF(D31:AA31,"(3)")) | AG31: =IF(SUM(AD31:AF31)=0," ",SUM(AD31:AF31)) | AH31: 23 | AI31: 23 | AJ31: =IF(BE31=0,Var!$B$8,IF(LARGE(D31:AA31,1)>=38,Var!$B$4," ")) -> --- | AK31: =IF(BE31=0,Var!$B$8,IF(LARGE(D31:AA31,1)>=40,Var!$B$4," ")) -> ---
C32: Senior 3 Femme Cl
C33: VOLVERT Claudette | AB33: =COUNT(D33:AA33) -> 0 | AD33: =IF(COUNTIF(D33:AA33,"(1)")=0," ",COUNTIF(D33:AA33,"(1)")) | AE33: =IF(COUNTIF(D33:AA33,"(2)")=0," ",COUNTIF(D33:AA33,"(2)")) | AF33: =IF(COUNTIF(D33:AA33,"(3)")=0," ",COUNTIF(D33:AA33,"(3)")) | AG33: =IF(SUM(AD33:AF33)=0," ",SUM(AD33:AF33)) | AH33: 99 | AI33: 99 | AJ33: 99 | AK33: =IF(BE33=0,Var!$B$8,IF(LARGE(D33:AA33,1)=40,Var!$B$4," ")) -> ---
AB34: =COUNT(D34:AA34) -> 0 | AD34: =IF(COUNTIF(D34:AA34,"(1)")=0," ",COUNTIF(D34:AA34,"(1)")) | AE34: =IF(COUNTIF(D34:AA34,"(2)")=0," ",COUNTIF(D34:AA34,"(2)")) | AF34: =IF(COUNTIF(D34:AA34,"(3)")=0," ",COUNTIF(D34:AA34,"(3)")) | AG34: =IF(SUM(AD34:AF34)=0," ",SUM(AD34:AF34)) | AH34: =IF(BE34=0,Var!$B$8,IF(LARGE(D34:AA34,1)>=32,Var!$B$4," ")) -> --- | AI34: =IF(BE34=0,Var!$B$8,IF(LARGE(D34:AA34,1)>=35,Var!$B$4," ")) -> --- | AJ34: =IF(BE34=0,Var!$B$8,IF(LARGE(D34:AA34,1)>=38,Var!$B$4," ")) -> --- | AK34: =IF(BE34=0,Var!$B$8,IF(LARGE(D34:AA34,1)=40,Var!$B$4," ")) -> ---
C35: Senior 3 Homme Cl
C36: PHULPIN Pascal | AD36: =IF(COUNTIF(D36:AA36,"(1)")=0," ",COUNTIF(D36:AA36,"(1)")) | AE36: =IF(COUNTIF(D36:AA36,"(2)")=0," ",COUNTIF(D36:AA36,"(2)")) | AF36: =IF(COUNTIF(D36:AA36,"(3)")=0," ",COUNTIF(D36:AA36,"(3)")) | AG36: =IF(SUM(AD36:AF36)=0," ",SUM(AD36:AF36)) | AH36: 22 | AI36: 22 | AJ36: 22 | AK36: 23
AB37: =COUNT(D37:AA37) -> 0 | AD37: =IF(COUNTIF(D37:AA37,"(1)")=0," ",COUNTIF(D37:AA37,"(1)")) | AE37: =IF(COUNTIF(D37:AA37,"(2)")=0," ",COUNTIF(D37:AA37,"(2)")) | AF37: =IF(COUNTIF(D37:AA37,"(3)")=0," ",COUNTIF(D37:AA37,"(3)")) | AG37: =IF(SUM(AD37:AF37)=0," ",SUM(AD37:AF37)) | AH37: =IF(BE37=0,Var!$B$8,IF(LARGE(D37:AA37,1)>=32,Var!$B$4," ")) -> --- | AI37: =IF(BE37=0,Var!$B$8,IF(LARGE(D37:AA37,1)>=35,Var!$B$4," ")) -> --- | AJ37: =IF(BE37=0,Var!$B$8,IF(LARGE(D37:AA37,1)>=38,Var!$B$4," ")) -> --- | AK37: =IF(BE37=0,Var!$B$8,IF(LARGE(D37:AA37,1)>=40,Var!$B$4," ")) -> ---
C38: Senior 3 Femme Compound
B39: 1 | C39: HOUWER Françoise | AB39: =COUNT(D39:AA39) -> 0 | AD39: =IF(COUNTIF(D39:AA39,"(1)")=0," ",COUNTIF(D39:AA39,"(1)")) | AE39: =IF(COUNTIF(D39:AA39,"(2)")=0," ",COUNTIF(D39:AA39,"(2)")) | AF39: =IF(COUNTIF(D39:AA39,"(3)")=0," ",COUNTIF(D39:AA39,"(3)")) | AG39: =IF(SUM(AD39:AF39)=0," ",SUM(AD39:AF39)) | AH39: 25 | AI39: 25 | AJ39: 25 | AK39: =IF(BE39=0,Var!$B$8,IF(LARGE(D39:AA39,1)=40,Var!$B$4," ")) -> ---
C40: Senior 2 Homme Compound
C41: BOULANGER Emmanuel | AD41: =IF(COUNTIF(D41:AA41,"(1)")=0," ",COUNTIF(D41:AA41,"(1)")) | AE41: =IF(COUNTIF(D41:AA41,"(2)")=0," ",COUNTIF(D41:AA41,"(2)")) | AF41: =IF(COUNTIF(D41:AA41,"(3)")=0," ",COUNTIF(D41:AA41,"(3)")) | AG41: =IF(SUM(AD41:AF41)=0," ",SUM(AD41:AF41)) | AH41: 24 | AI41: 24 | AJ41: 24 | AK41: 24
C42: DEMANGE Damien | AB42: =COUNT(D42:AA42) -> 0 | AD42: =IF(COUNTIF(D42:AA42,"(1)")=0," ",COUNTIF(D42:AA42,"(1)")) | AE42: =IF(COUNTIF(D42:AA42,"(2)")=0," ",COUNTIF(D42:AA42,"(2)")) | AF42: =IF(COUNTIF(D42:AA42,"(3)")=0," ",COUNTIF(D42:AA42,"(3)")) | AG42: =IF(SUM(AD42:AF42)=0," ",SUM(AD42:AF42)) | AH42: 22 | AI42: 22 | AJ42: 22 | AK42: 22
C43: Senior 3 Homme Compound
AB44: =COUNT(D44:AA44) -> 0
B45: 1 | C45: CHAIRON Daniel | AD45: =IF(COUNTIF(D45:AA45,"(1)")=0," ",COUNTIF(D45:AA45,"(1)")) | AE45: =IF(COUNTIF(D45:AA45,"(2)")=0," ",COUNTIF(D45:AA45,"(2)")) | AF45: =IF(COUNTIF(D45:AA45,"(3)")=0," ",COUNTIF(D45:AA45,"(3)")) | AG45: =IF(SUM(AD45:AF45)=0," ",SUM(AD45:AF45)) | AH45: 22 | AI45: 22 | AJ45: 22 | AK45: =IF(BE45=0,Var!$B$8,IF(LARGE(D45:AA45,1)=40,Var!$B$4," ")) -> ---
B46: 1 | C46: GOGIBUS Alain | AD46: =IF(COUNTIF(D46:AA46,"(1)")=0," ",COUNTIF(D46:AA46,"(1)")) | AE46: =IF(COUNTIF(D46:AA46,"(2)")=0," ",COUNTIF(D46:AA46,"(2)")) | AF46: =IF(COUNTIF(D46:AA46,"(3)")=0," ",COUNTIF(D46:AA46,"(3)")) | AG46: =IF(SUM(AD46:AF46)=0," ",SUM(AD46:AF46)) | AH46: 6 | AI46: 6 | AJ46: 6 | AK46: 6
B47: 1 | C47: HOUWER Jean-Marc | AD47: =IF(COUNTIF(D47:AA47,"(1)")=0," ",COUNTIF(D47:AA47,"(1)")) | AE47: =IF(COUNTIF(D47:AA47,"(2)")=0," ",COUNTIF(D47:AA47,"(2)")) | AF47: =IF(COUNTIF(D47:AA47,"(3)")=0," ",COUNTIF(D47:AA47,"(3)")) | AH47: 25 | AI47: 25 | AJ47: 25 | AK47: =IF(BE47=0,Var!$B$8,IF(LARGE(D47:AA47,1)=40,Var!$B$4," ")) -> ---
B48: 1 | C48: PHULPIN Pascal | AH48: 26 | AI48: 26
C49: PERREUX Norbert | AB49: =COUNT(D49:AA49) -> 0 | AD49: =IF(COUNTIF(D49:AA49,"(1)")=0," ",COUNTIF(D49:AA49,"(1)")) | AE49: =IF(COUNTIF(D49:AA49,"(2)")=0," ",COUNTIF(D49:AA49,"(2)")) | AF49: =IF(COUNTIF(D49:AA49,"(3)")=0," ",COUNTIF(D49:AA49,"(3)")) | AG49: =IF(SUM(AD49:AF49)=0," ",SUM(AD49:AF49)) | AH49: 9 | AI49: 9 | AJ49: 9 | AK49: 9
B50: 1 | C50: SALAUN Hervé | AD50: =IF(COUNTIF(D50:AA50,"(1)")=0," ",COUNTIF(D50:AA50,"(1)")) | AE50: =IF(COUNTIF(D50:AA50,"(2)")=0," ",COUNTIF(D50:AA50,"(2)")) | AF50: =IF(COUNTIF(D50:AA50,"(3)")=0," ",COUNTIF(D50:AA50,"(3)")) | AG50: =IF(SUM(AD50:AF50)=0," ",SUM(AD50:AF50)) | AH50: 15 | AI50: 15 | AJ50: 15 | AK50: 15
C52: Nombre d'Archer participants aux concours FFTA : | D52: =SUM(B9:B51) -> 10 | AA52: =SUM(AB9:AB50) -> 0 | AD52: =SUM(AD9:AD50) -> 0 | AE52: =SUM(AE9:AE50) -> 0 | AF52: =SUM(AF8:AF50) -> 1 | AG52: =SUM(AG8:AG50) -> 1

Sheet Field
D1: Sarreguemines
D2: 06
D3: sept
D4: 2026 | AC4: Nb | AD4: Moy | AE4: Podiums | AI4: Ecussons
AD5: /3 | AE5: Or | AF5: Ag | AG5: Br | AH5: Tt
C6: U13 Homme | AI6: 160 | AJ6: 210 | AK6: 270 | AL6: 320
AC7: =COUNT(D7:AA7) -> 0 | AD7: =IF(AC7<3," ",(LARGE(D7:AA7,1)+LARGE(D7:AA7,2)+LARGE(D7:AA7,3))/3) | AE7: =IF(COUNTIF(D7:AA7,"(1)")=0," ",COUNTIF(D7:AA7,"(1)")) | AF7: =IF(COUNTIF(D7:AA7,"(2)")=0," ",COUNTIF(D7:AA7,"(2)")) | AG7: =IF(COUNTIF(D7:AA7,"(3)")=0," ",COUNTIF(D7:AA7,"(3)")) | AH7: =IF(SUM(AE7:AG7)=0," ",SUM(AE7:AG7)) | AI7: =IF(AC7=0,Var!$B$8,IF(LARGE(D7:AA7,1)>=160,Var!$B$4," ")) -> --- | AJ7: =IF(AC7=0,Var!$B$8,IF(LARGE(D7:AA7,1)>=210,Var!$B$4," ")) -> --- | AK7: =IF(AC7=0,Var!$B$8,IF(LARGE(D7:AA7,1)>=270,Var!$B$4," ")) -> --- | AL7: =IF(AC7=0,Var!$B$8,IF(LARGE(D7:AA7,1)>=320,Var!$B$4," ")) -> ---
AC8: =COUNT(D8:AA8) -> 0 | AD8: =IF(AC8<3," ",(LARGE(D8:AA8,1)+LARGE(D8:AA8,2)+LARGE(D8:AA8,3))/3) | AE8: =IF(COUNTIF(D8:AA8,"(1)")=0," ",COUNTIF(D8:AA8,"(1)")) | AF8: =IF(COUNTIF(D8:AA8,"(2)")=0," ",COUNTIF(D8:AA8,"(2)")) | AG8: =IF(COUNTIF(D8:AA8,"(3)")=0," ",COUNTIF(D8:AA8,"(3)")) | AH8: =IF(SUM(AE8:AG8)=0," ",SUM(AE8:AG8)) | AI8: =IF(AC8=0,Var!$B$8,IF(LARGE(D8:AA8,1)>=160,Var!$B$4," ")) -> --- | AJ8: =IF(AC8=0,Var!$B$8,IF(LARGE(D8:AA8,1)>=210,Var!$B$4," ")) -> --- | AK8: =IF(AC8=0,Var!$B$8,IF(LARGE(D8:AA8,1)>=270,Var!$B$4," ")) -> --- | AL8: =IF(AC8=0,Var!$B$8,IF(LARGE(D8:AA8,1)>=320,Var!$B$4," ")) -> ---
C9: U18 Homme
AC10: =COUNT(D10:AA10) -> 0 | AD10: =IF(AC10<3," ",(LARGE(D10:AA10,1)+LARGE(D10:AA10,2)+LARGE(D10:AA10,3))/3) | AE10: =IF(COUNTIF(D10:AA10,"(1)")=0," ",COUNTIF(D10:AA10,"(1)")) | AF10: =IF(COUNTIF(D10:AA10,"(2)")=0," ",COUNTIF(D10:AA10,"(2)")) | AG10: =IF(COUNTIF(D10:AA10,"(3)")=0," ",COUNTIF(D10:AA10,"(3)")) | AH10: =IF(SUM(AE10:AG10)=0," ",SUM(AE10:AG10)) | AI10: 2 | AJ10: 2 | AK10: 3 | AL10: =IF(AC10=0,Var!$B$8,IF(LARGE(D10:AA10,1)>=320,Var!$B$4," ")) -> ---
AC11: =COUNT(D11:AA11) -> 0 | AD11: =IF(AC11<3," ",(LARGE(D11:AA11,1)+LARGE(D11:AA11,2)+LARGE(D11:AA11,3))/3) | AE11: =IF(COUNTIF(D11:AA11,"(1)")=0," ",COUNTIF(D11:AA11,"(1)")) | AF11: =IF(COUNTIF(D11:AA11,"(2)")=0," ",COUNTIF(D11:AA11,"(2)")) | AG11: =IF(COUNTIF(D11:AA11,"(3)")=0," ",COUNTIF(D11:AA11,"(3)")) | AH11: =IF(SUM(AE11:AG11)=0," ",SUM(AE11:AG11)) | AI11: =IF(AC11=0,Var!$B$8,IF(LARGE(D11:AA11,1)>=160,Var!$B$4," ")) -> --- | AJ11: =IF(AC11=0,Var!$B$8,IF(LARGE(D11:AA11,1)>=210,Var!$B$4," ")) -> --- | AK11: =IF(AC11=0,Var!$B$8,IF(LARGE(D11:AA11,1)>=270,Var!$B$4," ")) -> --- | AL11: =IF(AC11=0,Var!$B$8,IF(LARGE(D11:AA11,1)>=320,Var!$B$4," ")) -> ---
C12: U18 Femme
AC13: =COUNT(D13:AA13) -> 0 | AD13: =IF(AC13<3," ",(LARGE(D13:AA13,1)+LARGE(D13:AA13,2)+LARGE(D13:AA13,3))/3) | AE13: =IF(COUNTIF(D13:AA13,"(1)")=0," ",COUNTIF(D13:AA13,"(1)")) | AF13: =IF(COUNTIF(D13:AA13,"(2)")=0," ",COUNTIF(D13:AA13,"(2)")) | AG13: =IF(COUNTIF(D13:AA13,"(3)")=0," ",COUNTIF(D13:AA13,"(3)")) | AH13: =IF(SUM(AE13:AG13)=0," ",SUM(AE13:AG13)) | AI13: =IF(AC13=0,Var!$B$8,IF(LARGE(D13:AA13,1)>=160,Var!$B$4," ")) -> --- | AJ13: =IF(AC13=0,Var!$B$8,IF(LARGE(D13:AA13,1)>=210,Var!$B$4," ")) -> --- | AK13: =IF(AC13=0,Var!$B$8,IF(LARGE(D13:AA13,1)>=270,Var!$B$4," ")) -> --- | AL13: =IF(AC13=0,Var!$B$8,IF(LARGE(D13:AA13,1)>=320,Var!$B$4," ")) -> ---
AC14: =COUNT(D14:AA14) -> 0 | AD14: =IF(AC14<3," ",(LARGE(D14:AA14,1)+LARGE(D14:AA14,2)+LARGE(D14:AA14,3))/3) | AE14: =IF(COUNTIF(D14:AA14,"(1)")=0," ",COUNTIF(D14:AA14,"(1)")) | AF14: =IF(COUNTIF(D14:AA14,"(2)")=0," ",COUNTIF(D14:AA14,"(2)")) | AG14: =IF(COUNTIF(D14:AA14,"(3)")=0," ",COUNTIF(D14:AA14,"(3)")) | AH14: =IF(SUM(AE14:AG14)=0," ",SUM(AE14:AG14)) | AI14: =IF(AC14=0,Var!$B$8,IF(LARGE(D14:AA14,1)>=160,Var!$B$4," ")) -> --- | AJ14: =IF(AC14=0,Var!$B$8,IF(LARGE(D14:AA14,1)>=210,Var!$B$4," ")) -> --- | AK14: =IF(AC14=0,Var!$B$8,IF(LARGE(D14:AA14,1)>=270,Var!$B$4," ")) -> --- | AL14: =IF(AC14=0,Var!$B$8,IF(LARGE(D14:AA14,1)>=320,Var!$B$4," ")) -> ---
AC15: =COUNT(D15:AA15) -> 0
C16: Senior Femme Classique | AI16: 200 | AJ16: 240 | AK16: 260 | AL16: 300 | AM16: 340 | AN16: 380
C17: DAVY Charlène | AC17: =COUNT(D17:AA17) -> 0 | AD17: =IF(AC17<3," ",(LARGE(D17:AA17,1)+LARGE(D17:AA17,2)+LARGE(D17:AA17,3))/3) | AE17: =IF(COUNTIF(D17:AA17,"(1)")=0," ",COUNTIF(D17:AA17,"(1)")) | AF17: =IF(COUNTIF(D17:AA17,"(2)")=0," ",COUNTIF(D17:AA17,"(2)")) | AG17: =IF(COUNTIF(D17:AA17,"(3)")=0," ",COUNTIF(D17:AA17,"(3)")) | AH17: =IF(SUM(AE17:AG17)=0," ",SUM(AE17:AG17)) | AI17: 25 | AJ17: 25 | AK17: =IF(AC17=0,Var!$B$8,IF(LARGE(D17:AA17,1)>=260,Var!$B$4," ")) -> --- | AL17: =IF(AC17=0,Var!$B$8,IF(LARGE(D17:AA17,1)>=300,Var!$B$4," ")) -> --- | AM17: =IF(AC17=0,Var!$B$8,IF(LARGE(D17:AA17,1)>=340,Var!$B$4," ")) -> --- | AN17: =IF(AC17=0,Var!$B$8,IF(LARGE(D17:AA17,1)>=380,Var!$B$4," ")) -> ---
AC18: =COUNT(D18:AA18) -> 0 | AD18: =IF(AC18<3," ",(LARGE(D18:AA18,1)+LARGE(D18:AA18,2)+LARGE(D18:AA18,3))/3) | AE18: =IF(COUNTIF(D18:AA18,"(1)")=0," ",COUNTIF(D18:AA18,"(1)")) | AF18: =IF(COUNTIF(D18:AA18,"(2)")=0," ",COUNTIF(D18:AA18,"(2)")) | AG18: =IF(COUNTIF(D18:AA18,"(3)")=0," ",COUNTIF(D18:AA18,"(3)")) | AH18: =IF(SUM(AE18:AG18)=0," ",SUM(AE18:AG18)) | AI18: =IF(AC18=0,Var!$B$8,IF(LARGE(D18:AA18,1)>=200,Var!$B$4," ")) -> --- | AJ18: =IF(AC18=0,Var!$B$8,IF(LARGE(D18:AA18,1)>=200,Var!$B$4," ")) -> --- | AK18: =IF(AC18=0,Var!$B$8,IF(LARGE(D18:AA18,1)>=260,Var!$B$4," ")) -> --- | AL18: =IF(AC18=0,Var!$B$8,IF(LARGE(D18:AA18,1)>=300,Var!$B$4," ")) -> --- | AM18: =IF(AC18=0,Var!$B$8,IF(LARGE(D18:AA18,1)>=340,Var!$B$4," ")) -> --- | AN18: =IF(AC18=0,Var!$B$8,IF(LARGE(D18:AA18,1)>=380,Var!$B$4," ")) -> ---
C19: U21 Femme Classique
B20: 1 | C20: ZIEGELMEYER Katell | D20: 186 | E20: (2) | AC20: =COUNT(D20:AA20) -> 1 | AD20: =IF(AC20<3," ",(LARGE(D20:AA20,1)+LARGE(D20:AA20,2)+LARGE(D20:AA20,3))/3) | AE20: =IF(COUNTIF(D20:AA20,"(1)")=0," ",COUNTIF(D20:AA20,"(1)")) | AF20: =IF(COUNTIF(D20:AA20,"(2)")=0," ",COUNTIF(D20:AA20,"(2)")) -> 1 | AG20: =IF(COUNTIF(D20:AA20,"(3)")=0," ",COUNTIF(D20:AA20,"(3)")) | AH20: =IF(SUM(AE20:AG20)=0," ",SUM(AE20:AG20)) -> 1 | AI20: =IF(AC20=0,Var!$B$8,IF(LARGE(D20:AA20,1)>=200,Var!$B$4," ")) | AJ20: =IF(AC20=0,Var!$B$8,IF(LARGE(D20:AA20,1)>=200,Var!$B$4," ")) | AK20: =IF(AC20=0,Var!$B$8,IF(LARGE(D20:AA20,1)>=260,Var!$B$4," ")) | AL20: =IF(AC20=0,Var!$B$8,IF(LARGE(D20:AA20,1)>=300,Var!$B$4," ")) | AM20: =IF(AC20=0,Var!$B$8,IF(LARGE(D20:AA20,1)>=340,Var!$B$4," ")) | AN20: =IF(AC20=0,Var!$B$8,IF(LARGE(D20:AA20,1)>=380,Var!$B$4," "))
AC21: =COUNT(D21:AA21) -> 0 | AD21: =IF(AC21<3," ",(LARGE(D21:AA21,1)+LARGE(D21:AA21,2)+LARGE(D21:AA21,3))/3) | AE21: =IF(COUNTIF(D21:AA21,"(1)")=0," ",COUNTIF(D21:AA21,"(1)")) | AF21: =IF(COUNTIF(D21:AA21,"(2)")=0," ",COUNTIF(D21:AA21,"(2)")) | AG21: =IF(COUNTIF(D21:AA21,"(3)")=0," ",COUNTIF(D21:AA21,"(3)")) | AH21: =IF(SUM(AE21:AG21)=0," ",SUM(AE21:AG21)) | AI21: =IF(AC21=0,Var!$B$8,IF(LARGE(D21:AA21,1)>=200,Var!$B$4," ")) -> --- | AJ21: =IF(AC21=0,Var!$B$8,IF(LARGE(D21:AA21,1)>=200,Var!$B$4," ")) -> --- | AK21: =IF(AC21=0,Var!$B$8,IF(LARGE(D21:AA21,1)>=260,Var!$B$4," ")) -> --- | AL21: =IF(AC21=0,Var!$B$8,IF(LARGE(D21:AA21,1)>=300,Var!$B$4," ")) -> --- | AM21: =IF(AC21=0,Var!$B$8,IF(LARGE(D21:AA21,1)>=340,Var!$B$4," ")) -> --- | AN21: =IF(AC21=0,Var!$B$8,IF(LARGE(D21:AA21,1)>=380,Var!$B$4," ")) -> ---
C22: Senior2 Homme Classique
B23: 1 | C23: ZIEGELMEYER Damien | D23: 229 | E23: (11) | AC23: =COUNT(D23:AA23) -> 1 | AD23: =IF(AC23<3," ",(LARGE(D23:AA23,1)+LARGE(D23:AA23,2)+LARGE(D23:AA23,3))/3) | AE23: =IF(COUNTIF(D23:AA23,"(1)")=0," ",COUNTIF(D23:AA23,"(1)")) | AF23: =IF(COUNTIF(D23:AA23,"(2)")=0," ",COUNTIF(D23:AA23,"(2)")) | AG23: =IF(COUNTIF(D23:AA23,"(3)")=0," ",COUNTIF(D23:AA23,"(3)")) | AH23: =IF(SUM(AE23:AG23)=0," ",SUM(AE23:AG23)) | AI23: =IF(AC23=0,Var!$B$8,IF(LARGE(D23:AA23,1)>=200,Var!$B$4," ")) -> 27 | AJ23: =IF(AC23=0,Var!$B$8,IF(LARGE(D23:AA23,1)>=200,Var!$B$4," ")) -> 27 | AK23: =IF(AC23=0,Var!$B$8,IF(LARGE(D23:AA23,1)>=260,Var!$B$4," ")) | AL23: =IF(AC23=0,Var!$B$8,IF(LARGE(D23:AA23,1)>=300,Var!$B$4," ")) | AM23: =IF(AC23=0,Var!$B$8,IF(LARGE(D23:AA23,1)>=340,Var!$B$4," ")) | AN23: =IF(AC23=0,Var!$B$8,IF(LARGE(D23:AA23,1)>=380,Var!$B$4," "))
AC24: =COUNT(D24:AA24) -> 0 | AD24: =IF(AC24<3," ",(LARGE(D24:AA24,1)+LARGE(D24:AA24,2)+LARGE(D24:AA24,3))/3) | AE24: =IF(COUNTIF(D24:AA24,"(1)")=0," ",COUNTIF(D24:AA24,"(1)")) | AF24: =IF(COUNTIF(D24:AA24,"(2)")=0," ",COUNTIF(D24:AA24,"(2)")) | AG24: =IF(COUNTIF(D24:AA24,"(3)")=0," ",COUNTIF(D24:AA24,"(3)")) | AH24: =IF(SUM(AE24:AG24)=0," ",SUM(AE24:AG24)) | AI24: =IF(AC24=0,Var!$B$8,IF(LARGE(D24:AA24,1)>=200,Var!$B$4," ")) -> --- | AJ24: =IF(AC24=0,Var!$B$8,IF(LARGE(D24:AA24,1)>=200,Var!$B$4," ")) -> --- | AK24: =IF(AC24=0,Var!$B$8,IF(LARGE(D24:AA24,1)>=260,Var!$B$4," ")) -> --- | AL24: =IF(AC24=0,Var!$B$8,IF(LARGE(D24:AA24,1)>=300,Var!$B$4," ")) -> --- | AM24: =IF(AC24=0,Var!$B$8,IF(LARGE(D24:AA24,1)>=340,Var!$B$4," ")) -> --- | AN24: =IF(AC24=0,Var!$B$8,IF(LARGE(D24:AA24,1)>=380,Var!$B$4," ")) -> ---
C26: Senior Femme Compound | AI26: 220 | AJ26: 260 | AK26: 280 | AL26: 320 | AM26: 360 | AN26: 400
AC27: =COUNT(D27:AA27) -> 0 | AD27: =IF(AC27<3," ",(LARGE(D27:AA27,1)+LARGE(D27:AA27,2)+LARGE(D27:AA27,3))/3) | AE27: =IF(COUNTIF(D27:AA27,"(1)")=0," ",COUNTIF(D27:AA27,"(1)")) | AF27: =IF(COUNTIF(D27:AA27,"(2)")=0," ",COUNTIF(D27:AA27,"(2)")) | AG27: =IF(COUNTIF(D27:AA27,"(3)")=0," ",COUNTIF(D27:AA27,"(3)")) | AH27: =IF(SUM(AE27:AG27)=0," ",SUM(AE27:AG27)) | AI27: =IF(AC27=0,Var!$B$8,IF(LARGE(D27:AA27,1)>=220,Var!$B$4," ")) -> --- | AJ27: =IF(AC27=0,Var!$B$8,IF(LARGE(D27:AA27,1)>=260,Var!$B$4," ")) -> --- | AK27: =IF(AC27=0,Var!$B$8,IF(LARGE(D27:AA27,1)>=280,Var!$B$4," ")) -> --- | AL27: =IF(AC27=0,Var!$B$8,IF(LARGE(D27:AA27,1)>=320,Var!$B$4," ")) -> --- | AM27: =IF(AC27=0,Var!$B$8,IF(LARGE(D27:AA27,1)>=360,Var!$B$4," ")) -> --- | AN27: =IF(AC27=0,Var!$B$8,IF(LARGE(D27:AA27,1)>=400,Var!$B$4," ")) -> ---
AC28: =COUNT(D28:AA28) -> 0 | AD28: =IF(AC28<3," ",(LARGE(D28:AA28,1)+LARGE(D28:AA28,2)+LARGE(D28:AA28,3))/3) | AE28: =IF(COUNTIF(D28:AA28,"(1)")=0," ",COUNTIF(D28:AA28,"(1)")) | AF28: =IF(COUNTIF(D28:AA28,"(2)")=0," ",COUNTIF(D28:AA28,"(2)")) | AG28: =IF(COUNTIF(D28:AA28,"(3)")=0," ",COUNTIF(D28:AA28,"(3)")) | AH28: =IF(SUM(AE28:AG28)=0," ",SUM(AE28:AG28)) | AI28: =IF(AC28=0,Var!$B$8,IF(LARGE(D28:AA28,1)>=220,Var!$B$4," ")) -> --- | AJ28: =IF(AC28=0,Var!$B$8,IF(LARGE(D28:AA28,1)>=260,Var!$B$4," ")) -> --- | AK28: =IF(AC28=0,Var!$B$8,IF(LARGE(D28:AA28,1)>=280,Var!$B$4," ")) -> --- | AL28: =IF(AC28=0,Var!$B$8,IF(LARGE(D28:AA28,1)>=320,Var!$B$4," ")) -> --- | AM28: =IF(AC28=0,Var!$B$8,IF(LARGE(D28:AA28,1)>=360,Var!$B$4," ")) -> --- | AN28: =IF(AC28=0,Var!$B$8,IF(LARGE(D28:AA28,1)>=400,Var!$B$4," ")) -> ---
C29: Senior1 Homme Compound
AC30: =COUNT(D30:AA30) -> 0 | AD30: =IF(AC30<3," ",(LARGE(D30:AA30,1)+LARGE(D30:AA30,2)+LARGE(D30:AA30,3))/3) | AE30: =IF(COUNTIF(D30:AA30,"(1)")=0," ",COUNTIF(D30:AA30,"(1)")) | AF30: =IF(COUNTIF(D30:AA30,"(2)")=0," ",COUNTIF(D30:AA30,"(2)")) | AG30: =IF(COUNTIF(D30:AA30,"(3)")=0," ",COUNTIF(D30:AA30,"(3)")) | AH30: =IF(SUM(AE30:AG30)=0," ",SUM(AE30:AG30)) | AI30: =IF(AC30=0,Var!$B$8,IF(LARGE(D30:AA30,1)>=220,Var!$B$4," ")) -> --- | AJ30: =IF(AC30=0,Var!$B$8,IF(LARGE(D30:AA30,1)>=260,Var!$B$4," ")) -> --- | AK30: =IF(AC30=0,Var!$B$8,IF(LARGE(D30:AA30,1)>=280,Var!$B$4," ")) -> --- | AL30: =IF(AC30=0,Var!$B$8,IF(LARGE(D30:AA30,1)>=320,Var!$B$4," ")) -> --- | AM30: =IF(AC30=0,Var!$B$8,IF(LARGE(D30:AA30,1)>=360,Var!$B$4," ")) -> --- | AN30: =IF(AC30=0,Var!$B$8,IF(LARGE(D30:AA30,1)>=400,Var!$B$4," ")) -> ---
C31: Senior 2 Homme Compound
B32: 1 | C32: DEMANGE Damien | D32: 356 | E32: (10) | AC32: =COUNT(D32:AA32) -> 1 | AD32: =IF(AC32<3," ",(LARGE(D32:AA32,1)+LARGE(D32:AA32,2)+LARGE(D32:AA32,3))/3) | AE32: =IF(COUNTIF(D32:AA32,"(1)")=0," ",COUNTIF(D32:AA32,"(1)")) | AF32: =IF(COUNTIF(D32:AA32,"(2)")=0," ",COUNTIF(D32:AA32,"(2)")) | AG32: =IF(COUNTIF(D32:AA32,"(3)")=0," ",COUNTIF(D32:AA32,"(3)")) | AH32: =IF(SUM(AE32:AG32)=0," ",SUM(AE32:AG32)) | AI32: 25 | AJ32: 25 | AK32: 25 | AL32: 25 | AM32: =IF(AC32=0,Var!$B$8,IF(LARGE(D32:AA32,1)>=360,Var!$B$4," ")) | AN32: =IF(AC32=0,Var!$B$8,IF(LARGE(D32:AA32,1)>=400,Var!$B$4," "))
AC33: =COUNT(D33:AA33) -> 0 | AD33: =IF(AC33<3," ",(LARGE(D33:AA33,1)+LARGE(D33:AA33,2)+LARGE(D33:AA33,3))/3) | AE33: =IF(COUNTIF(D33:AA33,"(1)")=0," ",COUNTIF(D33:AA33,"(1)")) | AF33: =IF(COUNTIF(D33:AA33,"(2)")=0," ",COUNTIF(D33:AA33,"(2)")) | AG33: =IF(COUNTIF(D33:AA33,"(3)")=0," ",COUNTIF(D33:AA33,"(3)")) | AH33: =IF(SUM(AE33:AG33)=0," ",SUM(AE33:AG33)) | AI33: =IF(AC33=0,Var!$B$8,IF(LARGE(D33:AA33,1)>=220,Var!$B$4," ")) -> --- | AJ33: =IF(AC33=0,Var!$B$8,IF(LARGE(D33:AA33,1)>=260,Var!$B$4," ")) -> --- | AK33: =IF(AC33=0,Var!$B$8,IF(LARGE(D33:AA33,1)>=280,Var!$B$4," ")) -> --- | AL33: =IF(AC33=0,Var!$B$8,IF(LARGE(D33:AA33,1)>=320,Var!$B$4," ")) -> --- | AM33: =IF(AC33=0,Var!$B$8,IF(LARGE(D33:AA33,1)>=360,Var!$B$4," ")) -> --- | AN33: =IF(AC33=0,Var!$B$8,IF(LARGE(D33:AA33,1)>=400,Var!$B$4," ")) -> ---
C35: Senior 1 Homme Sans Viseur | AI35: 180 | AJ35: 220 | AK35: 240 | AL35: 280 | AM35: 320 | AN35: 360
AC36: =COUNT(D36:AA36) -> 0 | AD36: =IF(AC36<3," ",(LARGE(D36:AA36,1)+LARGE(D36:AA36,2)+LARGE(D36:AA36,3))/3) | AE36: =IF(COUNTIF(D36:AA36,"(1)")=0," ",COUNTIF(D36:AA36,"(1)")) | AF36: =IF(COUNTIF(D36:AA36,"(2)")=0," ",COUNTIF(D36:AA36,"(2)")) | AG36: =IF(COUNTIF(D36:AA36,"(3)")=0," ",COUNTIF(D36:AA36,"(3)")) | AH36: =IF(SUM(AE36:AG36)=0," ",SUM(AE36:AG36)) | AI36: =IF(AC36=0,Var!$B$8,IF(LARGE(A36:X36,1)>=180,Var!$B$4," ")) -> --- | AJ36: =IF(AC36=0,Var!$B$8,IF(LARGE(B36:Y36,1)>=220,Var!$B$4," ")) -> --- | AK36: =IF(AC36=0,Var!$B$8,IF(LARGE(C36:Z36,1)>=240,Var!$B$4," ")) -> --- | AL36: =IF(AC36=0,Var!$B$8,IF(LARGE(D36:AA36,1)>=280,Var!$B$4," ")) -> --- | AM36: =IF(AC36=0,Var!$B$8,IF(LARGE(D36:AA36,1)>=320,Var!$B$4," ")) -> --- | AN36: =IF(AC36=0,Var!$B$8,IF(LARGE(D36:AA36,1)>=360,Var!$B$4," ")) -> ---
C37: Senior 3 Homme Sans Viseur
C38: BEDUCHAUD Bernard | AC38: =COUNT(D38:AA38) -> 0 | AD38: =IF(AC38<3," ",(LARGE(D38:AA38,1)+LARGE(D38:AA38,2)+LARGE(D38:AA38,3))/3) | AE38: =IF(COUNTIF(D38:AA38,"(1)")=0," ",COUNTIF(D38:AA38,"(1)")) | AF38: =IF(COUNTIF(D38:AA38,"(2)")=0," ",COUNTIF(D38:AA38,"(2)")) | AG38: =IF(COUNTIF(D38:AA38,"(3)")=0," ",COUNTIF(D38:AA38,"(3)")) | AH38: =IF(SUM(AE38:AG38)=0," ",SUM(AE38:AG38)) | AI38: 4 | AJ38: 4 | AK38: 4 | AL38: 12 | AM38: =IF(AC38=0,Var!$B$8,IF(LARGE(D38:AA38,1)>=320,Var!$B$4," ")) -> --- | AN38: =IF(AC38=0,Var!$B$8,IF(LARGE(D38:AA38,1)>=360,Var!$B$4," ")) -> ---
C39: LHERMITTE William | AC39: =COUNT(D39:AA39) -> 0 | AD39: =IF(AC39<3," ",(LARGE(D39:AA39,1)+LARGE(D39:AA39,2)+LARGE(D39:AA39,3))/3) | AE39: =IF(COUNTIF(D39:AA39,"(1)")=0," ",COUNTIF(D39:AA39,"(1)")) | AF39: =IF(COUNTIF(D39:AA39,"(2)")=0," ",COUNTIF(D39:AA39,"(2)")) | AG39: =IF(COUNTIF(D39:AA39,"(3)")=0," ",COUNTIF(D39:AA39,"(3)")) | AH39: =IF(SUM(AE39:AG39)=0," ",SUM(AE39:AG39)) | AI39: 23 | AJ39: 23 | AK39: =IF(AC39=0,Var!$B$8,IF(LARGE(C39:Z39,1)>=240,Var!$B$4," ")) -> --- | AL39: =IF(AC39=0,Var!$B$8,IF(LARGE(D39:AA39,1)>=280,Var!$B$4," ")) -> --- | AM39: =IF(AC39=0,Var!$B$8,IF(LARGE(D39:AA39,1)>=320,Var!$B$4," ")) -> --- | AN39: =IF(AC39=0,Var!$B$8,IF(LARGE(D39:AA39,1)>=360,Var!$B$4," ")) -> ---
C41: Senior 3 Femme Classique | AI41: 200 | AJ41: 240 | AK41: 260 | AL41: 300 | AM41: 340 | AN41: 380
C42: VOLVERT Claudette | AC42: =COUNT(D42:AA42) -> 0 | AD42: =IF(AC42<3," ",(LARGE(D42:AA42,1)+LARGE(D42:AA42,2)+LARGE(D42:AA42,3))/3) | AE42: =IF(COUNTIF(D42:AA42,"(1)")=0," ",COUNTIF(D42:AA42,"(1)")) | AF42: =IF(COUNTIF(D42:AA42,"(2)")=0," ",COUNTIF(D42:AA42,"(2)")) | AG42: =IF(COUNTIF(D42:AA42,"(3)")=0," ",COUNTIF(D42:AA42,"(3)")) | AH42: =IF(SUM(AE42:AG42)=0," ",SUM(AE42:AG42)) | AI42: 6 | AJ42: 6 | AK42: =IF(AC42=0,Var!$B$8,IF(LARGE(D42:AA42,1)>=260,Var!$B$4," ")) -> --- | AL42: =IF(AC42=0,Var!$B$8,IF(LARGE(D42:AA42,1)>=300,Var!$B$4," ")) -> --- | AM42: =IF(AC42=0,Var!$B$8,IF(LARGE(D42:AA42,1)>=340,Var!$B$4," ")) -> --- | AN42: =IF(AC42=0,Var!$B$8,IF(LARGE(D42:AA42,1)>=380,Var!$B$4," ")) -> ---
C43: Senior 2 Homme Classique
AC44: =COUNT(D44:AA44) -> 0 | AD44: =IF(AC44<3," ",(LARGE(D44:AA44,1)+LARGE(D44:AA44,2)+LARGE(D44:AA44,3))/3) | AE44: =IF(COUNTIF(D44:AA44,"(1)")=0," ",COUNTIF(D44:AA44,"(1)")) | AF44: =IF(COUNTIF(D44:AA44,"(2)")=0," ",COUNTIF(D44:AA44,"(2)")) | AG44: =IF(COUNTIF(D44:AA44,"(3)")=0," ",COUNTIF(D44:AA44,"(3)")) | AH44: =IF(SUM(AE44:AG44)=0," ",SUM(AE44:AG44)) | AI44: =IF(AA44=0,Var!$B$8,IF(LARGE(B44:Y44,1)>=200,Var!$B$4," ")) -> --- | AJ44: =IF(AB44=0,Var!$B$8,IF(LARGE(C44:Z44,1)>=240,Var!$B$4," ")) -> --- | AK44: =IF(AC44=0,Var!$B$8,IF(LARGE(D44:AA44,1)>=260,Var!$B$4," ")) -> --- | AL44: =IF(AC44=0,Var!$B$8,IF(LARGE(D44:AA44,1)>=300,Var!$B$4," ")) -> --- | AM44: =IF(AC44=0,Var!$B$8,IF(LARGE(D44:AA44,1)>=340,Var!$B$4," ")) -> --- | AN44: =IF(AC44=0,Var!$B$8,IF(LARGE(D44:AA44,1)>=380,Var!$B$4," ")) -> ---
C45: Senior 3 Homme Classique
C46: BEDUCHAUD Bernard | AC46: =COUNT(D46:AA46) -> 0 | AD46: =IF(AC46<3," ",(LARGE(D46:AA46,1)+LARGE(D46:AA46,2)+LARGE(D46:AA46,3))/3) | AE46: =IF(COUNTIF(D46:AA46,"(1)")=0," ",COUNTIF(D46:AA46,"(1)")) | AF46: =IF(COUNTIF(D46:AA46,"(2)")=0," ",COUNTIF(D46:AA46,"(2)")) | AG46: =IF(COUNTIF(D46:AA46,"(3)")=0," ",COUNTIF(D46:AA46,"(3)")) | AH46: =IF(SUM(AE46:AG46)=0," ",SUM(AE46:AG46)) | AI46: 4 | AJ46: 4 | AK46: 4 | AL46: =IF(AC46=0,Var!$B$8,IF(LARGE(D46:AA46,1)>=300,Var!$B$4," ")) -> --- | AM46: =IF(AC46=0,Var!$B$8,IF(LARGE(D46:AA46,1)>=340,Var!$B$4," ")) -> --- | AN46: =IF(AC46=0,Var!$B$8,IF(LARGE(D46:AA46,1)>=380,Var!$B$4," ")) -> ---
AC47: =COUNT(D47:AA47) -> 0 | AD47: =IF(AC47<3," ",(LARGE(D47:AA47,1)+LARGE(D47:AA47,2)+LARGE(D47:AA47,3))/3) | AE47: =IF(COUNTIF(D47:AA47,"(1)")=0," ",COUNTIF(D47:AA47,"(1)")) | AF47: =IF(COUNTIF(D47:AA47,"(2)")=0," ",COUNTIF(D47:AA47,"(2)")) | AG47: =IF(COUNTIF(D47:AA47,"(3)")=0," ",COUNTIF(D47:AA47,"(3)")) | AH47: =IF(SUM(AE47:AG47)=0," ",SUM(AE47:AG47)) | AI47: =IF(AC47=0,Var!$B$8,IF(LARGE(D47:AA47,1)>=200,Var!$B$4," ")) -> --- | AJ47: =IF(AC47=0,Var!$B$8,IF(LARGE(D47:AA47,1)>=240,Var!$B$4," ")) -> --- | AK47: =IF(AC47=0,Var!$B$8,IF(LARGE(D47:AA47,1)>=260,Var!$B$4," ")) -> --- | AL47: =IF(AC47=0,Var!$B$8,IF(LARGE(D47:AA47,1)>=300,Var!$B$4," ")) -> --- | AM47: =IF(AC47=0,Var!$B$8,IF(LARGE(D47:AA47,1)>=340,Var!$B$4," ")) -> --- | AN47: =IF(AC47=0,Var!$B$8,IF(LARGE(D47:AA47,1)>=380,Var!$B$4," ")) -> ---
C48: Senior 3 Femme Compound | AI48: 220 | AJ48: 260 | AK48: 280 | AL48: 320 | AM48: 360 | AN48: 400
B49: 1 | C49: HOUWER Françoise | D49: 302 | E49: (5) | AC49: =COUNT(D49:AA49) -> 1 | AD49: =IF(AC49<3," ",(LARGE(D49:AA49,1)+LARGE(D49:AA49,2)+LARGE(D49:AA49,3))/3) | AE49: =IF(COUNTIF(D49:AA49,"(1)")=0," ",COUNTIF(D49:AA49,"(1)")) | AF49: =IF(COUNTIF(D49:AA49,"(2)")=0," ",COUNTIF(D49:AA49,"(2)")) | AG49: =IF(COUNTIF(D49:AA49,"(3)")=0," ",COUNTIF(D49:AA49,"(3)")) | AH49: =IF(SUM(AE49:AG49)=0," ",SUM(AE49:AG49)) | AI49: 26 | AJ49: 26 | AK49: 26 | AL49: =IF(AC49=0,Var!$B$8,IF(LARGE(D49:AA49,1)>=320,Var!$B$4," ")) | AM49: =IF(AC49=0,Var!$B$8,IF(LARGE(D49:AA49,1)>=360,Var!$B$4," ")) | AN49: =IF(AC49=0,Var!$B$8,IF(LARGE(D49:AA49,1)>=400,Var!$B$4," "))
AC50: =COUNT(D50:AA50) -> 0 | AD50: =IF(AC50<3," ",(LARGE(D50:AA50,1)+LARGE(D50:AA50,2)+LARGE(D50:AA50,3))/3) | AE50: =IF(COUNTIF(D50:AA50,"(1)")=0," ",COUNTIF(D50:AA50,"(1)")) | AF50: =IF(COUNTIF(D50:AA50,"(2)")=0," ",COUNTIF(D50:AA50,"(2)")) | AG50: =IF(COUNTIF(D50:AA50,"(3)")=0," ",COUNTIF(D50:AA50,"(3)")) | AH50: =IF(SUM(AE50:AG50)=0," ",SUM(AE50:AG50)) | AI50: =IF(AC50=0,Var!$B$8,IF(LARGE(D50:AA50,1)>=220,Var!$B$4," ")) -> --- | AJ50: =IF(AC50=0,Var!$B$8,IF(LARGE(D50:AA50,1)>=260,Var!$B$4," ")) -> --- | AK50: =IF(AC50=0,Var!$B$8,IF(LARGE(D50:AA50,1)>=280,Var!$B$4," ")) -> --- | AL50: =IF(AC50=0,Var!$B$8,IF(LARGE(D50:AA50,1)>=320,Var!$B$4," ")) -> --- | AM50: =IF(AC50=0,Var!$B$8,IF(LARGE(D50:AA50,1)>=360,Var!$B$4," ")) -> --- | AN50: =IF(AC50=0,Var!$B$8,IF(LARGE(D50:AA50,1)>=400,Var!$B$4," ")) -> ---
C51: Senior 3 Homme Compound | AI51: 220 | AJ51: 260 | AK51: 280 | AL51: 320 | AM51: 360 | AN51: 400
C52: BEDUCHAUD Bernard | AC52: =COUNT(D52:AA52) -> 0 | AD52: =IF(AC52<3," ",(LARGE(D52:AA52,1)+LARGE(D52:AA52,2)+LARGE(D52:AA52,3))/3) | AE52: =IF(COUNTIF(D52:AA52,"(1)")=0," ",COUNTIF(D52:AA52,"(1)")) | AF52: =IF(COUNTIF(D52:AA52,"(2)")=0," ",COUNTIF(D52:AA52,"(2)")) | AG52: =IF(COUNTIF(D52:AA52,"(3)")=0," ",COUNTIF(D52:AA52,"(3)")) | AH52: =IF(SUM(AE52:AG52)=0," ",SUM(AE52:AG52)) | AI52: 4 | AJ52: 4 | AK52: 4 | AL52: 12 | AM52: =IF(AC52=0,Var!$B$8,IF(LARGE(D52:AA52,1)>=320,Var!$B$4," ")) -> --- | AN52: =IF(AC52=0,Var!$B$8,IF(LARGE(D52:AA52,1)>=360,Var!$B$4," ")) -> ---
B53: 1 | C53: HOUWER Jean-Marc | D53: 267 | E53: (12) | AC53: =COUNT(D53:AA53) -> 1 | AD53: =IF(AC53<3," ",(LARGE(D53:AA53,1)+LARGE(D53:AA53,2)+LARGE(D53:AA53,3))/3) | AE53: =IF(COUNTIF(D53:AA53,"(1)")=0," ",COUNTIF(D53:AA53,"(1)")) | AF53: =IF(COUNTIF(D53:AA53,"(2)")=0," ",COUNTIF(D53:AA53,"(2)")) | AG53: =IF(COUNTIF(D53:AA53,"(3)")=0," ",COUNTIF(D53:AA53,"(3)")) | AH53: =IF(SUM(AE53:AG53)=0," ",SUM(AE53:AG53)) | AI53: 26 | AJ53: 26 | AK53: 26 | AL53: =IF(AC53=0,Var!$B$8,IF(LARGE(D53:AA53,1)>=320,Var!$B$4," ")) | AM53: =IF(AC53=0,Var!$B$8,IF(LARGE(D53:AA53,1)>=360,Var!$B$4," ")) | AN53: =IF(AC53=0,Var!$B$8,IF(LARGE(D53:AA53,1)>=400,Var!$B$4," "))
AC54: =COUNT(D54:AA54) -> 0 | AD54: =IF(AC54<3," ",(LARGE(D54:AA54,1)+LARGE(D54:AA54,2)+LARGE(D54:AA54,3))/3) | AE54: =IF(COUNTIF(D54:AA54,"(1)")=0," ",COUNTIF(D54:AA54,"(1)")) | AF54: =IF(COUNTIF(D54:AA54,"(2)")=0," ",COUNTIF(D54:AA54,"(2)")) | AG54: =IF(COUNTIF(D54:AA54,"(3)")=0," ",COUNTIF(D54:AA54,"(3)")) | AH54: =IF(SUM(AE54:AG54)=0," ",SUM(AE54:AG54)) | AI54: =IF(AC54=0,Var!$B$8,IF(LARGE(D54:AA54,1)>=220,Var!$B$4," ")) -> --- | AJ54: =IF(AC54=0,Var!$B$8,IF(LARGE(D54:AA54,1)>=260,Var!$B$4," ")) -> --- | AK54: =IF(AC54=0,Var!$B$8,IF(LARGE(D54:AA54,1)>=280,Var!$B$4," ")) -> --- | AL54: =IF(AC54=0,Var!$B$8,IF(LARGE(D54:AA54,1)>=320,Var!$B$4," ")) -> --- | AM54: =IF(AC54=0,Var!$B$8,IF(LARGE(D54:AA54,1)>=360,Var!$B$4," ")) -> --- | AN54: =IF(AC54=0,Var!$B$8,IF(LARGE(D54:AA54,1)>=400,Var!$B$4," ")) -> ---
C55: SALAUN Hervé | AC55: =COUNT(D55:AA55) -> 0 | AD55: =IF(AC55<3," ",(LARGE(D55:AA55,1)+LARGE(D55:AA55,2)+LARGE(D55:AA55,3))/3) | AE55: =IF(COUNTIF(D55:AA55,"(1)")=0," ",COUNTIF(D55:AA55,"(1)")) | AF55: =IF(COUNTIF(D55:AA55,"(2)")=0," ",COUNTIF(D55:AA55,"(2)")) | AG55: =IF(COUNTIF(D55:AA55,"(3)")=0," ",COUNTIF(D55:AA55,"(3)")) | AH55: =IF(SUM(AE55:AG55)=0," ",SUM(AE55:AG55)) | AI55: 14 | AJ55: 14 | AK55: 14 | AL55: 14 | AM55: 14 | AN55: 14
C57: Nombre d'Archer participants aux concours FFTA : | T57: =COUNT(B8:B61) -> 5 | AC57: =SUM(AC4:AC56) -> 5 | AE57: =SUM(AE4:AE56) -> 0 | AF57: =SUM(AF4:AF56) -> 1 | AG57: =SUM(AG4:AG56) -> 0 | AH57: =SUM(AH4:AH56) -> 1

Sheet RecordsH
B2: S3H | C2: S2H | D2: S1H | E2: U21H | F2: U18H | G2: U15H | H2: U13H | I2: S3HCO | J2: S2HCO | K2: S1HCO | L2: U21HCO | M2: U15HCO | N2: SHBB
B3: 613 | J3: 678 | K3: 640
A4: TAE | B4: G.GUILLOT | J4: E.BOULANGER | K4: D.DEMANGE
A5: International | B5: 19,05,19 | J5: 12.05.2024 | K5: 11.06.2022
B6: 659 | C6: 673 | D6: 673 | F6: 578 | G6: 466 | H6: 698 | I6: 693 | J6: 696 | K6: 714 | L6: 703 | N6: 591
A7: TAE | B7: B,BEDUCHAUD | C7: G.GUILLOT | D7: M.VAN DERCAMERE | F7: J.BALLAN | G7: M.FROTTE | H7: J.DEBRUYNE | I7: A.GOGIBUS | J7: A.GOGIBUS | K7: J.BOILEAU | L7: J.BOILEAU | N7: G.VALENTIN
A8: National | B8: 11.06.06 | C8: 10.05.09 | D8: 09.05.09 | F8: 22.05.11 | G8: 46187 | H8: 02.05.10 | I8: 06.05.12 | J8: 03.05.09 | K8: 09.06.13 | L8: 01.07.12 | N8: 45823
A9: SALLE | B9: 554 | C9: 562 | D9: 577 | E9: 564 | F9: 559 | G9: 561 | H9: 571 | I9: 575 | J9: 573 | K9: 589 | L9: 584 | M9: 521 | N9: 527
B10: B.BEDUCHAUD | C10: G.GUILLOT | D10: M.VAN DERCAMERE | E10: JP.ODIENNE | F10: N.STASKIEWICZ | G10: N.STASKIEWICZ | H10: J.DEBRUYNE | I10: A.GOGIBUS | J10: D.DEMANGE | K10: T,TORLET | L10: J.BOILEAU | M10: M.DELAPLACE | N10: F.GAWLOWIEZ
B11: 26,11,05 | C11: 09.12.12 | D11: 24.10.09 | E11: 05.10.97 | F11: 22.11.15 | G11: 27.10.12 | H11: 24.10.10 | I11: 18.12.11 | J11: 14.12.2025 | K11: 16.11.13 | L11: 09.10.11 | M11: 20.11.99 | N11: 01.11.08
A12: FIELD | B12: 267 | C12: 347 | D12: 354 | E12: 317 | F12: 301 | G12: 229 | I12: 290 | J12: 392 | K12: 411 | L12: 396 | N12: 288
B13: B.BEDUCHAUD | C13: Y.LE BORGNE | D13: M.VAN DERCAMERE | E13: D;DELVAUX | F13: F.SCHNEIDER | G13: L.BADER | I13: B.BEDUCHAUD | J13: H.SALAUN | K13: T.TORLET | L13: J.BOILEAU | N13: E.MEYER
B14: 23.03.08 | C14: 20.04.13 | D14: 12.04.09 | E14: 20.07.97 | F14: 30.04.00 | G14: 21.06.98 | I14: 44647 | J14: 43204 | K14: 01.07.12 | L14: 17.06.12 | N14: 20.07.03
B16: PERFORMANCE PAR EQUIPE DE CLUB
B17: SALLE Cl | C17: 1613 | D17: 13.11.2011 | E17: B.BEDUCHAUD - J.BOILEAU - G.GUILLOT
B18: SALLE CO | C18: 1712 | D18: 16.02.2014 | E18: T. TORLET - J. BOILEAU - A.GOGIBUS
B19: SALLE Mixte | C19: 1643 | D19: 23.11.08 | E19: A.GOGIBUS - G.GUILLOT - M.VAN DERCAMERE
B20: FITA 2X70 CL | C20: 1777 | D20: 15.06.2008 | E20: G.GUILLOT - M.VAN DERCAMERE - Y.LE BORGNE.
B21: FIELD | C21: 995 | D21: 12.05.2013 | E21: Y.LE BORGNE - B.BEDUCHAUD - T.TORLET
B22: 2X50-CL | C22: 1938 | D22: 04.05.2008 | E22: G.GUILLOT - A.BRASSEUR - M.VAN DERCAMERE
B23: 2X50-CO | C23: 1999 | D23: 18.06.2006 | E23: T.TORLET - G.VALENTIN - M.MUZELET
B24: 2x50 Mixte | C24: 1895 | D24: 29.07.2012 | E24: B.BEDUCHAUD - P.STASKIEWICZ - N.PERREUX
B25: FITA -CO | C25: 1835 | D25: 18.06.2006 | E25: T.TORLET - G.VALENTIN - A.GOGIBUS
B26: SALLE Jeunes | C26: 1213 | D26: 28.10.2007 | E26: B.MARTIN KLEISCH - D.BERGEON - G.HERBIN
B27: 3D Jeunes | C27: 835 | D27: 20.04.2008 | E27: R.HERBELOT - C.MARTIN - B.MARTIN KLEISCH
B28: 3D adultes | C28: 1207 | D28: 45571 | E28: F.GAWLOWIEZ - G.VALENTIN - H.SALAUN,
B29: CF 3D par Equipe: 1052 | D29: 45914 | E29: F.GAWLOWIEZ - G.VALENTIN - H.SALAUN, | H29: 12ème sur 37 Eq
B30: S1H libre | C30: S2H libre | D30: S2H arc droit | E30: S1H chasse | F30: S2H chasse | G30: S3H chasse | H30: S2H arc droit | I30: S1H AD | J30: S1H BB | K30: S2H BB | L30: S3H libre | M30: S3H BB | N30: S1H CO | O30: S2H CO
A31: 3D | B31: 473 | C31: 512 | D31: 331 | E31: 401 | F31: 379 | G31: 353 | H31: 331 | I31: 252 | J31: 320 | K31: 418 | L31: 513 | M31: 314 | N31: 301 | O31: 171
B32: T.TORLET | C32: H.SALAUN | D32: G.VALENTIN | E32: G.VALENTIN | F32: F.DIDRICHE | G32: H.SALAUN | H32: G.VALENTIN | I32: J.BALLAN | J32: CLAIN Cédric | K32: F.GAWLOWIEZ | L32: H.SALAUN | M32: W.LHERMITTE | N32: J.STRYJEK | O32: O.GUERRIER
B33: 43296 | C33: 44451 | D33: 45746 | E33: 43576 | F33: 43660 | G33: 45753 | H33: 45746 | I33: 43646 | J33: 46124 | K33: 45571 | L33: 45571 | M33: 45753 | N33: 46208 | O33: 45032
B34: SH libre | C34: S2H libre | D34: S2H arc droit | E34: SH chasse | F34: S2H chasse | G34: JH libre | H34: S2H arc droit | I34: SH AD | J34: SH BB | K34: S2H BB
A35: NATURE | F35: 855 | K35: 665
F36: F.DIDRICHE | K36: F.GAWLOWIEZ
F37: 44668 | K37: 45739

Sheet RecordsF
B2: S3F | C2: S2F | D2: S1F | E2: U21F | F2: U18F | G2: U15F | H2: U13F | I2: S3FCO | J2: S2FCO | K2: S1FCO | L2: U21FCO | M2: BBF
A3: TAE International | B3: 595 | C3: 475 | D3: 578 | F3: 566 | G3: 460 | I3: 602
B4: F.HOUWER | C4: J.PETIT | D4: S,DUBOS | F4: L.SIMON | G4: A.LE BRAS | I4: F.HOUWER
B5: 11.05.25 | C5: 17.06.12 | D5: 18.05.08 | F5: 01.06.14 | G5: 05.06.16 | I5: 10,05,2026
A6: TAE National | B6: 636 | C6: 632 | D6: 636 | E6: 609 | F6: 580 | G6: 583 | H6: 437 | I6: 659
B7: F.HOUWER | C7: J.PETIT | D7: S,DUBOS | E7: I.COUTIEZ | F7: L.SIMON | G7: A.LE BRAS | H7: M.GIMEL | I7: F.HOUWER
B8: 18.05.25 | C8: 19.05.13 | D8: 27,06,05 | E8: 27.05.18 | F8: 01.06.14 | G8: 05.06.16 | H8: 31.05.15 | I8: 10.05.2026
B9: 526 | C9: 538 | D9: 551 | E9: 543 | F9: 508 | G9: 524 | H9: 534 | I9: 540 | K9: 503 | L9: 489
A10: SALLE | B10: M.LEON | C10: J.PETIT | D10: I.COUTIEZ | E10: I.COUTIEZ | F10: M.LE BRAS | G10: H.DESJARDINS | H10: E.DUCROS | I10: F.HOUWER | K10: G.CHOPIN | L10: M.WEINREICH
B11: 06.12.03 | C11: 27.10.12 | D11: 24.11.19 | E11: 28;01;18 | F11: 22.01.17 | G11: 09.02.98 | H11: 1982 | I11: 16.11.2024 | K11: 15.10.00 | L11: 11.10.98
C12: 224 | D12: 254 | E12: 242 | F12: 269 | G12: 277 | I12: 290 | K12: 332
A13: FIELD | C13: C.VOLVERT | D13: S,DUBOS | E13: S.ALAVOINE | F13: J.LAURENT | G13: J.LAURENT | I13: F.HOUWER | K13: A.VALENTIN
C14: 06.05.06 | D14: 19.06.05 | E14: 12.05.96 | F14: 09,04,05 | G14: 13.05.02 | I14: 11,04,2026 | K14: 19.04.15
B17: PERFORMANCE PAR EQUIPE DE CLUB
B18: SALLE Cl | C18: 1532 | D18: 23,10,2004 | E18: S. MAFFAT - M. LEON - S. DUBOS
B23: SF Arc nu | C23: SF BB | D23: SF Libre | E23: JF libre | G23: MF Arc nu
C24: 315 | D24: 376
A25: 3D | C25: A.CHASSIN | D25: A.LECOUFFE
C26: 46124 | D26: 02.04.17

Sheet Palmarés
A1: PALMARES DE LA Cie D'ARC DE REIMS (Septembre 2026 à Septembre 2027)
C15: 1 | G15: 1
C18: TIR EXTERIEUR International | G18: TIR EXTERIEUR International
B19: 2 | D19: 3 | F19: 2 | H19: 3
B22: TIR EXTERIEUR International | D22: TIR EXTERIEUR International | F22: TIR EXTERIEUR International
H23: TIR EXTERIEUR International
B24: TIR EXTERIEUR National | C24: TIR EXTERIEUR National | D24: TIR EXTERIEUR National
D25: Maxime FROTTE | F25: TIR EXTERIEUR National | G25: TIR EXTERIEUR National | H25: TIR EXTERIEUR National
B29: SALLE | C29: SALLE | D29: SALLE | F29: SALLE | G29: SALLE | H29: SALLE
B34: FIELD | C34: FIELD | D34: FIELD | F34: FIELD | G34: FIELD | H34: FIELD
B36: BEURSAULT | C36: BEURSAULT | D36: BEURSAULT | F36: BEURSAULT | G36: BEURSAULT | H36: BEURSAULT
B42: NATURE | C42: NATURE | D42: NATURE | F42: NATURE | G42: NATURE | H42: NATURE
B44: 3 D | C44: 3 D | D44: 3 D | F44: 3 D | G44: 3 D | H44: 3 D
B61: SALLE
B64: BEURSAULT
B69: Nature
B71: 3D
B75: 3D par Equipe

Sheet Var
A1: Variables
A4: Année | B4: 27
A5: podium or | B5: (1)
A6: podium argent | B6: (2)
A7: podium bronze | B7: (3)
A8: pas de compétition | B8: ---
