Workbook
Name __xlnm.Print_Area: '3D'!$A$1:$BJ$69
Name __xlnm.Print_Area_1: Beursault!$A$1:$AM$55
Name __xlnm.Print_Area_2: #REF!
Name __xlnm.Print_Area_3: Field!$B$1:$AO$59
Name __xlnm.Print_Area_4: EXTERIEUR!$A$1:$AM$70
Name __xlnm.Print_Area_5: Palmarés!$A$1:$I$82
Name __xlnm.Print_Area_6: RecordsF!$A$1:$M$26
Name __xlnm.Print_Area_7: RecordsH!$A$1:$P$30
Name __xlnm.Print_Area_8: Salle!$A$1:$BC$89
Name __xlnm.Print_Titles: #N/A

Sheet Salle
AO4: Nb | AP4: Moy | AQ4: Podiums | AU4: Ecussons FFTA
AP5: /3 | AQ5: Or | AR5: Ag | AS5: Br | AT5: Tt | AU5: 455 | AV5: 480 | AW5: 500 | AX5: 515 | AY5: 530 | AZ5: 545 | BA5: 555 | BB5: 565 | BC5: 575
C7: Benjamin Dames U13
AO8: =COUNT(D8:AM8) -> 0 | AP8: =IF(AO8<3," ",(LARGE(D8:AM8,1)+LARGE(D8:AM8,2)+LARGE(D8:AM8,3))/3) | AQ8: =IF(COUNTIF(D8:AM8,"(1)")=0," ",COUNTIF(D8:AM8,"(1)")) | AR8: =IF(COUNTIF(D8:AM8,"(2)")=0," ",COUNTIF(D8:AM8,"(2)")) | AS8: =IF(COUNTIF(D8:AM8,"(3)")=0," ",COUNTIF(D8:AM8,"(3)")) | AT8: =IF(SUM(AQ8:AS8)=0," ",SUM(AQ8:AS8)) | AU8: =IF(AO8=0,Var!$B$8,IF(LARGE(D8:AM8,1)>=455,Var!$B$4," ")) -> --- | AV8: =IF(AO8=0,Var!$B$8,IF(LARGE(D8:AM8,1)>=480,Var!$B$4," ")) -> --- | AW8: =IF(AO8=0,Var!$B$8,IF(LARGE(D8:AM8,1)>=500,Var!$B$4," ")) -> --- | AX8: =IF(AO8=0,Var!$B$8,IF(LARGE(D8:AM8,1)>=515,Var!$B$4," ")) -> --- | AY8: =IF(AO8=0,Var!$B$8,IF(LARGE(D8:AM8,1)>=530,Var!$B$4," ")) -> --- | AZ8: =IF(AO8=0,Var!$B$8,IF(LARGE(D8:AM8,1)>=545,Var!$B$4," ")) -> --- | BA8: =IF(AO8=0,Var!$B$8,IF(LARGE(D8:AM8,1)>=555,Var!$B$4," ")) -> --- | BB8: =IF(AO8=0,Var!$B$8,IF(LARGE(D8:AM8,1)>=565,Var!$B$4," ")) -> --- | BC8: =IF(AO8=0,Var!$B$8,IF(LARGE(D8:AM8,1)>=575,Var!$B$4," ")) -> ---
AO9: =COUNT(D9:AM9) -> 0 | AP9: =IF(AO9<3," ",(LARGE(D9:AM9,1)+LARGE(D9:AM9,2)+LARGE(D9:AM9,3))/3) | AQ9: =IF(COUNTIF(D9:AM9,"(1)")=0," ",COUNTIF(D9:AM9,"(1)")) | AR9: =IF(COUNTIF(D9:AM9,"(2)")=0," ",COUNTIF(D9:AM9,"(2)")) | AS9: =IF(COUNTIF(D9:AM9,"(3)")=0," ",COUNTIF(D9:AM9,"(3)")) | AT9: =IF(SUM(AQ9:AS9)=0," ",SUM(AQ9:AS9)) | AU9: =IF(AO9=0,Var!$B$8,IF(LARGE(D9:AM9,1)>=455,Var!$B$4," ")) -> --- | AV9: =IF(AO9=0,Var!$B$8,IF(LARGE(D9:AM9,1)>=480,Var!$B$4," ")) -> --- | AW9: =IF(AO9=0,Var!$B$8,IF(LARGE(D9:AM9,1)>=500,Var!$B$4," ")) -> --- | AX9: =IF(AO9=0,Var!$B$8,IF(LARGE(D9:AM9,1)>=515,Var!$B$4," ")) -> --- | AY9: =IF(AO9=0,Var!$B$8,IF(LARGE(D9:AM9,1)>=530,Var!$B$4," ")) -> --- | AZ9: =IF(AO9=0,Var!$B$8,IF(LARGE(D9:AM9,1)>=545,Var!$B$4," ")) -> --- | BA9: =IF(AO9=0,Var!$B$8,IF(LARGE(D9:AM9,1)>=555,Var!$B$4," ")) -> --- | BB9: =IF(AO9=0,Var!$B$8,IF(LARGE(D9:AM9,1)>=565,Var!$B$4," ")) -> --- | BC9: =IF(AO9=0,Var!$B$8,IF(LARGE(D9:AM9,1)>=575,Var!$B$4," ")) -> ---
C10: Benjamin Homme U13 | AQ10: =IF(COUNTIF(D10:AM10,"(1)")=0," ",COUNTIF(D10:AM10,"(1)")) | AR10: =IF(COUNTIF(D10:AM10,"(2)")=0," ",COUNTIF(D10:AM10,"(2)")) | AS10: =IF(COUNTIF(D10:AM10,"(3)")=0," ",COUNTIF(D10:AM10,"(3)"))
B11: 1 | C11: RAYMOND Marius | AO11: =COUNT(D11:AM11) -> 0 | AP11: =IF(AO11<3," ",(LARGE(D11:AM11,1)+LARGE(D11:AM11,2)+LARGE(D11:AM11,3))/3) | AQ11: =IF(COUNTIF(D11:AM11,"(1)")=0," ",COUNTIF(D11:AM11,"(1)")) | AR11: =IF(COUNTIF(D11:AM11,"(2)")=0," ",COUNTIF(D11:AM11,"(2)")) | AS11: =IF(COUNTIF(D11:AM11,"(3)")=0," ",COUNTIF(D11:AM11,"(3)")) | AT11: =IF(SUM(AQ11:AS11)=0," ",SUM(AQ11:AS11)) | AU11: =IF(AO11=0,Var!$B$8,IF(LARGE(D11:AM11,1)>=455,Var!$B$4," ")) -> --- | AV11: =IF(AO11=0,Var!$B$8,IF(LARGE(D11:AM11,1)>=480,Var!$B$4," ")) -> --- | AW11: =IF(AO11=0,Var!$B$8,IF(LARGE(D11:AM11,1)>=500,Var!$B$4," ")) -> --- | AX11: =IF(AO11=0,Var!$B$8,IF(LARGE(D11:AM11,1)>=515,Var!$B$4," ")) -> --- | AY11: =IF(AO11=0,Var!$B$8,IF(LARGE(D11:AM11,1)>=530,Var!$B$4," ")) -> --- | AZ11: =IF(AO11=0,Var!$B$8,IF(LARGE(D11:AM11,1)>=545,Var!$B$4," ")) -> --- | BA11: =IF(AO11=0,Var!$B$8,IF(LARGE(D11:AM11,1)>=555,Var!$B$4," ")) -> --- | BB11: =IF(AO11=0,Var!$B$8,IF(LARGE(D11:AM11,1)>=565,Var!$B$4," ")) -> --- | BC11: =IF(AO11=0,Var!$B$8,IF(LARGE(D11:AM11,1)>=575,Var!$B$4," ")) -> ---
C12: Minime Femme U15 | AQ12: =IF(COUNTIF(D12:AM12,"(1)")=0," ",COUNTIF(D12:AM12,"(1)")) | AR12: =IF(COUNTIF(D12:AM12,"(2)")=0," ",COUNTIF(D12:AM12,"(2)")) | AS12: =IF(COUNTIF(D12:AM12,"(3)")=0," ",COUNTIF(D12:AM12,"(3)"))
AO13: =COUNT(D13:AM13) -> 0 | AP13: =IF(AO13<3," ",(LARGE(D13:AM13,1)+LARGE(D13:AM13,2)+LARGE(D13:AM13,3))/3) | AQ13: =IF(COUNTIF(D13:AM13,"(1)")=0," ",COUNTIF(D13:AM13,"(1)")) | AR13: =IF(COUNTIF(D13:AM13,"(2)")=0," ",COUNTIF(D13:AM13,"(2)")) | AS13: =IF(COUNTIF(D13:AM13,"(3)")=0," ",COUNTIF(D13:AM13,"(3)")) | AT13: =IF(SUM(AQ13:AS13)=0," ",SUM(AQ13:AS13)) | AU13: =IF(AO13=0,Var!$B$8,IF(LARGE(D13:AM13,1)>=455,Var!$B$4," ")) -> --- | AV13: =IF(AO13=0,Var!$B$8,IF(LARGE(D13:AM13,1)>=480,Var!$B$4," ")) -> --- | AW13: =IF(AO13=0,Var!$B$8,IF(LARGE(D13:AM13,1)>=500,Var!$B$4," ")) -> --- | AX13: =IF(AO13=0,Var!$B$8,IF(LARGE(D13:AM13,1)>=515,Var!$B$4," ")) -> --- | AY13: =IF(AO13=0,Var!$B$8,IF(LARGE(D13:AM13,1)>=530,Var!$B$4," ")) -> --- | AZ13: =IF(AO13=0,Var!$B$8,IF(LARGE(D13:AM13,1)>=545,Var!$B$4," ")) -> --- | BA13: =IF(AO13=0,Var!$B$8,IF(LARGE(D13:AM13,1)>=555,Var!$B$4," ")) -> --- | BB13: =IF(AO13=0,Var!$B$8,IF(LARGE(D13:AM13,1)>=565,Var!$B$4," ")) -> --- | BC13: =IF(AO13=0,Var!$B$8,IF(LARGE(D13:AM13,1)>=575,Var!$B$4," ")) -> ---
C14: Minime Homme U15 | AP14: =IF(AO14<3," ",(LARGE(D14:AM14,1)+LARGE(D14:AM14,2)+LARGE(D14:AM14,3))/3) | AQ14: =IF(COUNTIF(D14:AM14,"(1)")=0," ",COUNTIF(D14:AM14,"(1)")) | AR14: =IF(COUNTIF(D14:AM14,"(2)")=0," ",COUNTIF(D14:AM14,"(2)")) | AS14: =IF(COUNTIF(D14:AM14,"(3)")=0," ",COUNTIF(D14:AM14,"(3)"))
B15: 1 | C15: FROTTE Maxime | AN15: =IF(AM15<3," ",(LARGE(C15:AK15,1)+LARGE(C15:AK15,2)+LARGE(C15:AK15,3))/3) | AO15: =COUNT(D15:AM15) -> 0 | AP15: =IF(AO15<3," ",(LARGE(D15:AM15,1)+LARGE(D15:AM15,2)+LARGE(D15:AM15,3))/3) | AQ15: =IF(COUNTIF(D15:AM15,"(1)")=0," ",COUNTIF(D15:AM15,"(1)")) | AR15: =IF(COUNTIF(D15:AM15,"(2)")=0," ",COUNTIF(D15:AM15,"(2)")) | AS15: =IF(COUNTIF(D15:AM15,"(3)")=0," ",COUNTIF(D15:AM15,"(3)")) | AT15: =IF(SUM(AQ15:AS15)=0," ",SUM(AQ15:AS15)) | AU15: 26 | AV15: 26 | AW15: =IF(AO15=0,Var!$B$8,IF(LARGE(D15:AM15,1)>=500,Var!$B$4," ")) -> --- | AX15: =IF(AO15=0,Var!$B$8,IF(LARGE(D15:AM15,1)>=515,Var!$B$4," ")) -> --- | AY15: =IF(AO15=0,Var!$B$8,IF(LARGE(D15:AM15,1)>=530,Var!$B$4," ")) -> --- | AZ15: =IF(AO15=0,Var!$B$8,IF(LARGE(D15:AM15,1)>=545,Var!$B$4," ")) -> --- | BA15: =IF(AO15=0,Var!$B$8,IF(LARGE(D15:AM15,1)>=555,Var!$B$4," ")) -> --- | BB15: =IF(AO15=0,Var!$B$8,IF(LARGE(D15:AM15,1)>=565,Var!$B$4," ")) -> --- | BC15: =IF(AO15=0,Var!$B$8,IF(LARGE(D15:AM15,1)>=575,Var!$B$4," ")) -> ---
AO16: =COUNT(D16:AM16) -> 0 | AP16: =IF(AO16<3," ",(LARGE(D16:AM16,1)+LARGE(D16:AM16,2)+LARGE(D16:AM16,3))/3) | AQ16: =IF(COUNTIF(D16:AM16,"(1)")=0," ",COUNTIF(D16:AM16,"(1)")) | AR16: =IF(COUNTIF(D16:AM16,"(2)")=0," ",COUNTIF(D16:AM16,"(2)")) | AS16: =IF(COUNTIF(D16:AM16,"(3)")=0," ",COUNTIF(D16:AM16,"(3)")) | AT16: =IF(SUM(AQ16:AS16)=0," ",SUM(AQ16:AS16)) | AU16: =IF(AO16=0,Var!$B$8,IF(LARGE(D16:AM16,1)>=455,Var!$B$4," ")) -> --- | AV16: =IF(AO16=0,Var!$B$8,IF(LARGE(D16:AM16,1)>=480,Var!$B$4," ")) -> --- | AW16: =IF(AO16=0,Var!$B$8,IF(LARGE(D16:AM16,1)>=500,Var!$B$4," ")) -> --- | AX16: =IF(AO16=0,Var!$B$8,IF(LARGE(D16:AM16,1)>=515,Var!$B$4," ")) -> --- | AY16: =IF(AO16=0,Var!$B$8,IF(LARGE(D16:AM16,1)>=530,Var!$B$4," ")) -> --- | AZ16: =IF(AO16=0,Var!$B$8,IF(LARGE(D16:AM16,1)>=545,Var!$B$4," ")) -> --- | BA16: =IF(AO16=0,Var!$B$8,IF(LARGE(D16:AM16,1)>=555,Var!$B$4," ")) -> --- | BB16: =IF(AO16=0,Var!$B$8,IF(LARGE(D16:AM16,1)>=565,Var!$B$4," ")) -> --- | BC16: =IF(AO16=0,Var!$B$8,IF(LARGE(D16:AM16,1)>=575,Var!$B$4," ")) -> ---
C17: Compound Cadet Homme | AP17: =IF(AO17<3," ",(LARGE(D17:AM17,1)+LARGE(D17:AM17,2)+LARGE(D17:AM17,3))/3) | AQ17: =IF(COUNTIF(D17:AM17,"(1)")=0," ",COUNTIF(D17:AM17,"(1)")) | AR17: =IF(COUNTIF(D17:AM17,"(2)")=0," ",COUNTIF(D17:AM17,"(2)")) | AS17: =IF(COUNTIF(D17:AM17,"(3)")=0," ",COUNTIF(D17:AM17,"(3)"))
AO18: =COUNT(D18:AM18) -> 0 | AP18: =IF(AO18<3," ",(LARGE(D18:AM18,1)+LARGE(D18:AM18,2)+LARGE(D18:AM18,3))/3) | AQ18: =IF(COUNTIF(D18:AM18,"(1)")=0," ",COUNTIF(D18:AM18,"(1)")) | AR18: =IF(COUNTIF(D18:AM18,"(2)")=0," ",COUNTIF(D18:AM18,"(2)")) | AS18: =IF(COUNTIF(D18:AM18,"(3)")=0," ",COUNTIF(D18:AM18,"(3)")) | AT18: =IF(SUM(AQ18:AS18)=0," ",SUM(AQ18:AS18)) | AU18: =IF(AO18=0,Var!$B$8,IF(LARGE(D18:AM18,1)>=455,Var!$B$4," ")) -> --- | AV18: =IF(AO18=0,Var!$B$8,IF(LARGE(D18:AM18,1)>=480,Var!$B$4," ")) -> --- | AW18: =IF(AO18=0,Var!$B$8,IF(LARGE(D18:AM18,1)>=500,Var!$B$4," ")) -> --- | AX18: =IF(AO18=0,Var!$B$8,IF(LARGE(D18:AM18,1)>=515,Var!$B$4," ")) -> --- | AY18: =IF(AO18=0,Var!$B$8,IF(LARGE(D18:AM18,1)>=530,Var!$B$4," ")) -> --- | AZ18: =IF(AO18=0,Var!$B$8,IF(LARGE(D18:AM18,1)>=545,Var!$B$4," ")) -> --- | BA18: =IF(AO18=0,Var!$B$8,IF(LARGE(D18:AM18,1)>=555,Var!$B$4," ")) -> --- | BB18: =IF(AO18=0,Var!$B$8,IF(LARGE(D18:AM18,1)>=565,Var!$B$4," ")) -> --- | BC18: =IF(AO18=0,Var!$B$8,IF(LARGE(D18:AM18,1)>=575,Var!$B$4," ")) -> ---
C19: Cadette Femme U18 | AP19: =IF(AO19<3," ",(LARGE(D19:AM19,1)+LARGE(D19:AM19,2)+LARGE(D19:AM19,3))/3) | AQ19: =IF(COUNTIF(D19:AM19,"(1)")=0," ",COUNTIF(D19:AM19,"(1)")) | AR19: =IF(COUNTIF(D19:AM19,"(2)")=0," ",COUNTIF(D19:AM19,"(2)")) | AS19: =IF(COUNTIF(D19:AM19,"(3)")=0," ",COUNTIF(D19:AM19,"(3)"))
B20: 1 | C20: ZIEGELMEYER Katell | AO20: =COUNT(D20:AM20) -> 0 | AP20: =IF(AO20<3," ",(LARGE(D20:AM20,1)+LARGE(D20:AM20,2)+LARGE(D20:AM20,3))/3) | AQ20: =IF(COUNTIF(D20:AM20,"(1)")=0," ",COUNTIF(D20:AM20,"(1)")) | AR20: =IF(COUNTIF(D20:AM20,"(2)")=0," ",COUNTIF(D20:AM20,"(2)")) | AS20: =IF(COUNTIF(D20:AM20,"(3)")=0," ",COUNTIF(D20:AM20,"(3)")) | AT20: =IF(SUM(AQ20:AS20)=0," ",SUM(AQ20:AS20)) | AU20: =IF(AO20=0,Var!$B$8,IF(LARGE(D20:AM20,1)>=455,Var!$B$4," ")) -> --- | AV20: =IF(AO20=0,Var!$B$8,IF(LARGE(D20:AM20,1)>=480,Var!$B$4," ")) -> --- | AW20: =IF(AO20=0,Var!$B$8,IF(LARGE(D20:AM20,1)>=500,Var!$B$4," ")) -> --- | AX20: =IF(AO20=0,Var!$B$8,IF(LARGE(D20:AM20,1)>=515,Var!$B$4," ")) -> --- | AY20: =IF(AO20=0,Var!$B$8,IF(LARGE(D20:AM20,1)>=530,Var!$B$4," ")) -> --- | AZ20: =IF(AO20=0,Var!$B$8,IF(LARGE(D20:AM20,1)>=545,Var!$B$4," ")) -> --- | BA20: =IF(AO20=0,Var!$B$8,IF(LARGE(D20:AM20,1)>=555,Var!$B$4," ")) -> --- | BB20: =IF(AO20=0,Var!$B$8,IF(LARGE(D20:AM20,1)>=565,Var!$B$4," ")) -> --- | BC20: =IF(AO20=0,Var!$B$8,IF(LARGE(D20:AM20,1)>=575,Var!$B$4," ")) -> ---
AO21: =COUNT(D21:AM21) -> 0 | AP21: =IF(AO21<3," ",(LARGE(D21:AM21,1)+LARGE(D21:AM21,2)+LARGE(D21:AM21,3))/3) | AQ21: =IF(COUNTIF(D21:AM21,"(1)")=0," ",COUNTIF(D21:AM21,"(1)")) | AR21: =IF(COUNTIF(D21:AM21,"(2)")=0," ",COUNTIF(D21:AM21,"(2)")) | AS21: =IF(COUNTIF(D21:AM21,"(3)")=0," ",COUNTIF(D21:AM21,"(3)")) | AT21: =IF(SUM(AQ21:AS21)=0," ",SUM(AQ21:AS21)) | AU21: =IF(AO21=0,Var!$B$8,IF(LARGE(D21:AM21,1)>=455,Var!$B$4," ")) -> --- | AV21: =IF(AO21=0,Var!$B$8,IF(LARGE(D21:AM21,1)>=480,Var!$B$4," ")) -> --- | AW21: =IF(AO21=0,Var!$B$8,IF(LARGE(D21:AM21,1)>=500,Var!$B$4," ")) -> --- | AX21: =IF(AO21=0,Var!$B$8,IF(LARGE(D21:AM21,1)>=515,Var!$B$4," ")) -> --- | AY21: =IF(AO21=0,Var!$B$8,IF(LARGE(D21:AM21,1)>=530,Var!$B$4," ")) -> --- | AZ21: =IF(AO21=0,Var!$B$8,IF(LARGE(D21:AM21,1)>=545,Var!$B$4," ")) -> --- | BA21: =IF(AO21=0,Var!$B$8,IF(LARGE(D21:AM21,1)>=555,Var!$B$4," ")) -> --- | BB21: =IF(AO21=0,Var!$B$8,IF(LARGE(D21:AM21,1)>=565,Var!$B$4," ")) -> --- | BC21: =IF(AO21=0,Var!$B$8,IF(LARGE(D21:AM21,1)>=575,Var!$B$4," ")) -> ---
C22: Cadet Homme U18 | AP22: =IF(AO22<3," ",(LARGE(D22:AM22,1)+LARGE(D22:AM22,2)+LARGE(D22:AM22,3))/3) | AQ22: =IF(COUNTIF(D22:AM22,"(1)")=0," ",COUNTIF(D22:AM22,"(1)")) | AR22: =IF(COUNTIF(D22:AM22,"(2)")=0," ",COUNTIF(D22:AM22,"(2)")) | AS22: =IF(COUNTIF(D22:AM22,"(3)")=0," ",COUNTIF(D22:AM22,"(3)"))
AO23: =COUNT(D23:AM23) -> 0 | AP23: =IF(AO23<3," ",(LARGE(D23:AM23,1)+LARGE(D23:AM23,2)+LARGE(D23:AM23,3))/3) | AQ23: =IF(COUNTIF(D23:AM23,"(1)")=0," ",COUNTIF(D23:AM23,"(1)")) | AR23: =IF(COUNTIF(D23:AM23,"(2)")=0," ",COUNTIF(D23:AM23,"(2)")) | AS23: =IF(COUNTIF(D23:AM23,"(3)")=0," ",COUNTIF(D23:AM23,"(3)")) | AT23: =IF(SUM(AQ23:AS23)=0," ",SUM(AQ23:AS23)) | AU23: =IF(AO23=0,Var!$B$8,IF(LARGE(D23:AM23,1)>=455,Var!$B$4," ")) -> --- | AV23: =IF(AO23=0,Var!$B$8,IF(LARGE(D23:AM23,1)>=480,Var!$B$4," ")) -> --- | AW23: =IF(AO23=0,Var!$B$8,IF(LARGE(D23:AM23,1)>=500,Var!$B$4," ")) -> --- | AX23: =IF(AO23=0,Var!$B$8,IF(LARGE(D23:AM23,1)>=515,Var!$B$4," ")) -> --- | AY23: =IF(AO23=0,Var!$B$8,IF(LARGE(D23:AM23,1)>=530,Var!$B$4," ")) -> --- | AZ23: =IF(AO23=0,Var!$B$8,IF(LARGE(D23:AM23,1)>=545,Var!$B$4," ")) -> --- | BA23: =IF(AO23=0,Var!$B$8,IF(LARGE(D23:AM23,1)>=555,Var!$B$4," ")) -> --- | BB23: =IF(AO23=0,Var!$B$8,IF(LARGE(D23:AM23,1)>=565,Var!$B$4," ")) -> --- | BC23: =IF(AO23=0,Var!$B$8,IF(LARGE(D23:AM23,1)>=575,Var!$B$4," ")) -> ---
AO24: =COUNT(D24:AM24) -> 0 | AP24: =IF(AO24<3," ",(LARGE(D24:AM24,1)+LARGE(D24:AM24,2)+LARGE(D24:AM24,3))/3) | AQ24: =IF(COUNTIF(D24:AM24,"(1)")=0," ",COUNTIF(D24:AM24,"(1)")) | AR24: =IF(COUNTIF(D24:AM24,"(2)")=0," ",COUNTIF(D24:AM24,"(2)")) | AS24: =IF(COUNTIF(D24:AM24,"(3)")=0," ",COUNTIF(D24:AM24,"(3)")) | AT24: =IF(SUM(AQ24:AS24)=0," ",SUM(AQ24:AS24)) | AU24: =IF(AO24=0,Var!$B$8,IF(LARGE(D24:AM24,1)>=455,Var!$B$4," ")) -> --- | AV24: =IF(AO24=0,Var!$B$8,IF(LARGE(D24:AM24,1)>=480,Var!$B$4," ")) -> --- | AW24: =IF(AO24=0,Var!$B$8,IF(LARGE(D24:AM24,1)>=500,Var!$B$4," ")) -> --- | AX24: =IF(AO24=0,Var!$B$8,IF(LARGE(D24:AM24,1)>=515,Var!$B$4," ")) -> --- | AY24: =IF(AO24=0,Var!$B$8,IF(LARGE(D24:AM24,1)>=530,Var!$B$4," ")) -> --- | AZ24: =IF(AO24=0,Var!$B$8,IF(LARGE(D24:AM24,1)>=545,Var!$B$4," ")) -> --- | BA24: =IF(AO24=0,Var!$B$8,IF(LARGE(D24:AM24,1)>=555,Var!$B$4," ")) -> --- | BB24: =IF(AO24=0,Var!$B$8,IF(LARGE(D24:AM24,1)>=565,Var!$B$4," ")) -> --- | BC24: =IF(AO24=0,Var!$B$8,IF(LARGE(D24:AM24,1)>=575,Var!$B$4," ")) -> ---
C25: Junior Femme U21 | AP25: =IF(AO25<3," ",(LARGE(D25:AM25,1)+LARGE(D25:AM25,2)+LARGE(D25:AM25,3))/3) | AQ25: =IF(COUNTIF(D25:AM25,"(1)")=0," ",COUNTIF(D25:AM25,"(1)")) | AR25: =IF(COUNTIF(D25:AM25,"(2)")=0," ",COUNTIF(D25:AM25,"(2)")) | AS25: =IF(COUNTIF(D25:AM25,"(3)")=0," ",COUNTIF(D25:AM25,"(3)"))
AO26: =COUNT(D26:AM26) -> 0 | AP26: =IF(AO26<3," ",(LARGE(D26:AM26,1)+LARGE(D26:AM26,2)+LARGE(D26:AM26,3))/3) | AQ26: =IF(COUNTIF(D26:AM26,"(1)")=0," ",COUNTIF(D26:AM26,"(1)")) | AR26: =IF(COUNTIF(D26:AM26,"(2)")=0," ",COUNTIF(D26:AM26,"(2)")) | AS26: =IF(COUNTIF(D26:AM26,"(3)")=0," ",COUNTIF(D26:AM26,"(3)")) | AT26: =IF(SUM(AQ26:AS26)=0," ",SUM(AQ26:AS26)) | AU26: =IF(AO26=0,Var!$B$8,IF(LARGE(D26:AM26,1)>=455,Var!$B$4," ")) -> --- | AV26: =IF(AO26=0,Var!$B$8,IF(LARGE(D26:AM26,1)>=480,Var!$B$4," ")) -> --- | AW26: =IF(AO26=0,Var!$B$8,IF(LARGE(D26:AM26,1)>=500,Var!$B$4," ")) -> --- | AX26: =IF(AO26=0,Var!$B$8,IF(LARGE(D26:AM26,1)>=515,Var!$B$4," ")) -> --- | AY26: =IF(AO26=0,Var!$B$8,IF(LARGE(D26:AM26,1)>=530,Var!$B$4," ")) -> --- | AZ26: =IF(AO26=0,Var!$B$8,IF(LARGE(D26:AM26,1)>=545,Var!$B$4," ")) -> --- | BA26: =IF(AO26=0,Var!$B$8,IF(LARGE(D26:AM26,1)>=555,Var!$B$4," ")) -> --- | BB26: =IF(AO26=0,Var!$B$8,IF(LARGE(D26:AM26,1)>=565,Var!$B$4," ")) -> --- | BC26: =IF(AO26=0,Var!$B$8,IF(LARGE(D26:AM26,1)>=575,Var!$B$4," ")) -> ---
AO27: =COUNT(D27:AM27) -> 0 | AP27: =IF(AO27<3," ",(LARGE(D27:AM27,1)+LARGE(D27:AM27,2)+LARGE(D27:AM27,3))/3) | AQ27: =IF(COUNTIF(D27:AM27,"(1)")=0," ",COUNTIF(D27:AM27,"(1)")) | AR27: =IF(COUNTIF(D27:AM27,"(2)")=0," ",COUNTIF(D27:AM27,"(2)")) | AS27: =IF(COUNTIF(D27:AM27,"(3)")=0," ",COUNTIF(D27:AM27,"(3)")) | AT27: =IF(SUM(AQ27:AS27)=0," ",SUM(AQ27:AS27)) | AU27: =IF(AO27=0,Var!$B$8,IF(LARGE(D27:AM27,1)>=455,Var!$B$4," ")) -> --- | AV27: =IF(AO27=0,Var!$B$8,IF(LARGE(D27:AM27,1)>=480,Var!$B$4," ")) -> --- | AW27: =IF(AO27=0,Var!$B$8,IF(LARGE(D27:AM27,1)>=500,Var!$B$4," ")) -> --- | AX27: =IF(AO27=0,Var!$B$8,IF(LARGE(D27:AM27,1)>=515,Var!$B$4," ")) -> --- | AY27: =IF(AO27=0,Var!$B$8,IF(LARGE(D27:AM27,1)>=530,Var!$B$4," ")) -> --- | AZ27: =IF(AO27=0,Var!$B$8,IF(LARGE(D27:AM27,1)>=545,Var!$B$4," ")) -> --- | BA27: =IF(AO27=0,Var!$B$8,IF(LARGE(D27:AM27,1)>=555,Var!$B$4," ")) -> --- | BB27: =IF(AO27=0,Var!$B$8,IF(LARGE(D27:AM27,1)>=565,Var!$B$4," ")) -> --- | BC27: =IF(AO27=0,Var!$B$8,IF(LARGE(D27:AM27,1)>=575,Var!$B$4," ")) -> ---
C28: Junior Homme U21 | AP28: =IF(AO28<3," ",(LARGE(D28:AM28,1)+LARGE(D28:AM28,2)+LARGE(D28:AM28,3))/3) | AQ28: =IF(COUNTIF(D28:AM28,"(1)")=0," ",COUNTIF(D28:AM28,"(1)")) | AR28: =IF(COUNTIF(D28:AM28,"(2)")=0," ",COUNTIF(D28:AM28,"(2)")) | AS28: =IF(COUNTIF(D28:AM28,"(3)")=0," ",COUNTIF(D28:AM28,"(3)"))
AO29: =COUNT(D29:AM29) -> 0 | AP29: =IF(AO29<3," ",(LARGE(D29:AM29,1)+LARGE(D29:AM29,2)+LARGE(D29:AM29,3))/3) | AQ29: =IF(COUNTIF(D29:AM29,"(1)")=0," ",COUNTIF(D29:AM29,"(1)")) | AR29: =IF(COUNTIF(D29:AM29,"(2)")=0," ",COUNTIF(D29:AM29,"(2)")) | AS29: =IF(COUNTIF(D29:AM29,"(3)")=0," ",COUNTIF(D29:AM29,"(3)")) | AT29: =IF(SUM(AQ29:AS29)=0," ",SUM(AQ29:AS29)) | AU29: =IF(AO29=0,Var!$B$8,IF(LARGE(D29:AM29,1)>=455,Var!$B$4," ")) -> --- | AV29: =IF(AO29=0,Var!$B$8,IF(LARGE(D29:AM29,1)>=480,Var!$B$4," ")) -> --- | AW29: =IF(AO29=0,Var!$B$8,IF(LARGE(D29:AM29,1)>=500,Var!$B$4," ")) -> --- | AX29: =IF(AO29=0,Var!$B$8,IF(LARGE(D29:AM29,1)>=515,Var!$B$4," ")) -> --- | AY29: =IF(AO29=0,Var!$B$8,IF(LARGE(D29:AM29,1)>=530,Var!$B$4," ")) -> --- | AZ29: =IF(AO29=0,Var!$B$8,IF(LARGE(D29:AM29,1)>=545,Var!$B$4," ")) -> --- | BA29: =IF(AO29=0,Var!$B$8,IF(LARGE(D29:AM29,1)>=555,Var!$B$4," ")) -> --- | BB29: =IF(AO29=0,Var!$B$8,IF(LARGE(D29:AM29,1)>=565,Var!$B$4," ")) -> --- | BC29: =IF(AO29=0,Var!$B$8,IF(LARGE(D29:AM29,1)>=575,Var!$B$4," ")) -> ---
C30: Senior 1 Femme CL | AP30: =IF(AO30<3," ",(LARGE(D30:AM30,1)+LARGE(D30:AM30,2)+LARGE(D30:AM30,3))/3) | AQ30: =IF(COUNTIF(D30:AM30,"(1)")=0," ",COUNTIF(D30:AM30,"(1)")) | AR30: =IF(COUNTIF(D30:AM30,"(2)")=0," ",COUNTIF(D30:AM30,"(2)")) | AS30: =IF(COUNTIF(D30:AM30,"(3)")=0," ",COUNTIF(D30:AM30,"(3)"))
B31: 1 | C31: DAVY Charlène | AO31: =COUNT(D31:AM31) -> 0 | AQ31: =IF(COUNTIF(D31:AM31,"(1)")=0," ",COUNTIF(D31:AM31,"(1)")) | AR31: =IF(COUNTIF(D31:AM31,"(2)")=0," ",COUNTIF(D31:AM31,"(2)")) | AS31: =IF(COUNTIF(D31:AM31,"(3)")=0," ",COUNTIF(D31:AM31,"(3)")) | AT31: =IF(SUM(AQ31:AS31)=0," ",SUM(AQ31:AS31)) | AU31: 24 | AV31: 25 | AW31: =IF(AO31=0,Var!$B$8,IF(LARGE(D31:AM31,1)>=500,Var!$B$4," ")) -> --- | AX31: =IF(AO31=0,Var!$B$8,IF(LARGE(D31:AM31,1)>=515,Var!$B$4," ")) -> --- | AY31: =IF(AO31=0,Var!$B$8,IF(LARGE(D31:AM31,1)>=530,Var!$B$4," ")) -> --- | AZ31: =IF(AO31=0,Var!$B$8,IF(LARGE(D31:AM31,1)>=545,Var!$B$4," ")) -> --- | BA31: =IF(AO31=0,Var!$B$8,IF(LARGE(D31:AM31,1)>=555,Var!$B$4," ")) -> --- | BB31: =IF(AO31=0,Var!$B$8,IF(LARGE(D31:AM31,1)>=565,Var!$B$4," ")) -> --- | BC31: =IF(AO31=0,Var!$B$8,IF(LARGE(D31:AM31,1)>=575,Var!$B$4," ")) -> ---
B34: 1 | C34: LOGANATHAN Kirthiya | AO34: =COUNT(D34:AM34) -> 0 | AP34: =IF(AO34<3," ",(LARGE(D34:AM34,1)+LARGE(D34:AM34,2)+LARGE(D34:AM34,3))/3) | AQ34: =IF(COUNTIF(D34:AM34,"(1)")=0," ",COUNTIF(D34:AM34,"(1)")) | AR34: =IF(COUNTIF(D34:AM34,"(2)")=0," ",COUNTIF(D34:AM34,"(2)")) | AS34: =IF(COUNTIF(D34:AM34,"(3)")=0," ",COUNTIF(D34:AM34,"(3)")) | AT34: =IF(SUM(AQ34:AS34)=0," ",SUM(AQ34:AS34)) | AU34: =IF(AO34=0,Var!$B$8,IF(LARGE(D34:AM34,1)>=455,Var!$B$4," ")) -> --- | AV34: =IF(AO34=0,Var!$B$8,IF(LARGE(D34:AM34,1)>=480,Var!$B$4," ")) -> --- | AW34: =IF(AO34=0,Var!$B$8,IF(LARGE(D34:AM34,1)>=500,Var!$B$4," ")) -> --- | AX34: =IF(AO34=0,Var!$B$8,IF(LARGE(D34:AM34,1)>=515,Var!$B$4," ")) -> --- | AY34: =IF(AO34=0,Var!$B$8,IF(LARGE(D34:AM34,1)>=530,Var!$B$4," ")) -> --- | AZ34: =IF(AO34=0,Var!$B$8,IF(LARGE(D34:AM34,1)>=545,Var!$B$4," ")) -> --- | BA34: =IF(AO34=0,Var!$B$8,IF(LARGE(D34:AM34,1)>=555,Var!$B$4," ")) -> --- | BB34: =IF(AO34=0,Var!$B$8,IF(LARGE(D34:AM34,1)>=565,Var!$B$4," ")) -> --- | BC34: =IF(AO34=0,Var!$B$8,IF(LARGE(D34:AM34,1)>=575,Var!$B$4," ")) -> ---
C35: Senior 1 Homme CL | AP35: =IF(AO35<3," ",(LARGE(D35:AM35,1)+LARGE(D35:AM35,2)+LARGE(D35:AM35,3))/3) | AQ35: =IF(COUNTIF(D35:AM35,"(1)")=0," ",COUNTIF(D35:AM35,"(1)")) | AR35: =IF(COUNTIF(D35:AM35,"(2)")=0," ",COUNTIF(D35:AM35,"(2)")) | AS35: =IF(COUNTIF(D35:AM35,"(3)")=0," ",COUNTIF(D35:AM35,"(3)"))
C36: CLAIN Cédric | AO36: =COUNT(D36:AM36) -> 0 | AP36: =IF(AO36<3," ",(LARGE(D36:AM36,1)+LARGE(D36:AM36,2)+LARGE(D36:AM36,3))/3) | AQ36: =IF(COUNTIF(D36:AM36,"(1)")=0," ",COUNTIF(D36:AM36,"(1)")) | AR36: =IF(COUNTIF(D36:AM36,"(2)")=0," ",COUNTIF(D36:AM36,"(2)")) | AS36: =IF(COUNTIF(D36:AM36,"(3)")=0," ",COUNTIF(D36:AM36,"(3)")) | AT36: =IF(SUM(AQ36:AS36)=0," ",SUM(AQ36:AS36)) | AU36: =IF(AO36=0,Var!$B$8,IF(LARGE(D36:AM36,1)>=455,Var!$B$4," ")) -> --- | AV36: =IF(AO36=0,Var!$B$8,IF(LARGE(D36:AM36,1)>=480,Var!$B$4," ")) -> --- | AW36: =IF(AO36=0,Var!$B$8,IF(LARGE(D36:AM36,1)>=500,Var!$B$4," ")) -> --- | AX36: =IF(AO36=0,Var!$B$8,IF(LARGE(D36:AM36,1)>=515,Var!$B$4," ")) -> --- | AY36: =IF(AO36=0,Var!$B$8,IF(LARGE(D36:AM36,1)>=530,Var!$B$4," ")) -> --- | AZ36: =IF(AO36=0,Var!$B$8,IF(LARGE(D36:AM36,1)>=545,Var!$B$4," ")) -> --- | BA36: =IF(AO36=0,Var!$B$8,IF(LARGE(D36:AM36,1)>=555,Var!$B$4," ")) -> --- | BB36: =IF(AO36=0,Var!$B$8,IF(LARGE(D36:AM36,1)>=565,Var!$B$4," ")) -> --- | BC36: =IF(AO36=0,Var!$B$8,IF(LARGE(D36:AM36,1)>=575,Var!$B$4," ")) -> ---
B37: 1 | C37: LAGNEAUX Quentin | AO37: =COUNT(D37:AM37) -> 0 | AP37: =IF(AO37<3," ",(LARGE(D37:AM37,1)+LARGE(D37:AM37,2)+LARGE(D37:AM37,3))/3) | AQ37: =IF(COUNTIF(D37:AM37,"(1)")=0," ",COUNTIF(D37:AM37,"(1)")) | AR37: =IF(COUNTIF(D37:AM37,"(2)")=0," ",COUNTIF(D37:AM37,"(2)")) | AS37: =IF(COUNTIF(D37:AM37,"(3)")=0," ",COUNTIF(D37:AM37,"(3)")) | AT37: =IF(SUM(AQ37:AS37)=0," ",SUM(AQ37:AS37)) | AU37: 24 | AV37: 24 | AW37: 26 | AX37: 26 | AY37: =IF(AO37=0,Var!$B$8,IF(LARGE(D37:AM37,1)>=530,Var!$B$4," ")) -> --- | AZ37: =IF(AO37=0,Var!$B$8,IF(LARGE(D37:AM37,1)>=545,Var!$B$4," ")) -> --- | BA37: =IF(AO37=0,Var!$B$8,IF(LARGE(D37:AM37,1)>=555,Var!$B$4," ")) -> --- | BB37: =IF(AO37=0,Var!$B$8,IF(LARGE(D37:AM37,1)>=565,Var!$B$4," ")) -> --- | BC37: =IF(AO37=0,Var!$B$8,IF(LARGE(D37:AM37,1)>=575,Var!$B$4," ")) -> ---
B38: 1 | C38: LAQUAY Thomas | AO38: =COUNT(D38:AM38) -> 0 | AP38: =IF(AO38<3," ",(LARGE(D38:AM38,1)+LARGE(D38:AM38,2)+LARGE(D38:AM38,3))/3) | AQ38: =IF(COUNTIF(D38:AM38,"(1)")=0," ",COUNTIF(D38:AM38,"(1)")) | AR38: =IF(COUNTIF(D38:AM38,"(2)")=0," ",COUNTIF(D38:AM38,"(2)")) | AS38: =IF(COUNTIF(D38:AM38,"(3)")=0," ",COUNTIF(D38:AM38,"(3)")) | AT38: =IF(SUM(AQ38:AS38)=0," ",SUM(AQ38:AS38)) | AU38: =IF(AO38=0,Var!$B$8,IF(LARGE(D38:AM38,1)>=455,Var!$B$4," ")) -> --- | AV38: =IF(AO38=0,Var!$B$8,IF(LARGE(D38:AM38,1)>=480,Var!$B$4," ")) -> --- | AW38: =IF(AO38=0,Var!$B$8,IF(LARGE(D38:AM38,1)>=500,Var!$B$4," ")) -> --- | AX38: =IF(AO38=0,Var!$B$8,IF(LARGE(D38:AM38,1)>=515,Var!$B$4," ")) -> --- | AY38: =IF(AO38=0,Var!$B$8,IF(LARGE(D38:AM38,1)>=530,Var!$B$4," ")) -> --- | AZ38: =IF(AO38=0,Var!$B$8,IF(LARGE(D38:AM38,1)>=545,Var!$B$4," ")) -> --- | BA38: =IF(AO38=0,Var!$B$8,IF(LARGE(D38:AM38,1)>=555,Var!$B$4," ")) -> --- | BB38: =IF(AO38=0,Var!$B$8,IF(LARGE(D38:AM38,1)>=565,Var!$B$4," ")) -> --- | BC38: =IF(AO38=0,Var!$B$8,IF(LARGE(D38:AM38,1)>=575,Var!$B$4," ")) -> ---
B39: 1 | C39: STRYJEK Julien | AO39: =COUNT(D39:AM39) -> 0 | AP39: =IF(AO39<3," ",(LARGE(D39:AM39,1)+LARGE(D39:AM39,2)+LARGE(D39:AM39,3))/3) | AQ39: =IF(COUNTIF(D39:AM39,"(1)")=0," ",COUNTIF(D39:AM39,"(1)")) | AR39: =IF(COUNTIF(D39:AM39,"(2)")=0," ",COUNTIF(D39:AM39,"(2)")) | AS39: =IF(COUNTIF(D39:AM39,"(3)")=0," ",COUNTIF(D39:AM39,"(3)")) | AT39: =IF(SUM(AQ39:AS39)=0," ",SUM(AQ39:AS39)) | AU39: 18 | AV39: 18 | AW39: 18 | AX39: 18 | AY39: 19 | AZ39: =IF(AO39=0,Var!$B$8,IF(LARGE(D39:AM39,1)>=545,Var!$B$4," ")) -> --- | BA39: =IF(AO39=0,Var!$B$8,IF(LARGE(D39:AM39,1)>=555,Var!$B$4," ")) -> --- | BB39: =IF(AO39=0,Var!$B$8,IF(LARGE(D39:AM39,1)>=565,Var!$B$4," ")) -> --- | BC39: =IF(AO39=0,Var!$B$8,IF(LARGE(D39:AM39,1)>=575,Var!$B$4," ")) -> ---
B40: 1 | C40: BROCHAYE Arthur | AO40: =COUNT(D40:AM40) -> 0 | AP40: =IF(AO40<3," ",(LARGE(D40:AM40,1)+LARGE(D40:AM40,2)+LARGE(D40:AM40,3))/3) | AQ40: =IF(COUNTIF(D40:AM40,"(1)")=0," ",COUNTIF(D40:AM40,"(1)")) | AR40: =IF(COUNTIF(D40:AM40,"(2)")=0," ",COUNTIF(D40:AM40,"(2)")) | AS40: =IF(COUNTIF(D40:AM40,"(3)")=0," ",COUNTIF(D40:AM40,"(3)")) | AT40: =IF(SUM(AQ40:AS40)=0," ",SUM(AQ40:AS40)) | AU40: =IF(AO40=0,Var!$B$8,IF(LARGE(D40:AM40,1)>=455,Var!$B$4," ")) -> --- | AV40: =IF(AO40=0,Var!$B$8,IF(LARGE(D40:AM40,1)>=480,Var!$B$4," ")) -> --- | AW40: =IF(AO40=0,Var!$B$8,IF(LARGE(D40:AM40,1)>=500,Var!$B$4," ")) -> --- | AX40: =IF(AO40=0,Var!$B$8,IF(LARGE(D40:AM40,1)>=515,Var!$B$4," ")) -> --- | AY40: =IF(AO40=0,Var!$B$8,IF(LARGE(D40:AM40,1)>=530,Var!$B$4," ")) -> --- | AZ40: =IF(AO40=0,Var!$B$8,IF(LARGE(D40:AM40,1)>=545,Var!$B$4," ")) -> --- | BA40: =IF(AO40=0,Var!$B$8,IF(LARGE(D40:AM40,1)>=555,Var!$B$4," ")) -> --- | BB40: =IF(AO40=0,Var!$B$8,IF(LARGE(D40:AM40,1)>=565,Var!$B$4," ")) -> --- | BC40: =IF(AO40=0,Var!$B$8,IF(LARGE(D40:AM40,1)>=575,Var!$B$4," ")) -> ---
B41: 1 | C41: VESSAUD Ange | AO41: =COUNT(D41:AM41) -> 0 | AP41: =IF(AO41<3," ",(LARGE(D41:AM41,1)+LARGE(D41:AM41,2)+LARGE(D41:AM41,3))/3) | AQ41: =IF(COUNTIF(D41:AM41,"(1)")=0," ",COUNTIF(D41:AM41,"(1)")) | AR41: =IF(COUNTIF(D41:AM41,"(2)")=0," ",COUNTIF(D41:AM41,"(2)")) | AS41: =IF(COUNTIF(D41:AM41,"(3)")=0," ",COUNTIF(D41:AM41,"(3)")) | AT41: =IF(SUM(AQ41:AS41)=0," ",SUM(AQ41:AS41)) | AU41: =IF(AO41=0,Var!$B$8,IF(LARGE(D41:AM41,1)>=455,Var!$B$4," ")) -> --- | AV41: =IF(AO41=0,Var!$B$8,IF(LARGE(D41:AM41,1)>=480,Var!$B$4," ")) -> --- | AW41: =IF(AO41=0,Var!$B$8,IF(LARGE(D41:AM41,1)>=500,Var!$B$4," ")) -> --- | AX41: =IF(AO41=0,Var!$B$8,IF(LARGE(D41:AM41,1)>=515,Var!$B$4," ")) -> --- | AY41: =IF(AO41=0,Var!$B$8,IF(LARGE(D41:AM41,1)>=530,Var!$B$4," ")) -> --- | AZ41: =IF(AO41=0,Var!$B$8,IF(LARGE(D41:AM41,1)>=545,Var!$B$4," ")) -> --- | BA41: =IF(AO41=0,Var!$B$8,IF(LARGE(D41:AM41,1)>=555,Var!$B$4," ")) -> --- | BB41: =IF(AO41=0,Var!$B$8,IF(LARGE(D41:AM41,1)>=565,Var!$B$4," ")) -> --- | BC41: =IF(AO41=0,Var!$B$8,IF(LARGE(D41:AM41,1)>=575,Var!$B$4," ")) -> ---
C42: Scratch Homme Bare Bow | AP42: =IF(AO42<3," ",(LARGE(D42:AM42,1)+LARGE(D42:AM42,2)+LARGE(D42:AM42,3))/3) | AQ42: =IF(COUNTIF(D42:AM42,"(1)")=0," ",COUNTIF(D42:AM42,"(1)")) | AR42: =IF(COUNTIF(D42:AM42,"(2)")=0," ",COUNTIF(D42:AM42,"(2)")) | AS42: =IF(COUNTIF(D42:AM42,"(3)")=0," ",COUNTIF(D42:AM42,"(3)"))
B43: 1 | C43: GAWLOWIEZ Franck | AO43: =COUNT(D43:AM43) -> 0 | AP43: =IF(AO43<3," ",(LARGE(D43:AM43,1)+LARGE(D43:AM43,2)+LARGE(D43:AM43,3))/3) | AQ43: =IF(COUNTIF(D43:AM43,"(1)")=0," ",COUNTIF(D43:AM43,"(1)")) | AR43: =IF(COUNTIF(D43:AM43,"(2)")=0," ",COUNTIF(D43:AM43,"(2)")) | AS43: =IF(COUNTIF(D43:AM43,"(3)")=0," ",COUNTIF(D43:AM43,"(3)")) | AT43: =IF(SUM(AQ43:AS43)=0," ",SUM(AQ43:AS43)) | AU43: 24 | AV43: 24 | AW43: =IF(AO43=0,Var!$B$8,IF(LARGE(D43:AM43,1)>=500,Var!$B$4," ")) -> --- | AX43: =IF(AO43=0,Var!$B$8,IF(LARGE(D43:AM43,1)>=515,Var!$B$4," ")) -> --- | AY43: =IF(AO43=0,Var!$B$8,IF(LARGE(D43:AM43,1)>=530,Var!$B$4," ")) -> --- | AZ43: =IF(AO43=0,Var!$B$8,IF(LARGE(D43:AM43,1)>=545,Var!$B$4," ")) -> --- | BA43: =IF(AO43=0,Var!$B$8,IF(LARGE(D43:AM43,1)>=555,Var!$B$4," ")) -> --- | BB43: =IF(AO43=0,Var!$B$8,IF(LARGE(D43:AM43,1)>=565,Var!$B$4," ")) -> --- | BC43: =IF(AO43=0,Var!$B$8,IF(LARGE(D43:AM43,1)>=575,Var!$B$4," ")) -> ---
B44: 1 | C44: VALENTIN Grégory | AO44: =COUNT(D44:AM44) -> 0 | AQ44: =IF(COUNTIF(D44:AM44,"(1)")=0," ",COUNTIF(D44:AM44,"(1)")) | AR44: =IF(COUNTIF(D44:AM44,"(2)")=0," ",COUNTIF(D44:AM44,"(2)")) | AS44: =IF(COUNTIF(D44:AM44,"(3)")=0," ",COUNTIF(D44:AM44,"(3)")) | AT44: =IF(SUM(AQ44:AS44)=0," ",SUM(AQ44:AS44)) | AU44: 26 | AV44: 26 | AW44: =IF(AO44=0,Var!$B$8,IF(LARGE(D44:AM44,1)>=500,Var!$B$4," ")) -> --- | AX44: =IF(AO44=0,Var!$B$8,IF(LARGE(D44:AM44,1)>=515,Var!$B$4," ")) -> --- | AY44: =IF(AO44=0,Var!$B$8,IF(LARGE(D44:AM44,1)>=530,Var!$B$4," ")) -> --- | AZ44: =IF(AO44=0,Var!$B$8,IF(LARGE(D44:AM44,1)>=545,Var!$B$4," ")) -> --- | BA44: =IF(AO44=0,Var!$B$8,IF(LARGE(D44:AM44,1)>=555,Var!$B$4," ")) -> --- | BB44: =IF(AO44=0,Var!$B$8,IF(LARGE(D44:AM44,1)>=565,Var!$B$4," ")) -> --- | BC44: =IF(AO44=0,Var!$B$8,IF(LARGE(D44:AM44,1)>=575,Var!$B$4," ")) -> ---
B45: 1 | C45: CLAIN Cédric | AO45: =COUNT(D45:AM45) -> 0 | AP45: =IF(AO44<3," ",(LARGE(D44:AM44,1)+LARGE(D44:AM44,2)+LARGE(D44:AM44,3))/3) | AQ45: =IF(COUNTIF(D45:AM45,"(1)")=0," ",COUNTIF(D45:AM45,"(1)")) | AR45: =IF(COUNTIF(D45:AM45,"(2)")=0," ",COUNTIF(D45:AM45,"(2)")) | AS45: =IF(COUNTIF(D45:AM45,"(3)")=0," ",COUNTIF(D45:AM45,"(3)")) | AT45: =IF(SUM(AQ45:AS45)=0," ",SUM(AQ45:AS45)) | AU45: 26 | AV45: =IF(AO45=0,Var!$B$8,IF(LARGE(D45:AM45,1)>=480,Var!$B$4," ")) -> --- | AW45: =IF(AO45=0,Var!$B$8,IF(LARGE(D45:AM45,1)>=500,Var!$B$4," ")) -> --- | AX45: =IF(AO45=0,Var!$B$8,IF(LARGE(D45:AM45,1)>=515,Var!$B$4," ")) -> --- | AY45: =IF(AO45=0,Var!$B$8,IF(LARGE(D45:AM45,1)>=530,Var!$B$4," ")) -> --- | AZ45: =IF(AO45=0,Var!$B$8,IF(LARGE(D45:AM45,1)>=545,Var!$B$4," ")) -> --- | BA45: =IF(AO45=0,Var!$B$8,IF(LARGE(D45:AM45,1)>=555,Var!$B$4," ")) -> --- | BB45: =IF(AO45=0,Var!$B$8,IF(LARGE(D45:AM45,1)>=565,Var!$B$4," ")) -> --- | BC45: =IF(AO45=0,Var!$B$8,IF(LARGE(D45:AM45,1)>=575,Var!$B$4," ")) -> ---
C46: LHERMITTE William | AO46: =COUNT(D46:AM46) -> 0 | AP46: =IF(AO46<3," ",(LARGE(D46:AM46,1)+LARGE(D46:AM46,2)+LARGE(D46:AM46,3))/3) | AQ46: =IF(COUNTIF(D46:AM46,"(1)")=0," ",COUNTIF(D46:AM46,"(1)")) | AR46: =IF(COUNTIF(D46:AM46,"(2)")=0," ",COUNTIF(D46:AM46,"(2)")) | AS46: =IF(COUNTIF(D46:AM46,"(3)")=0," ",COUNTIF(D46:AM46,"(3)")) | AT46: =IF(SUM(AQ46:AS46)=0," ",SUM(AQ46:AS46)) | AU46: 23 | AV46: =IF(AO46=0,Var!$B$8,IF(LARGE(D46:AM46,1)>=480,Var!$B$4," ")) -> --- | AW46: =IF(AO46=0,Var!$B$8,IF(LARGE(D46:AM46,1)>=500,Var!$B$4," ")) -> --- | AX46: =IF(AO46=0,Var!$B$8,IF(LARGE(D46:AM46,1)>=515,Var!$B$4," ")) -> --- | AY46: =IF(AO46=0,Var!$B$8,IF(LARGE(D46:AM46,1)>=530,Var!$B$4," ")) -> --- | AZ46: =IF(AO46=0,Var!$B$8,IF(LARGE(D46:AM46,1)>=545,Var!$B$4," ")) -> --- | BA46: =IF(AO46=0,Var!$B$8,IF(LARGE(D46:AM46,1)>=555,Var!$B$4," ")) -> --- | BB46: =IF(AO46=0,Var!$B$8,IF(LARGE(D46:AM46,1)>=565,Var!$B$4," ")) -> --- | BC46: =IF(AO46=0,Var!$B$8,IF(LARGE(D46:AM46,1)>=575,Var!$B$4," ")) -> ---
...

Sheet EXTERIEUR
AB4: Moy | AC4: Moy | AD4: Podiums | AH4: Ecussons FFTA
AB6: /3 | AC6: /3 | AD6: Or | AE6: Ag | AF6: Br | AG6: Tt | AH6: 480 | AI6: 510 | AJ6: 535 | AK6: 560 | AL6: 585 | AM6: 605 | AN6: 625 | AO6: 645
L8: INTERNATIONAL
C9: U15 Femme Classique-40m
AB10: =COUNT(D10:AA10) -> 0 | AC10: =IF(AB10<3," ",(LARGE(C10:AA10,1)+LARGE(C10:AA10,2)+LARGE(C10:AA10,3))/3) | AD10: =IF(COUNTIF(D10:AA10,"(1)")=0," ",COUNTIF(D10:AA10,"(1)")) | AE10: =IF(COUNTIF(D10:AA10,"(2)")=0," ",COUNTIF(D10:AA10,"(2)")) | AF10: =IF(COUNTIF(D10:AA10,"(3)")=0," ",COUNTIF(D10:AA10,"(3)")) | AG10: =IF(SUM(AD10:AF10)=0," ",SUM(AD10:AF10)) | AH10: =IF(AB10=0,Var!$B$8,IF(LARGE(D10:AA10,1)>=480,Var!$B$4," ")) -> --- | AI10: =IF(AB10=0,Var!$B$8,IF(LARGE(D10:AA10,1)>=510,Var!$B$4," ")) -> --- | AJ10: =IF(AB10=0,Var!$B$8,IF(LARGE(D10:AA10,1)>=535,Var!$B$4," ")) -> --- | AK10: =IF(AB10=0,Var!$B$8,IF(LARGE(D10:AA10,1)>=560,Var!$B$4," ")) -> --- | AL10: =IF(AB10=0,Var!$B$8,IF(LARGE(D10:AA10,1)>=585,Var!$B$4," ")) -> --- | AM10: =IF(AB10=0,Var!$B$8,IF(LARGE(D10:AA10,1)>=605,Var!$B$4," ")) -> --- | AN10: =IF(AB10=0,Var!$B$8,IF(LARGE(D10:AA10,1)>=625,Var!$B$4," ")) -> --- | AO10: =IF(AB10=0,Var!$B$8,IF(LARGE(D10:AA10,1)>=645,Var!$B$4," ")) -> ---
C11: U15 Homme Classique-40m | AC11: =IF(AB11<3," ",(LARGE(C11:AA11,1)+LARGE(C11:AA11,2)+LARGE(C11:AA11,3))/3)
AB12: =COUNT(D12:AA12) -> 0 | AC12: =IF(AB12<3," ",(LARGE(C12:AA12,1)+LARGE(C12:AA12,2)+LARGE(C12:AA12,3))/3) | AD12: =IF(COUNTIF(D12:AA12,"(1)")=0," ",COUNTIF(D12:AA12,"(1)")) | AE12: =IF(COUNTIF(D12:AA12,"(2)")=0," ",COUNTIF(D12:AA12,"(2)")) | AF12: =IF(COUNTIF(D12:AA12,"(3)")=0," ",COUNTIF(D12:AA12,"(3)")) | AG12: =IF(SUM(AD12:AF12)=0," ",SUM(AD12:AF12)) | AH12: =IF(AB12=0,Var!$B$8,IF(LARGE(D12:AA12,1)>=480,Var!$B$4," ")) -> --- | AI12: =IF(AB12=0,Var!$B$8,IF(LARGE(D12:AA12,1)>=510,Var!$B$4," ")) -> --- | AJ12: =IF(AB12=0,Var!$B$8,IF(LARGE(D12:AA12,1)>=535,Var!$B$4," ")) -> --- | AK12: =IF(AB12=0,Var!$B$8,IF(LARGE(D12:AA12,1)>=560,Var!$B$4," ")) -> --- | AL12: =IF(AB12=0,Var!$B$8,IF(LARGE(D12:AA12,1)>=585,Var!$B$4," ")) -> --- | AM12: =IF(AB12=0,Var!$B$8,IF(LARGE(D12:AA12,1)>=605,Var!$B$4," ")) -> --- | AN12: =IF(AB12=0,Var!$B$8,IF(LARGE(D12:AA12,1)>=625,Var!$B$4," ")) -> --- | AO12: =IF(AB12=0,Var!$B$8,IF(LARGE(D12:AA12,1)>=645,Var!$B$4," ")) -> ---
C13: U18 Femme Classique-60m
AB14: =COUNT(D14:AA14) -> 0 | AC14: =IF(AB14<3," ",(LARGE(C14:AA14,1)+LARGE(C14:AA14,2)+LARGE(C14:AA14,3))/3) | AD14: =IF(COUNTIF(D14:AA14,"(1)")=0," ",COUNTIF(D14:AA14,"(1)")) | AE14: =IF(COUNTIF(D14:AA14,"(2)")=0," ",COUNTIF(D14:AA14,"(2)")) | AF14: =IF(COUNTIF(D14:AA14,"(3)")=0," ",COUNTIF(D14:AA14,"(3)")) | AG14: =IF(SUM(AD14:AF14)=0," ",SUM(AD14:AF14)) | AH14: =IF(AB14=0,Var!$B$8,IF(LARGE(D14:AA14,1)>=480,Var!$B$4," ")) -> --- | AI14: =IF(AB14=0,Var!$B$8,IF(LARGE(D14:AA14,1)>=510,Var!$B$4," ")) -> --- | AJ14: =IF(AB14=0,Var!$B$8,IF(LARGE(D14:AA14,1)>=535,Var!$B$4," ")) -> --- | AK14: =IF(AB14=0,Var!$B$8,IF(LARGE(D14:AA14,1)>=560,Var!$B$4," ")) -> --- | AL14: =IF(AB14=0,Var!$B$8,IF(LARGE(D14:AA14,1)>=585,Var!$B$4," ")) -> --- | AM14: =IF(AB14=0,Var!$B$8,IF(LARGE(D14:AA14,1)>=605,Var!$B$4," ")) -> --- | AN14: =IF(AB14=0,Var!$B$8,IF(LARGE(D14:AA14,1)>=625,Var!$B$4," ")) -> --- | AO14: =IF(AB14=0,Var!$B$8,IF(LARGE(D14:AA14,1)>=645,Var!$B$4," ")) -> ---
C15: U18 Homme Classique-60m
AB16: =COUNT(D16:AA16) -> 0 | AC16: =IF(AB16<3," ",(LARGE(C16:AA16,1)+LARGE(C16:AA16,2)+LARGE(C16:AA16,3))/3) | AD16: =IF(COUNTIF(D16:AA16,"(1)")=0," ",COUNTIF(D16:AA16,"(1)")) | AE16: =IF(COUNTIF(D16:AA16,"(2)")=0," ",COUNTIF(D16:AA16,"(2)")) | AF16: =IF(COUNTIF(D16:AA16,"(3)")=0," ",COUNTIF(D16:AA16,"(3)")) | AG16: =IF(SUM(AD16:AF16)=0," ",SUM(AD16:AF16)) | AH16: =IF(AB16=0,Var!$B$8,IF(LARGE(D16:AA16,1)>=480,Var!$B$4," ")) -> --- | AI16: =IF(AB16=0,Var!$B$8,IF(LARGE(D16:AA16,1)>=510,Var!$B$4," ")) -> --- | AJ16: =IF(AB16=0,Var!$B$8,IF(LARGE(D16:AA16,1)>=535,Var!$B$4," ")) -> --- | AK16: =IF(AB16=0,Var!$B$8,IF(LARGE(D16:AA16,1)>=560,Var!$B$4," ")) -> --- | AL16: =IF(AB16=0,Var!$B$8,IF(LARGE(D16:AA16,1)>=585,Var!$B$4," ")) -> --- | AM16: =IF(AB16=0,Var!$B$8,IF(LARGE(D16:AA16,1)>=605,Var!$B$4," ")) -> --- | AN16: =IF(AB16=0,Var!$B$8,IF(LARGE(D16:AA16,1)>=625,Var!$B$4," ")) -> --- | AO16: =IF(AB16=0,Var!$B$8,IF(LARGE(D16:AA16,1)>=645,Var!$B$4," ")) -> ---
C17: Senior 1 Femme Classique-70m | AC17: =IF(AB17<3," ",(LARGE(C17:AA17,1)+LARGE(C17:AA17,2)+LARGE(C17:AA17,3))/3)
AB18: =COUNT(D18:AA18) -> 0 | AD18: =IF(COUNTIF(D18:AA18,"(1)")=0," ",COUNTIF(D18:AA18,"(1)")) | AE18: =IF(COUNTIF(D18:AA18,"(2)")=0," ",COUNTIF(D18:AA18,"(2)")) | AF18: =IF(COUNTIF(D18:AA18,"(3)")=0," ",COUNTIF(D18:AA18,"(3)")) | AG18: =IF(SUM(AD18:AF18)=0," ",SUM(AD18:AF18)) | AH18: =IF(AB18=0,Var!$B$8,IF(LARGE(D18:AA18,1)>=480,Var!$B$4," ")) -> --- | AI18: =IF(AB18=0,Var!$B$8,IF(LARGE(D18:AA18,1)>=510,Var!$B$4," ")) -> --- | AJ18: =IF(AB18=0,Var!$B$8,IF(LARGE(D18:AA18,1)>=535,Var!$B$4," ")) -> --- | AK18: =IF(AB18=0,Var!$B$8,IF(LARGE(D18:AA18,1)>=560,Var!$B$4," ")) -> --- | AL18: =IF(AB18=0,Var!$B$8,IF(LARGE(D18:AA18,1)>=585,Var!$B$4," ")) -> --- | AM18: =IF(AB18=0,Var!$B$8,IF(LARGE(D18:AA18,1)>=605,Var!$B$4," ")) -> --- | AN18: =IF(AB18=0,Var!$B$8,IF(LARGE(D18:AA18,1)>=625,Var!$B$4," ")) -> --- | AO18: =IF(AB18=0,Var!$B$8,IF(LARGE(D18:AA18,1)>=645,Var!$B$4," ")) -> ---
AB19: =COUNT(D19:AA19) -> 0 | AD19: =IF(COUNTIF(D19:AA19,"(1)")=0," ",COUNTIF(D19:AA19,"(1)")) | AE19: =IF(COUNTIF(D19:AA19,"(2)")=0," ",COUNTIF(D19:AA19,"(2)")) | AF19: =IF(COUNTIF(D19:AA19,"(3)")=0," ",COUNTIF(D19:AA19,"(3)")) | AG19: =IF(SUM(AD19:AF19)=0," ",SUM(AD19:AF19)) | AH19: =IF(AB19=0,Var!$B$8,IF(LARGE(D19:AA19,1)>=480,Var!$B$4," ")) -> --- | AI19: =IF(AB19=0,Var!$B$8,IF(LARGE(D19:AA19,1)>=510,Var!$B$4," ")) -> --- | AJ19: =IF(AB19=0,Var!$B$8,IF(LARGE(D19:AA19,1)>=535,Var!$B$4," ")) -> --- | AK19: =IF(AB19=0,Var!$B$8,IF(LARGE(D19:AA19,1)>=560,Var!$B$4," ")) -> --- | AL19: =IF(AB19=0,Var!$B$8,IF(LARGE(D19:AA19,1)>=585,Var!$B$4," ")) -> --- | AM19: =IF(AB19=0,Var!$B$8,IF(LARGE(D19:AA19,1)>=605,Var!$B$4," ")) -> --- | AN19: =IF(AB19=0,Var!$B$8,IF(LARGE(D19:AA19,1)>=625,Var!$B$4," ")) -> --- | AO19: =IF(AB19=0,Var!$B$8,IF(LARGE(D19:AA19,1)>=645,Var!$B$4," ")) -> ---
C20: Senior 1 Homme Classique-70m | AC20: =IF(AB20<3," ",(LARGE(C20:AA20,1)+LARGE(C20:AA20,2)+LARGE(C20:AA20,3))/3)
C21: MONFLIER Geoffrey | AB21: =COUNT(D21:AA21) -> 0 | AC21: =IF(AB21<3," ",(LARGE(C21:AA21,1)+LARGE(C21:AA21,2)+LARGE(C21:AA21,3))/3) | AD21: =IF(COUNTIF(D21:AA21,"(1)")=0," ",COUNTIF(D21:AA21,"(1)")) | AE21: =IF(COUNTIF(D21:AA21,"(2)")=0," ",COUNTIF(D21:AA21,"(2)")) | AF21: =IF(COUNTIF(D21:AA21,"(3)")=0," ",COUNTIF(D21:AA21,"(3)")) | AG21: =IF(SUM(AD21:AF21)=0," ",SUM(AD21:AF21)) | AH21: =IF(AB21=0,Var!$B$8,IF(LARGE(D21:AA21,1)>=480,Var!$B$4," ")) -> --- | AI21: =IF(AB21=0,Var!$B$8,IF(LARGE(D21:AA21,1)>=510,Var!$B$4," ")) -> --- | AJ21: =IF(AB21=0,Var!$B$8,IF(LARGE(D21:AA21,1)>=535,Var!$B$4," ")) -> --- | AK21: =IF(AB21=0,Var!$B$8,IF(LARGE(D21:AA21,1)>=560,Var!$B$4," ")) -> --- | AL21: =IF(AB21=0,Var!$B$8,IF(LARGE(D21:AA21,1)>=585,Var!$B$4," ")) -> --- | AM21: =IF(AB21=0,Var!$B$8,IF(LARGE(D21:AA21,1)>=605,Var!$B$4," ")) -> --- | AN21: =IF(AB21=0,Var!$B$8,IF(LARGE(D21:AA21,1)>=625,Var!$B$4," ")) -> --- | AO21: =IF(AB21=0,Var!$B$8,IF(LARGE(D21:AA21,1)>=645,Var!$B$4," ")) -> ---
AB22: =COUNT(D22:AA22) -> 0 | AD22: =IF(COUNTIF(D22:AA22,"(1)")=0," ",COUNTIF(D22:AA22,"(1)")) | AE22: =IF(COUNTIF(D22:AA22,"(2)")=0," ",COUNTIF(D22:AA22,"(2)")) | AF22: =IF(COUNTIF(D22:AA22,"(3)")=0," ",COUNTIF(D22:AA22,"(3)")) | AG22: =IF(SUM(AD22:AF22)=0," ",SUM(AD22:AF22)) | AH22: =IF(AB22=0,Var!$B$8,IF(LARGE(D22:AA22,1)>=480,Var!$B$4," ")) -> --- | AI22: =IF(AB22=0,Var!$B$8,IF(LARGE(D22:AA22,1)>=510,Var!$B$4," ")) -> --- | AJ22: =IF(AB22=0,Var!$B$8,IF(LARGE(D22:AA22,1)>=535,Var!$B$4," ")) -> --- | AK22: =IF(AB22=0,Var!$B$8,IF(LARGE(D22:AA22,1)>=560,Var!$B$4," ")) -> --- | AL22: =IF(AB22=0,Var!$B$8,IF(LARGE(D22:AA22,1)>=585,Var!$B$4," ")) -> --- | AM22: =IF(AB22=0,Var!$B$8,IF(LARGE(D22:AA22,1)>=605,Var!$B$4," ")) -> --- | AN22: =IF(AB22=0,Var!$B$8,IF(LARGE(D22:AA22,1)>=625,Var!$B$4," ")) -> --- | AO22: =IF(AB22=0,Var!$B$8,IF(LARGE(D22:AA22,1)>=645,Var!$B$4," ")) -> ---
C23: Senior 2 Femme Classique-70m | AC23: =IF(AB23<3," ",(LARGE(C23:AA23,1)+LARGE(C23:AA23,2)+LARGE(C23:AA23,3))/3)
AB24: =COUNT(D24:AA24) -> 0 | AC24: =IF(AB24<3," ",(LARGE(C24:AA24,1)+LARGE(C24:AA24,2)+LARGE(C24:AA24,3))/3) | AD24: =IF(COUNTIF(D24:AA24,"(1)")=0," ",COUNTIF(D24:AA24,"(1)")) | AE24: =IF(COUNTIF(D24:AA24,"(2)")=0," ",COUNTIF(D24:AA24,"(2)")) | AF24: =IF(COUNTIF(D24:AA24,"(3)")=0," ",COUNTIF(D24:AA24,"(3)")) | AG24: =IF(SUM(AD24:AF24)=0," ",SUM(AD24:AF24)) | AH24: =IF(AB24=0,Var!$B$8,IF(LARGE(D24:AA24,1)>=480,Var!$B$4," ")) -> --- | AI24: =IF(AB24=0,Var!$B$8,IF(LARGE(D24:AA24,1)>=510,Var!$B$4," ")) -> --- | AJ24: =IF(AB24=0,Var!$B$8,IF(LARGE(D24:AA24,1)>=535,Var!$B$4," ")) -> --- | AK24: =IF(AB24=0,Var!$B$8,IF(LARGE(D24:AA24,1)>=560,Var!$B$4," ")) -> --- | AL24: =IF(AB24=0,Var!$B$8,IF(LARGE(D24:AA24,1)>=585,Var!$B$4," ")) -> --- | AM24: =IF(AB24=0,Var!$B$8,IF(LARGE(D24:AA24,1)>=605,Var!$B$4," ")) -> --- | AN24: =IF(AB24=0,Var!$B$8,IF(LARGE(D24:AA24,1)>=625,Var!$B$4," ")) -> --- | AO24: =IF(AB24=0,Var!$B$8,IF(LARGE(D24:AA24,1)>=645,Var!$B$4," ")) -> ---
AB25: =COUNT(D25:AA25) -> 0 | AD25: =IF(COUNTIF(D25:AA25,"(1)")=0," ",COUNTIF(D25:AA25,"(1)")) | AE25: =IF(COUNTIF(D25:AA25,"(2)")=0," ",COUNTIF(D25:AA25,"(2)")) | AF25: =IF(COUNTIF(D25:AA25,"(3)")=0," ",COUNTIF(D25:AA25,"(3)")) | AG25: =IF(SUM(AD25:AF25)=0," ",SUM(AD25:AF25)) | AH25: =IF(AB25=0,Var!$B$8,IF(LARGE(D25:AA25,1)>=480,Var!$B$4," ")) -> --- | AI25: =IF(AB25=0,Var!$B$8,IF(LARGE(D25:AA25,1)>=510,Var!$B$4," ")) -> --- | AJ25: =IF(AB25=0,Var!$B$8,IF(LARGE(D25:AA25,1)>=535,Var!$B$4," ")) -> --- | AK25: =IF(AB25=0,Var!$B$8,IF(LARGE(D25:AA25,1)>=560,Var!$B$4," ")) -> --- | AL25: =IF(AB25=0,Var!$B$8,IF(LARGE(D25:AA25,1)>=585,Var!$B$4," ")) -> --- | AM25: =IF(AB25=0,Var!$B$8,IF(LARGE(D25:AA25,1)>=605,Var!$B$4," ")) -> --- | AN25: =IF(AB25=0,Var!$B$8,IF(LARGE(D25:AA25,1)>=625,Var!$B$4," ")) -> --- | AO25: =IF(AB25=0,Var!$B$8,IF(LARGE(D25:AA25,1)>=645,Var!$B$4," ")) -> ---
C26: Senior 2 Homme Classique-70m | AC26: =IF(AB26<3," ",(LARGE(C26:AA26,1)+LARGE(C26:AA26,2)+LARGE(C26:AA26,3))/3)
AH27: =IF(AB27=0,Var!$B$8,IF(LARGE(D27:AA27,1)>=480,Var!$B$4," ")) -> --- | AI27: =IF(AB27=0,Var!$B$8,IF(LARGE(D27:AA27,1)>=510,Var!$B$4," ")) -> --- | AJ27: =IF(AB27=0,Var!$B$8,IF(LARGE(D27:AA27,1)>=535,Var!$B$4," ")) -> --- | AK27: =IF(AB27=0,Var!$B$8,IF(LARGE(D27:AA27,1)>=560,Var!$B$4," ")) -> --- | AL27: =IF(AB27=0,Var!$B$8,IF(LARGE(D27:AA27,1)>=585,Var!$B$4," ")) -> --- | AM27: =IF(AB27=0,Var!$B$8,IF(LARGE(D27:AA27,1)>=605,Var!$B$4," ")) -> --- | AN27: =IF(AB27=0,Var!$B$8,IF(LARGE(D27:AA27,1)>=625,Var!$B$4," ")) -> --- | AO27: =IF(AB27=0,Var!$B$8,IF(LARGE(D27:AA27,1)>=645,Var!$B$4," ")) -> ---
AB28: =COUNT(D28:AA28) -> 0 | AC28: =IF(AB28<3," ",(LARGE(C28:AA28,1)+LARGE(C28:AA28,2)+LARGE(C28:AA28,3))/3) | AD28: =IF(COUNTIF(D28:AA28,"(1)")=0," ",COUNTIF(D28:AA28,"(1)")) | AE28: =IF(COUNTIF(D28:AA28,"(2)")=0," ",COUNTIF(D28:AA28,"(2)")) | AF28: =IF(COUNTIF(D28:AA28,"(3)")=0," ",COUNTIF(D28:AA28,"(3)")) | AG28: =IF(SUM(AD28:AF28)=0," ",SUM(AD28:AF28)) | AH28: =IF(AB28=0,Var!$B$8,IF(LARGE(D28:AA28,1)>=480,Var!$B$4," ")) -> --- | AI28: =IF(AB28=0,Var!$B$8,IF(LARGE(D28:AA28,1)>=510,Var!$B$4," ")) -> --- | AJ28: =IF(AB28=0,Var!$B$8,IF(LARGE(D28:AA28,1)>=535,Var!$B$4," ")) -> --- | AK28: =IF(AB28=0,Var!$B$8,IF(LARGE(D28:AA28,1)>=560,Var!$B$4," ")) -> --- | AL28: =IF(AB28=0,Var!$B$8,IF(LARGE(D28:AA28,1)>=585,Var!$B$4," ")) -> --- | AM28: =IF(AB28=0,Var!$B$8,IF(LARGE(D28:AA28,1)>=605,Var!$B$4," ")) -> --- | AN28: =IF(AB28=0,Var!$B$8,IF(LARGE(D28:AA28,1)>=625,Var!$B$4," ")) -> --- | AO28: =IF(AB28=0,Var!$B$8,IF(LARGE(D28:AA28,1)>=645,Var!$B$4," ")) -> ---
C29: Senior 3 Homme Classique-60m | AC29: =IF(AB29<3," ",(LARGE(C29:AA29,1)+LARGE(C29:AA29,2)+LARGE(C29:AA29,3))/3)
C30: PHULPIN Pascal | AB30: =COUNT(D30:AA30) -> 0 | AC30: =IF(AB30<3," ",(LARGE(C30:AA30,1)+LARGE(C30:AA30,2)+LARGE(C30:AA30,3))/3) | AD30: =IF(COUNTIF(D30:AA30,"(1)")=0," ",COUNTIF(D30:AA30,"(1)")) | AE30: =IF(COUNTIF(D30:AA30,"(2)")=0," ",COUNTIF(D30:AA30,"(2)")) | AF30: =IF(COUNTIF(D30:AA30,"(3)")=0," ",COUNTIF(D30:AA30,"(3)")) | AG30: =IF(SUM(AD30:AF30)=0," ",SUM(AD30:AF30)) | AH30: 23 | AI30: 23 | AJ30: 23 | AK30: 23 | AL30: =IF(AB30=0,Var!$B$8,IF(LARGE(D30:AA30,1)>=585,Var!$B$4," ")) -> --- | AM30: =IF(AB30=0,Var!$B$8,IF(LARGE(D30:AA30,1)>=605,Var!$B$4," ")) -> --- | AN30: =IF(AB30=0,Var!$B$8,IF(LARGE(D30:AA30,1)>=625,Var!$B$4," ")) -> --- | AO30: =IF(AB30=0,Var!$B$8,IF(LARGE(D30:AA30,1)>=645,Var!$B$4," ")) -> ---
AC31: =IF(AB31<3," ",(LARGE(C31:AA31,1)+LARGE(C31:AA31,2)+LARGE(C31:AA31,3))/3)
AC32: =IF(AB32<3," ",(LARGE(C32:AA32,1)+LARGE(C32:AA32,2)+LARGE(C32:AA32,3))/3) | AD32: Or | AE32: Ag | AF32: Br | AG32: Tt | AH32: 620 | AI32: 635 | AJ32: 645 | AK32: 655 | AL32: 665 | AM32: 675 | AN32: 685 | AO32: 695
C33: Junior Homme Compound | AC33: =IF(AB33<3," ",(LARGE(C33:AA33,1)+LARGE(C33:AA33,2)+LARGE(C33:AA33,3))/3)
AB34: =COUNT(D34:AA34) -> 0 | AC34: =IF(AB34<3," ",(LARGE(C34:AA34,1)+LARGE(C34:AA34,2)+LARGE(C34:AA34,3))/3) | AD34: =IF(COUNTIF(D34:AA34,"(1)")=0," ",COUNTIF(D34:AA34,"(1)")) | AE34: =IF(COUNTIF(D34:AA34,"(2)")=0," ",COUNTIF(D34:AA34,"(2)")) | AF34: =IF(COUNTIF(D34:AA34,"(3)")=0," ",COUNTIF(D34:AA34,"(3)")) | AG34: =IF(SUM(AD34:AF34)=0," ",SUM(AD34:AF34)) | AH34: =IF(AB34=0,Var!$B$8,IF(LARGE(D34:AA34,1)>=620,Var!$B$4," ")) -> --- | AI34: =IF(AB34=0,Var!$B$8,IF(LARGE(D34:AA34,1)>=635,Var!$B$4," ")) -> --- | AJ34: =IF(AB34=0,Var!$B$8,IF(LARGE(D34:AA34,1)>=645,Var!$B$4," ")) -> --- | AK34: =IF(AB34=0,Var!$B$8,IF(LARGE(D34:AA34,1)>=655,Var!$B$4," ")) -> --- | AL34: =IF(AB34=0,Var!$B$8,IF(LARGE(D34:AA34,1)>=665,Var!$B$4," ")) -> --- | AM34: =IF(AB34=0,Var!$B$8,IF(LARGE(D34:AA34,1)>=675,Var!$B$4," ")) -> --- | AN34: =IF(AB34=0,Var!$B$8,IF(LARGE(D34:AA34,1)>=685,Var!$B$4," ")) -> --- | AO34: =IF(AB34=0,Var!$B$8,IF(LARGE(D34:AA34,1)>=695,Var!$B$4," ")) -> ---
AB35: =COUNT(D35:AA35) -> 0 | AC35: =IF(AB35<3," ",(LARGE(C35:AA35,1)+LARGE(C35:AA35,2)+LARGE(C35:AA35,3))/3) | AD35: =IF(COUNTIF(D35:AA35,"(1)")=0," ",COUNTIF(D35:AA35,"(1)")) | AE35: =IF(COUNTIF(D35:AA35,"(2)")=0," ",COUNTIF(D35:AA35,"(2)")) | AF35: =IF(COUNTIF(D35:AA35,"(3)")=0," ",COUNTIF(D35:AA35,"(3)")) | AG35: =IF(SUM(AD35:AF35)=0," ",SUM(AD35:AF35)) | AH35: =IF(AB35=0,Var!$B$8,IF(LARGE(D35:AA35,1)>=620,Var!$B$4," ")) -> --- | AI35: =IF(AB35=0,Var!$B$8,IF(LARGE(D35:AA35,1)>=635,Var!$B$4," ")) -> --- | AJ35: =IF(AB35=0,Var!$B$8,IF(LARGE(D35:AA35,1)>=645,Var!$B$4," ")) -> --- | AK35: =IF(AB35=0,Var!$B$8,IF(LARGE(D35:AA35,1)>=655,Var!$B$4," ")) -> --- | AL35: =IF(AB35=0,Var!$B$8,IF(LARGE(D35:AA35,1)>=665,Var!$B$4," ")) -> --- | AM35: =IF(AB35=0,Var!$B$8,IF(LARGE(D35:AA35,1)>=675,Var!$B$4," ")) -> --- | AN35: =IF(AB35=0,Var!$B$8,IF(LARGE(D35:AA35,1)>=685,Var!$B$4," ")) -> --- | AO35: =IF(AB35=0,Var!$B$8,IF(LARGE(D35:AA35,1)>=695,Var!$B$4," ")) -> ---
C36: Senior 1 Homme Compound | AB36: =COUNT(D36:AA36) -> 0 | AC36: =IF(AB36<3," ",(LARGE(C36:AA36,1)+LARGE(C36:AA36,2)+LARGE(C36:AA36,3))/3)
C37: TORLET Teddy | AB37: =COUNT(D37:AA37) -> 0 | AC37: =IF(AB37<3," ",(LARGE(C37:AA37,1)+LARGE(C37:AA37,2)+LARGE(C37:AA37,3))/3) | AD37: =IF(COUNTIF(D37:AA37,"(1)")=0," ",COUNTIF(D37:AA37,"(1)")) | AE37: =IF(COUNTIF(D37:AA37,"(2)")=0," ",COUNTIF(D37:AA37,"(2)")) | AF37: =IF(COUNTIF(D37:AA37,"(3)")=0," ",COUNTIF(D37:AA37,"(3)")) | AG37: =IF(SUM(AD37:AF37)=0," ",SUM(AD37:AF37)) | AH37: 4 | AI37: 4 | AJ37: 5 | AK37: 6 | AL37: 8 | AM37: 8 | AN37: 17 | AO37: =IF(AB37=0,Var!$B$8,IF(LARGE(D37:AA37,1)>=695,Var!$B$4," ")) -> ---
C38: STRYJEK Julien | AB38: =COUNT(D38:AA38) -> 0 | AC38: =IF(AB38<3," ",(LARGE(C38:AA38,1)+LARGE(C38:AA38,2)+LARGE(C38:AA38,3))/3) | AD38: =IF(COUNTIF(D38:AA38,"(1)")=0," ",COUNTIF(D38:AA38,"(1)")) | AE38: =IF(COUNTIF(D38:AA38,"(2)")=0," ",COUNTIF(D38:AA38,"(2)")) | AF38: =IF(COUNTIF(D38:AA38,"(3)")=0," ",COUNTIF(D38:AA38,"(3)")) | AG38: =IF(SUM(AD38:AF38)=0," ",SUM(AD38:AF38)) | AH38: =IF(AB38=0,Var!$B$8,IF(LARGE(D38:AA38,1)>=620,Var!$B$4," ")) -> --- | AI38: =IF(AB38=0,Var!$B$8,IF(LARGE(D38:AA38,1)>=635,Var!$B$4," ")) -> --- | AJ38: =IF(AB38=0,Var!$B$8,IF(LARGE(D38:AA38,1)>=645,Var!$B$4," ")) -> --- | AK38: =IF(AB38=0,Var!$B$8,IF(LARGE(D38:AA38,1)>=655,Var!$B$4," ")) -> --- | AL38: =IF(AB38=0,Var!$B$8,IF(LARGE(D38:AA38,1)>=665,Var!$B$4," ")) -> --- | AM38: =IF(AB38=0,Var!$B$8,IF(LARGE(D38:AA38,1)>=675,Var!$B$4," ")) -> --- | AN38: =IF(AB38=0,Var!$B$8,IF(LARGE(D38:AA38,1)>=685,Var!$B$4," ")) -> --- | AO38: =IF(AB38=0,Var!$B$8,IF(LARGE(D38:AA38,1)>=695,Var!$B$4," ")) -> ---
C39: Senior 2 Homme Compound | AB39: =COUNT(D39:AA39) -> 0 | AC39: =IF(AB39<3," ",(LARGE(C39:AA39,1)+LARGE(C39:AA39,2)+LARGE(C39:AA39,3))/3)
C40: BOULANGER Emmanuel | AB40: =COUNT(D40:AA40) -> 0 | AC40: =IF(AB40<3," ",(LARGE(C40:AA40,1)+LARGE(C40:AA40,2)+LARGE(C40:AA40,3))/3) | AD40: =IF(COUNTIF(D40:AA40,"(1)")=0," ",COUNTIF(D40:AA40,"(1)")) | AE40: =IF(COUNTIF(D40:AA40,"(2)")=0," ",COUNTIF(D40:AA40,"(2)")) | AF40: =IF(COUNTIF(D40:AA40,"(3)")=0," ",COUNTIF(D40:AA40,"(3)")) | AG40: =IF(SUM(AD40:AF40)=0," ",SUM(AD40:AF40)) | AH40: 24 | AI40: 24 | AJ40: 24 | AK40: 24 | AL40: 24 | AM40: 24 | AN40: =IF(AB40=0,Var!$B$8,IF(LARGE(D40:AA40,1)>=685,Var!$B$4," ")) -> --- | AO40: =IF(AB40=0,Var!$B$8,IF(LARGE(D40:AA40,1)>=695,Var!$B$4," ")) -> ---
B41: 1 | C41: DEMANGE Damien | AB41: =COUNT(D41:AA41) -> 0 | AC41: =IF(AB41<3," ",(LARGE(C41:AA41,1)+LARGE(C41:AA41,2)+LARGE(C41:AA41,3))/3) | AD41: =IF(COUNTIF(D41:AA41,"(1)")=0," ",COUNTIF(D41:AA41,"(1)")) | AE41: =IF(COUNTIF(D41:AA41,"(2)")=0," ",COUNTIF(D41:AA41,"(2)")) | AF41: =IF(COUNTIF(D41:AA41,"(3)")=0," ",COUNTIF(D41:AA41,"(3)")) | AG41: =IF(SUM(AD41:AF41)=0," ",SUM(AD41:AF41)) | AH41: 24 | AI41: 24 | AJ41: 26 | AK41: 26 | AL41: 26 | AM41: =IF(AB41=0,Var!$B$8,IF(LARGE(D41:AA41,1)>=675,Var!$B$4," ")) -> --- | AN41: =IF(AB41=0,Var!$B$8,IF(LARGE(D41:AA41,1)>=685,Var!$B$4," ")) -> --- | AO41: =IF(AB41=0,Var!$B$8,IF(LARGE(D41:AA41,1)>=695,Var!$B$4," ")) -> ---
C42: SALAUN Hervé | AB42: =COUNT(D42:AA42) -> 0 | AC42: =IF(AB42<3," ",(LARGE(C42:AA42,1)+LARGE(C42:AA42,2)+LARGE(C42:AA42,3))/3) | AD42: =IF(COUNTIF(D42:AA42,"(1)")=0," ",COUNTIF(D42:AA42,"(1)")) | AE42: =IF(COUNTIF(D42:AA42,"(2)")=0," ",COUNTIF(D42:AA42,"(2)")) | AF42: =IF(COUNTIF(D42:AA42,"(3)")=0," ",COUNTIF(D42:AA42,"(3)")) | AG42: =IF(SUM(AD42:AF42)=0," ",SUM(AD42:AF42)) | AH42: 21 | AI42: 21 | AJ42: 21 | AK42: =IF(AB42=0,Var!$B$8,IF(LARGE(D42:AA42,1)>=655,Var!$B$4," ")) -> --- | AL42: =IF(AB42=0,Var!$B$8,IF(LARGE(D42:AA42,1)>=665,Var!$B$4," ")) -> --- | AM42: =IF(AB42=0,Var!$B$8,IF(LARGE(D42:AA42,1)>=675,Var!$B$4," ")) -> --- | AN42: =IF(AB42=0,Var!$B$8,IF(LARGE(D42:AA42,1)>=685,Var!$B$4," ")) -> --- | AO42: =IF(AB42=0,Var!$B$8,IF(LARGE(D42:AA42,1)>=695,Var!$B$4," ")) -> ---
C43: Senior 3 Femme Compound | AB43: =COUNT(D43:AA43) -> 0 | AC43: =IF(AB43<3," ",(LARGE(C43:AA43,1)+LARGE(C43:AA43,2)+LARGE(C43:AA43,3))/3)
B44: 1 | C44: HOUWER Françoise | AB44: =COUNT(D44:AA44) -> 0 | AC44: =IF(AB44<3," ",(LARGE(C44:AA44,1)+LARGE(C44:AA44,2)+LARGE(C44:AA44,3))/3) | AD44: =IF(COUNTIF(D44:AA44,"(1)")=0," ",COUNTIF(D44:AA44,"(1)")) | AE44: =IF(COUNTIF(D44:AA44,"(2)")=0," ",COUNTIF(D44:AA44,"(2)")) | AF44: =IF(COUNTIF(D44:AA44,"(3)")=0," ",COUNTIF(D44:AA44,"(3)")) | AG44: =IF(SUM(AD44:AF44)=0," ",SUM(AD44:AF44)) | AH44: =IF(AB44=0,Var!$B$8,IF(LARGE(D44:AA44,1)>=620,Var!$B$4," ")) -> --- | AI44: =IF(AB44=0,Var!$B$8,IF(LARGE(D44:AA44,1)>=635,Var!$B$4," ")) -> --- | AJ44: =IF(AB44=0,Var!$B$8,IF(LARGE(D44:AA44,1)>=645,Var!$B$4," ")) -> --- | AK44: =IF(AB44=0,Var!$B$8,IF(LARGE(D44:AA44,1)>=655,Var!$B$4," ")) -> --- | AL44: =IF(AB44=0,Var!$B$8,IF(LARGE(D44:AA44,1)>=665,Var!$B$4," ")) -> --- | AM44: =IF(AB44=0,Var!$B$8,IF(LARGE(D44:AA44,1)>=675,Var!$B$4," ")) -> --- | AN44: =IF(AB44=0,Var!$B$8,IF(LARGE(D44:AA44,1)>=685,Var!$B$4," ")) -> --- | AO44: =IF(AB44=0,Var!$B$8,IF(LARGE(D44:AA44,1)>=695,Var!$B$4," ")) -> ---
C45: Senior 3 Homme Compound | AB45: =COUNT(D45:AA45) -> 0 | AC45: =IF(AB45<3," ",(LARGE(C45:AA45,1)+LARGE(C45:AA45,2)+LARGE(C45:AA45,3))/3)
...

Sheet 3D
AY4: Nb | AZ4: Moy | BA4: Podiums | BE4: Écussons FFTA
AZ5: /3 | BA5: Or | BB5: Ag | BC5: Br | BD5: Tt
C7: Benjamin Homme Arc Nu | BE7: 150 | BF7: 175 | BG7: 210
AY8: =COUNT(D8:AW8) -> 0 | AZ8: =IF(AY8<3," ",(LARGE(D8:AW8,1)+LARGE(D8:AW8,2)+LARGE(D8:AW8,3))/3) | BA8: =IF(COUNTIF(D8:AW8,"(1)")=0," ",COUNTIF(D8:AW8,"(1)")) | BB8: =IF(COUNTIF(D8:AW8,"(2)")=0," ",COUNTIF(D8:AW8,"(2)")) | BC8: =IF(COUNTIF(D8:AW8,"(3)")=0," ",COUNTIF(D8:AW8,"(3)")) | BD8: =IF(SUM(BA8:BC8)=0," ",SUM(BA8:BC8)) | BE8: =IF(AY8=0,Var!$B$8,IF(LARGE(D8:AW8,1)>=150,Var!$B$4," ")) -> --- | BF8: =IF(AY8=0,Var!$B$8,IF(LARGE(D8:AW8,1)>=175,Var!$B$4," ")) -> --- | BG8: =IF(AY8=0,Var!$B$8,IF(LARGE(D8:AW8,1)>=210,Var!$B$4," ")) -> ---
C9: Minime Femme Arc Nu
AY10: =COUNT(D10:AW10) -> 0 | AZ10: =IF(AY10<3," ",(LARGE(D10:AW10,1)+LARGE(D10:AW10,2)+LARGE(D10:AW10,3))/3) | BA10: =IF(COUNTIF(D10:AW10,"(1)")=0," ",COUNTIF(D10:AW10,"(1)")) | BB10: =IF(COUNTIF(D10:AW10,"(2)")=0," ",COUNTIF(D10:AW10,"(2)")) | BC10: =IF(COUNTIF(D10:AW10,"(3)")=0," ",COUNTIF(D10:AW10,"(3)")) | BD10: =IF(SUM(BA10:BC10)=0," ",SUM(BA10:BC10)) | BE10: =IF(AY10=0,Var!$B$8,IF(LARGE(D10:AW10,1)>=165,Var!$B$4," ")) -> --- | BF10: =IF(AY10=0,Var!$B$8,IF(LARGE(D10:AW10,1)>=275,Var!$B$4," ")) -> --- | BG10: =IF(AY10=0,Var!$B$8,IF(LARGE(D10:AW10,1)>=390,Var!$B$4," ")) -> ---
C11: Minime Homme Arc Nu
AY12: =COUNT(D12:AW12) -> 0 | AZ12: =IF(AY12<3," ",(LARGE(D12:AW12,1)+LARGE(D12:AW12,2)+LARGE(D12:AW12,3))/3) | BA12: =IF(COUNTIF(D12:AW12,"(1)")=0," ",COUNTIF(D12:AW12,"(1)")) | BB12: =IF(COUNTIF(D12:AW12,"(2)")=0," ",COUNTIF(D12:AW12,"(2)")) | BC12: =IF(COUNTIF(D12:AW12,"(3)")=0," ",COUNTIF(D12:AW12,"(3)")) | BD12: =IF(SUM(BA12:BC12)=0," ",SUM(BA12:BC12)) | BE12: =IF(AY12=0,Var!$B$8,IF(LARGE(D12:AW12,1)>=165,Var!$B$4," ")) -> --- | BF12: =IF(AY12=0,Var!$B$8,IF(LARGE(D12:AW12,1)>=275,Var!$B$4," ")) -> --- | BG12: =IF(AY12=0,Var!$B$8,IF(LARGE(D12:AW12,1)>=390,Var!$B$4," ")) -> ---
AY13: =COUNT(D13:AW13) -> 0 | AZ13: =IF(AY13<3," ",(LARGE(D13:AW13,1)+LARGE(D13:AW13,2)+LARGE(D13:AW13,3))/3) | BA13: =IF(COUNTIF(D13:AW13,"(1)")=0," ",COUNTIF(D13:AW13,"(1)")) | BB13: =IF(COUNTIF(D13:AW13,"(2)")=0," ",COUNTIF(D13:AW13,"(2)")) | BC13: =IF(COUNTIF(D13:AW13,"(3)")=0," ",COUNTIF(D13:AW13,"(3)")) | BD13: =IF(SUM(BA13:BC13)=0," ",SUM(BA13:BC13)) | BE13: =IF(AY13=0,Var!$B$8,IF(LARGE(D13:AW13,1)>=165,Var!$B$4," ")) -> --- | BF13: =IF(AY13=0,Var!$B$8,IF(LARGE(D13:AW13,1)>=275,Var!$B$4," ")) -> --- | BG13: =IF(AY13=0,Var!$B$8,IF(LARGE(D13:AW13,1)>=390,Var!$B$4," ")) -> ---
C14: U 18 Homme Arc Nu
AY15: =COUNT(D15:AW15) -> 0 | AZ15: =IF(AY15<3," ",(LARGE(D15:AW15,1)+LARGE(D15:AW15,2)+LARGE(D15:AW15,3))/3) | BA15: =IF(COUNTIF(D15:AW15,"(1)")=0," ",COUNTIF(D15:AW15,"(1)")) | BB15: =IF(COUNTIF(D15:AW15,"(2)")=0," ",COUNTIF(D15:AW15,"(2)")) | BC15: =IF(COUNTIF(D15:AW15,"(3)")=0," ",COUNTIF(D15:AW15,"(3)")) | BD15: =IF(SUM(BA15:BC15)=0," ",SUM(BA15:BC15)) | BE15: =IF(AY15=0,Var!$B$8,IF(LARGE(D15:AW15,1)>=165,Var!$B$4," ")) -> --- | BF15: =IF(AY15=0,Var!$B$8,IF(LARGE(D15:AW15,1)>=275,Var!$B$4," ")) -> --- | BG15: =IF(AY15=0,Var!$B$8,IF(LARGE(D15:AW15,1)>=390,Var!$B$4," ")) -> ---
C16: U 18 Femme Arc Nu
AY17: =COUNT(D17:AW17) -> 0 | AZ17: =IF(AY17<3," ",(LARGE(D17:AW17,1)+LARGE(D17:AW17,2)+LARGE(D17:AW17,3))/3) | BA17: =IF(COUNTIF(D17:AW17,"(1)")=0," ",COUNTIF(D17:AW17,"(1)")) | BB17: =IF(COUNTIF(D17:AW17,"(2)")=0," ",COUNTIF(D17:AW17,"(2)")) | BC17: =IF(COUNTIF(D17:AW17,"(3)")=0," ",COUNTIF(D17:AW17,"(3)")) | BD17: =IF(SUM(BA17:BC17)=0," ",SUM(BA17:BC17)) | BE17: =IF(AY17=0,Var!$B$8,IF(LARGE(D17:AW17,1)>=85,Var!$B$4," ")) -> --- | BF17: =IF(AY17=0,Var!$B$8,IF(LARGE(D17:AW17,1)>=140,Var!$B$4," ")) -> --- | BG17: =IF(AY17=0,Var!$B$8,IF(LARGE(D17:AW17,1)>=195,Var!$B$4," ")) -> ---
C18: Senior 1 Homme Arc Chasse | AY18: =COUNT(D18:AW18) -> 0 | AZ18: =IF(AY18<3," ",(LARGE(D18:AW18,1)+LARGE(D18:AW18,2)+LARGE(D18:AW18,3))/3) | BE18: 85 | BF18: 140 | BG18: 195 | BH18: 260 | BI18: 300 | BJ18: 360
C19: DEMANGE Damien | AY19: =COUNT(D19:AW19) -> 0 | AZ19: =IF(AY19<3," ",(LARGE(D19:AW19,1)+LARGE(D19:AW19,2)+LARGE(D19:AW19,3))/3) | BA19: =IF(COUNTIF(D19:AW19,"(1)")=0," ",COUNTIF(D19:AW19,"(1)")) | BB19: =IF(COUNTIF(D19:AW19,"(2)")=0," ",COUNTIF(D19:AW19,"(2)")) | BC19: =IF(COUNTIF(D19:AW19,"(3)")=0," ",COUNTIF(D19:AW19,"(3)")) | BD19: =IF(SUM(BA19:BC19)=0," ",SUM(BA19:BC19)) | BE19: 23 | BF19: 24 | BG19: =IF(AY19=0,Var!$B$8,IF(LARGE(D19:AW19,1)>=195,Var!$B$4," ")) -> --- | BH19: =IF(AY19=0,Var!$B$8,IF(LARGE(D19:AW19,1)>=260,Var!$B$4," ")) -> --- | BI19: =IF(AY19=0,Var!$B$8,IF(LARGE(D19:AW19,1)>=300,Var!$B$4," ")) -> --- | BJ19: =IF(AY19=0,Var!$B$8,IF(LARGE(D19:AW19,1)>=360,Var!$B$4," ")) -> ---
C20: STRYJEK Julien | AY20: =COUNT(D20:AW20) -> 0 | AZ20: =IF(AY20<3," ",(LARGE(D20:AW20,1)+LARGE(D20:AW20,2)+LARGE(D20:AW20,3))/3) | BA20: =IF(COUNTIF(D20:AW20,"(1)")=0," ",COUNTIF(D20:AW20,"(1)")) | BB20: =IF(COUNTIF(D20:AW20,"(2)")=0," ",COUNTIF(D20:AW20,"(2)")) | BC20: =IF(COUNTIF(D20:AW20,"(3)")=0," ",COUNTIF(D20:AW20,"(3)")) | BD20: =IF(SUM(BA20:BC20)=0," ",SUM(BA20:BC20)) | BE20: 15 | BF20: 15 | BG20: 19 | BH20: =IF(AY20=0,Var!$B$8,IF(LARGE(D20:AW20,1)>=260,Var!$B$4," ")) -> --- | BI20: =IF(AY20=0,Var!$B$8,IF(LARGE(D20:AW20,1)>=300,Var!$B$4," ")) -> --- | BJ20: =IF(AY20=0,Var!$B$8,IF(LARGE(D20:AW20,1)>=360,Var!$B$4," ")) -> ---
B21: 1
C22: Senior 2 Homme Arc Chasse
C23: DIDRICHE Frédéric | AY23: =COUNT(D23:AW23) -> 0 | AZ23: =IF(AY23<3," ",(LARGE(D23:AW23,1)+LARGE(D23:AW23,2)+LARGE(D23:AW23,3))/3) | BA23: =IF(COUNTIF(D23:AW23,"(1)")=0," ",COUNTIF(D23:AW23,"(1)")) | BB23: =IF(COUNTIF(D23:AW23,"(2)")=0," ",COUNTIF(D23:AW23,"(2)")) | BC23: =IF(COUNTIF(D23:AW23,"(3)")=0," ",COUNTIF(D23:AW23,"(3)")) | BD23: =IF(SUM(BA23:BC23)=0," ",SUM(BA23:BC23)) | BE23: 16 | BF23: 16 | BG23: 16 | BH23: 16 | BI23: 16 | BJ23: 19
B24: 1 | C24: VALENTIN Grégory | AY24: =COUNT(D24:AW24) -> 0 | AZ24: =IF(AY24<3," ",(LARGE(D24:AW24,1)+LARGE(D24:AW24,2)+LARGE(D24:AW24,3))/3) | BA24: =IF(COUNTIF(D24:AW24,"(1)")=0," ",COUNTIF(D24:AW24,"(1)")) | BB24: =IF(COUNTIF(D24:AW24,"(2)")=0," ",COUNTIF(D24:AW24,"(2)")) | BC24: =IF(COUNTIF(D24:AW24,"(3)")=0," ",COUNTIF(D24:AW24,"(3)")) | BD24: =IF(SUM(BA24:BC24)=0," ",SUM(BA24:BC24)) | BE24: 1 | BF24: 1 | BG24: 1 | BH24: 3 | BI24: 9 | BJ24: 18
C25: Senior 3 Homme Arc Chasse
C26: SALAUN Hervé | AY26: =COUNT(D26:AW26) -> 0 | AZ26: =IF(AY26<3," ",(LARGE(D26:AW26,1)+LARGE(D26:AW26,2)+LARGE(D26:AW26,3))/3) | BA26: =IF(COUNTIF(D26:AW26,"(1)")=0," ",COUNTIF(D26:AW26,"(1)")) | BB26: =IF(COUNTIF(D26:AW26,"(2)")=0," ",COUNTIF(D26:AW26,"(2)")) | BC26: =IF(COUNTIF(D26:AW26,"(3)")=0," ",COUNTIF(D26:AW26,"(3)")) | BD26: =IF(SUM(BA26:BC26)=0," ",SUM(BA26:BC26)) | BE26: 24 | BF26: 24 | BG26: 24 | BH26: 24 | BI26: 24 | BJ26: =IF(AY26=0,Var!$B$8,IF(LARGE(D26:AW26,1)>=360,Var!$B$4," ")) -> ---
B27: 1 | C27: NOGENT Eric | AY27: =COUNT(D27:AW27) -> 0 | BA27: =IF(COUNTIF(D27:AW27,"(1)")=0," ",COUNTIF(D27:AW27,"(1)")) | BB27: =IF(COUNTIF(D27:AW27,"(2)")=0," ",COUNTIF(D27:AW27,"(2)")) | BC27: =IF(COUNTIF(D27:AW27,"(3)")=0," ",COUNTIF(D27:AW27,"(3)")) | BD27: =IF(SUM(BA27:BC27)=0," ",SUM(BA27:BC27)) | BE27: 26 | BF27: =IF(AY27=0,Var!$B$8,IF(LARGE(D27:AW27,1)>=140,Var!$B$4," ")) -> --- | BG27: =IF(AY27=0,Var!$B$8,IF(LARGE(D27:AW27,1)>=195,Var!$B$4," ")) -> --- | BH27: =IF(AY27=0,Var!$B$8,IF(LARGE(D27:AW27,1)>=260,Var!$B$4," ")) -> --- | BI27: =IF(AY27=0,Var!$B$8,IF(LARGE(D27:AW27,1)>=300,Var!$B$4," ")) -> --- | BJ27: =IF(AY27=0,Var!$B$8,IF(LARGE(D27:AW27,1)>=360,Var!$B$4," ")) -> ---
C28: PHULPIN Pascal | AY28: =COUNT(D28:AW28) -> 0 | AZ28: =IF(AY28<3," ",(LARGE(D28:AW28,1)+LARGE(D28:AW28,2)+LARGE(D28:AW28,3))/3) | BA28: =IF(COUNTIF(D28:AW28,"(1)")=0," ",COUNTIF(D28:AW28,"(1)")) | BB28: =IF(COUNTIF(D28:AW28,"(2)")=0," ",COUNTIF(D28:AW28,"(2)")) | BC28: =IF(COUNTIF(D28:AW28,"(3)")=0," ",COUNTIF(D28:AW28,"(3)")) | BD28: =IF(SUM(BA28:BC28)=0," ",SUM(BA28:BC28)) | BE28: =IF(AY28=0,Var!$B$8,IF(LARGE(D28:AW28,1)>=85,Var!$B$4," ")) -> --- | BF28: =IF(AY28=0,Var!$B$8,IF(LARGE(D28:AW28,1)>=140,Var!$B$4," ")) -> --- | BG28: =IF(AY28=0,Var!$B$8,IF(LARGE(D28:AW28,1)>=195,Var!$B$4," ")) -> --- | BH28: =IF(AY28=0,Var!$B$8,IF(LARGE(D28:AW28,1)>=260,Var!$B$4," ")) -> --- | BI28: =IF(AY28=0,Var!$B$8,IF(LARGE(D28:AW28,1)>=300,Var!$B$4," ")) -> --- | BJ28: =IF(AY28=0,Var!$B$8,IF(LARGE(D28:AW28,1)>=360,Var!$B$4," ")) -> ---
C29: Senior1 Homme Arc Droit | BE29: 70 | BF29: 125 | BG29: 185 | BH29: 235 | BI29: 270 | BJ29: 335
C30: BALLAN Jean | AY30: =COUNT(D30:AW30) -> 0 | AZ30: =IF(AY30<3," ",(LARGE(D30:AW30,1)+LARGE(D30:AW30,2)+LARGE(D30:AW30,3))/3) | BA30: =IF(COUNTIF(D30:AW30,"(1)")=0," ",COUNTIF(D30:AW30,"(1)")) | BB30: =IF(COUNTIF(D30:AW30,"(2)")=0," ",COUNTIF(D30:AW30,"(2)")) | BC30: =IF(COUNTIF(D30:AW30,"(3)")=0," ",COUNTIF(D30:AW30,"(3)")) | BD30: =IF(SUM(BA30:BC30)=0," ",SUM(BA30:BC30)) | BE30: 17 | BF30: 17 | BG30: =IF(AY30=0,Var!$B$8,IF(LARGE(D30:AW30,1)>=185,Var!$B$4," ")) -> --- | BH30: =IF(AY30=0,Var!$B$8,IF(LARGE(D30:AW30,1)>=235,Var!$B$4," ")) -> --- | BI30: =IF(AY30=0,Var!$B$8,IF(LARGE(D30:AW30,1)>=270,Var!$B$4," ")) -> --- | BJ30: =IF(AY30=0,Var!$B$8,IF(LARGE(D30:AW30,1)>=335,Var!$B$4," ")) -> ---
C31: Senior2 Homme Arc Droit | BE31: 70 | BF31: 125 | BG31: 185 | BH31: 235 | BI31: 270 | BJ31: 335
C32: DIDRICHE Frédéric | AY32: =COUNT(D32:AW32) -> 0 | AZ32: =IF(AY32<3," ",(LARGE(D32:AW32,1)+LARGE(D32:AW32,2)+LARGE(D32:AW32,3))/3) | BA32: =IF(COUNTIF(D32:AW32,"(1)")=0," ",COUNTIF(D32:AW32,"(1)")) | BB32: =IF(COUNTIF(D32:AW32,"(2)")=0," ",COUNTIF(D32:AW32,"(2)")) | BC32: =IF(COUNTIF(D32:AW32,"(3)")=0," ",COUNTIF(D32:AW32,"(3)")) | BD32: =IF(SUM(BA32:BC32)=0," ",SUM(BA32:BC32)) | BE32: 16 | BF32: 16 | BG32: 16 | BH32: 16 | BI32: 16 | BJ32: =IF(AY32=0,Var!$B$8,IF(LARGE(D32:AW32,1)>=335,Var!$B$4," ")) -> ---
